BEGIN:VCALENDAR
VERSION:2.0
PRODID:-//Elks Lodge 823 - ECPv5.16.0//NONSGML v1.0//EN
CALSCALE:GREGORIAN
METHOD:PUBLISH
X-WR-CALNAME:Elks Lodge 823
X-ORIGINAL-URL:http://elks823.org
X-WR-CALDESC:Events for Elks Lodge 823
BEGIN:VTIMEZONE
TZID:America/Los_Angeles
BEGIN:DAYLIGHT
TZOFFSETFROM:-0800
TZOFFSETTO:-0700
TZNAME:PDT
DTSTART:20210314T100000
END:DAYLIGHT
BEGIN:STANDARD
TZOFFSETFROM:-0700
TZOFFSETTO:-0800
TZNAME:PST
DTSTART:20211107T090000
END:STANDARD
END:VTIMEZONE
BEGIN:VEVENT
DTSTART;TZID=America/Los_Angeles:20210929T180000
DTEND;TZID=America/Los_Angeles:20210929T200000
DTSTAMP:20260420T044142
CREATED:20210915T225726Z
LAST-MODIFIED:20220126T232643Z
UID:8080-1632938400-1632945600@elks823.org
SUMMARY:Bar Card Bingo 6-8PM
DESCRIPTION:Bar Card Bingo every Wednesday. All are welcome! \nBar Bingo is played with playing cards. It is $1.00 for 3 cards. An app randomly picks cards\, if you “match”\, you flip over that card. When all three cards are flipped\, you have a Bingo!\nLots of members are there to help you play! Come on down\, but be careful…..you might have too much fun! \nElk Cove Menu is also available in Lounge.
URL:http://elks823.org/event/bar-bingo-2021-09-29/2021-09-29/
CATEGORIES:Community,Food,Games
ATTACH;FMTTYPE=image/jpeg:http://elks823.org/wp-content/uploads/2021/09/BarBingo.jpg
END:VEVENT
END:VCALENDAR