BEGIN:VCALENDAR
VERSION:2.0
PRODID:-//Elks Lodge 823 - ECPv6.15.20//NONSGML v1.0//EN
CALSCALE:GREGORIAN
METHOD:PUBLISH
X-ORIGINAL-URL:http://elks823.org
X-WR-CALDESC:Events for Elks Lodge 823
REFRESH-INTERVAL;VALUE=DURATION:PT1H
X-Robots-Tag:noindex
X-PUBLISHED-TTL:PT1H
BEGIN:VTIMEZONE
TZID:America/Los_Angeles
BEGIN:DAYLIGHT
TZOFFSETFROM:-0800
TZOFFSETTO:-0700
TZNAME:PDT
DTSTART:20200308T100000
END:DAYLIGHT
BEGIN:STANDARD
TZOFFSETFROM:-0700
TZOFFSETTO:-0800
TZNAME:PST
DTSTART:20201101T090000
END:STANDARD
BEGIN:DAYLIGHT
TZOFFSETFROM:-0800
TZOFFSETTO:-0700
TZNAME:PDT
DTSTART:20210314T100000
END:DAYLIGHT
BEGIN:STANDARD
TZOFFSETFROM:-0700
TZOFFSETTO:-0800
TZNAME:PST
DTSTART:20211107T090000
END:STANDARD
BEGIN:DAYLIGHT
TZOFFSETFROM:-0800
TZOFFSETTO:-0700
TZNAME:PDT
DTSTART:20220313T100000
END:DAYLIGHT
BEGIN:STANDARD
TZOFFSETFROM:-0700
TZOFFSETTO:-0800
TZNAME:PST
DTSTART:20221106T090000
END:STANDARD
END:VTIMEZONE
BEGIN:VEVENT
DTSTART;TZID=America/Los_Angeles:20211001T180000
DTEND;TZID=America/Los_Angeles:20211001T200000
DTSTAMP:20260424T064523
CREATED:20210930T223516Z
LAST-MODIFIED:20211025T212006Z
UID:8169-1633111200-1633118400@elks823.org
SUMMARY:Queen of Hearts
DESCRIPTION:Queen of Hearts is back! Will be held every Friday night. \n\n\n\n\nTicket sales will begin on Friday at 6 PM until 8 PM.\nThe drawing will be at 8:00 PM.\nFriday’s Pot = TBD \n*Eligible Players: Open to Elk members\, spouses\, widows\, and visiting Elks as well as Emblem Club members and spouses. A valid Elks/Emblem Club ID must be presented to purchase tickets.\n**Must be present to win.
URL:http://elks823.org/event/queen-of-hearts-8/2021-10-01/
ATTACH;FMTTYPE=image/png:http://elks823.org/wp-content/uploads/2019/09/QueenHearts.png
END:VEVENT
END:VCALENDAR