BEGIN:VCALENDAR
VERSION:2.0
PRODID:-//Elks Lodge 823 - ECPv6.15.20//NONSGML v1.0//EN
CALSCALE:GREGORIAN
METHOD:PUBLISH
X-ORIGINAL-URL:https://elks823.org
X-WR-CALDESC:Events for Elks Lodge 823
REFRESH-INTERVAL;VALUE=DURATION:PT1H
X-Robots-Tag:noindex
X-PUBLISHED-TTL:PT1H
BEGIN:VTIMEZONE
TZID:America/Los_Angeles
BEGIN:DAYLIGHT
TZOFFSETFROM:-0800
TZOFFSETTO:-0700
TZNAME:PDT
DTSTART:20240310T100000
END:DAYLIGHT
BEGIN:STANDARD
TZOFFSETFROM:-0700
TZOFFSETTO:-0800
TZNAME:PST
DTSTART:20241103T090000
END:STANDARD
BEGIN:DAYLIGHT
TZOFFSETFROM:-0800
TZOFFSETTO:-0700
TZNAME:PDT
DTSTART:20250309T100000
END:DAYLIGHT
BEGIN:STANDARD
TZOFFSETFROM:-0700
TZOFFSETTO:-0800
TZNAME:PST
DTSTART:20251102T090000
END:STANDARD
BEGIN:DAYLIGHT
TZOFFSETFROM:-0800
TZOFFSETTO:-0700
TZNAME:PDT
DTSTART:20260308T100000
END:DAYLIGHT
BEGIN:STANDARD
TZOFFSETFROM:-0700
TZOFFSETTO:-0800
TZNAME:PST
DTSTART:20261101T090000
END:STANDARD
BEGIN:DAYLIGHT
TZOFFSETFROM:-0800
TZOFFSETTO:-0700
TZNAME:PDT
DTSTART:20270314T100000
END:DAYLIGHT
BEGIN:STANDARD
TZOFFSETFROM:-0700
TZOFFSETTO:-0800
TZNAME:PST
DTSTART:20271107T090000
END:STANDARD
END:VTIMEZONE
BEGIN:VEVENT
DTSTART;TZID=America/Los_Angeles:20260310T173000
DTEND;TZID=America/Los_Angeles:20260310T183000
DTSTAMP:20260425T212957
CREATED:20240326T193927Z
LAST-MODIFIED:20240326T193927Z
UID:18161-1773163800-1773167400@elks823.org
SUMMARY:Activities Meeting 5:30 PM
DESCRIPTION:Our Activities Meeting will be on the 2nd Tuesday of the Month at 5:30 PM\, before the Lodge Meeting. \nThis meeting is to coordinate activities for all the Committees and Officer functions.\nAll Lodge Officers/Trustees and Committee Chairs should plan on attending. All Committee Members can also attend\, or anyone wanting to be on a committee can attend. \n*In the Stag Bar\, unless there’s an event in there\, then the Dining Room.
URL:https://elks823.org/event/activities-meeting-6pm-2025-04-15/2026-03-10/
CATEGORIES:Community,Food,fundraiser,Volunteer
ATTACH;FMTTYPE=image/png:https://elks823.org/wp-content/uploads/2025/03/ACTIVITIES-Meeting.png
END:VEVENT
BEGIN:VEVENT
DTSTART;TZID=America/Los_Angeles:20260210T173000
DTEND;TZID=America/Los_Angeles:20260210T183000
DTSTAMP:20260425T212957
CREATED:20240326T193927Z
LAST-MODIFIED:20260216T220603Z
UID:17939-1770744600-1770748200@elks823.org
SUMMARY:Activities Meeting 5:30 PM
DESCRIPTION:Our Activities Meeting will be on the 2nd Tuesday of the Month at 5:30 PM\, before the Lodge Meeting. \nThis meeting is to coordinate activities for all the Committees and Officer functions.\nAll Lodge Officers/Trustees and Committee Chairs should plan on attending. All Committee Members can also attend\, or anyone wanting to be on a committee can attend. \n*In the Stag Bar\, unless there’s an event in there\, then the Dining Room.
URL:https://elks823.org/event/activities-meeting-6pm-2025-04-15/2026-02-10/
CATEGORIES:Community,Food,fundraiser,Volunteer
ATTACH;FMTTYPE=image/png:https://elks823.org/wp-content/uploads/2025/03/ACTIVITIES-Meeting.png
END:VEVENT
BEGIN:VEVENT
DTSTART;TZID=America/Los_Angeles:20260113T173000
DTEND;TZID=America/Los_Angeles:20260113T183000
DTSTAMP:20260425T212957
CREATED:20240326T193927Z
LAST-MODIFIED:20260216T220553Z
UID:17726-1768325400-1768329000@elks823.org
SUMMARY:Activities Meeting 5:30 PM
DESCRIPTION:Our Activities Meeting will be on the 2nd Tuesday of the Month at 5:30 PM\, before the Lodge Meeting. \nThis meeting is to coordinate activities for all the Committees and Officer functions.\nAll Lodge Officers/Trustees and Committee Chairs should plan on attending. All Committee Members can also attend\, or anyone wanting to be on a committee can attend. \n*In the Stag Bar\, unless there’s an event in there\, then the Dining Room.
URL:https://elks823.org/event/activities-meeting-6pm-2025-04-15/2026-01-13/
CATEGORIES:Community,Food,fundraiser,Volunteer
ATTACH;FMTTYPE=image/png:https://elks823.org/wp-content/uploads/2025/03/ACTIVITIES-Meeting.png
END:VEVENT
BEGIN:VEVENT
DTSTART;TZID=America/Los_Angeles:20251209T173000
DTEND;TZID=America/Los_Angeles:20251209T183000
DTSTAMP:20260425T212957
CREATED:20240326T193927Z
LAST-MODIFIED:20260216T220553Z
UID:17725-1765301400-1765305000@elks823.org
SUMMARY:Activities Meeting 5:30 PM
DESCRIPTION:Our Activities Meeting will be on the 2nd Tuesday of the Month at 5:30 PM\, before the Lodge Meeting. \nThis meeting is to coordinate activities for all the Committees and Officer functions.\nAll Lodge Officers/Trustees and Committee Chairs should plan on attending. All Committee Members can also attend\, or anyone wanting to be on a committee can attend. \n*In the Stag Bar\, unless there’s an event in there\, then the Dining Room.
URL:https://elks823.org/event/activities-meeting-6pm-2025-04-15/2025-12-09/
CATEGORIES:Community,Food,fundraiser,Volunteer
ATTACH;FMTTYPE=image/png:https://elks823.org/wp-content/uploads/2025/03/ACTIVITIES-Meeting.png
END:VEVENT
BEGIN:VEVENT
DTSTART;TZID=America/Los_Angeles:20251111T173000
DTEND;TZID=America/Los_Angeles:20251111T183000
DTSTAMP:20260425T212957
CREATED:20240326T193927Z
LAST-MODIFIED:20260216T220552Z
UID:17402-1762882200-1762885800@elks823.org
SUMMARY:Activities Meeting 5:30 PM
DESCRIPTION:Our Activities Meeting will be on the 2nd Tuesday of the Month at 5:30 PM\, before the Lodge Meeting. \nThis meeting is to coordinate activities for all the Committees and Officer functions.\nAll Lodge Officers/Trustees and Committee Chairs should plan on attending. All Committee Members can also attend\, or anyone wanting to be on a committee can attend. \n*In the Stag Bar\, unless there’s an event in there\, then the Dining Room.
URL:https://elks823.org/event/activities-meeting-6pm-2025-04-15/2025-11-11/
CATEGORIES:Community,Food,fundraiser,Volunteer
ATTACH;FMTTYPE=image/png:https://elks823.org/wp-content/uploads/2025/03/ACTIVITIES-Meeting.png
END:VEVENT
BEGIN:VEVENT
DTSTART;TZID=America/Los_Angeles:20251014T173000
DTEND;TZID=America/Los_Angeles:20251014T183000
DTSTAMP:20260425T212957
CREATED:20240326T193927Z
LAST-MODIFIED:20260216T220552Z
UID:17401-1760463000-1760466600@elks823.org
SUMMARY:Activities Meeting 5:30 PM
DESCRIPTION:Our Activities Meeting will be on the 2nd Tuesday of the Month at 5:30 PM\, before the Lodge Meeting. \nThis meeting is to coordinate activities for all the Committees and Officer functions.\nAll Lodge Officers/Trustees and Committee Chairs should plan on attending. All Committee Members can also attend\, or anyone wanting to be on a committee can attend. \n*In the Stag Bar\, unless there’s an event in there\, then the Dining Room.
URL:https://elks823.org/event/activities-meeting-6pm-2025-04-15/2025-10-14/
CATEGORIES:Community,Food,fundraiser,Volunteer
ATTACH;FMTTYPE=image/png:https://elks823.org/wp-content/uploads/2025/03/ACTIVITIES-Meeting.png
END:VEVENT
BEGIN:VEVENT
DTSTART;TZID=America/Los_Angeles:20250909T173000
DTEND;TZID=America/Los_Angeles:20250909T183000
DTSTAMP:20260425T212957
CREATED:20240326T193927Z
LAST-MODIFIED:20260216T220551Z
UID:17034-1757439000-1757442600@elks823.org
SUMMARY:Activities Meeting 5:30 PM
DESCRIPTION:Our Activities Meeting will be on the 2nd Tuesday of the Month at 5:30 PM\, before the Lodge Meeting. \nThis meeting is to coordinate activities for all the Committees and Officer functions.\nAll Lodge Officers/Trustees and Committee Chairs should plan on attending. All Committee Members can also attend\, or anyone wanting to be on a committee can attend. \n*In the Stag Bar\, unless there’s an event in there\, then the Dining Room.
URL:https://elks823.org/event/activities-meeting-6pm-2025-04-15/2025-09-09/
CATEGORIES:Community,Food,fundraiser,Volunteer
ATTACH;FMTTYPE=image/png:https://elks823.org/wp-content/uploads/2025/03/ACTIVITIES-Meeting.png
END:VEVENT
BEGIN:VEVENT
DTSTART;TZID=America/Los_Angeles:20250812T173000
DTEND;TZID=America/Los_Angeles:20250812T183000
DTSTAMP:20260425T212957
CREATED:20240326T193927Z
LAST-MODIFIED:20260216T220551Z
UID:16868-1755019800-1755023400@elks823.org
SUMMARY:Activities Meeting 5:30 PM
DESCRIPTION:Our Activities Meeting will be on the 2nd Tuesday of the Month at 5:30 PM\, before the Lodge Meeting. \nThis meeting is to coordinate activities for all the Committees and Officer functions.\nAll Lodge Officers/Trustees and Committee Chairs should plan on attending. All Committee Members can also attend\, or anyone wanting to be on a committee can attend. \n*In the Stag Bar\, unless there’s an event in there\, then the Dining Room.
URL:https://elks823.org/event/activities-meeting-6pm-2025-04-15/2025-08-12/
CATEGORIES:Community,Food,fundraiser,Volunteer
ATTACH;FMTTYPE=image/png:https://elks823.org/wp-content/uploads/2025/03/ACTIVITIES-Meeting.png
END:VEVENT
BEGIN:VEVENT
DTSTART;TZID=America/Los_Angeles:20250708T173000
DTEND;TZID=America/Los_Angeles:20250708T183000
DTSTAMP:20260425T212957
CREATED:20240326T193927Z
LAST-MODIFIED:20260216T220550Z
UID:16600-1751995800-1751999400@elks823.org
SUMMARY:Activities Meeting 5:30 PM
DESCRIPTION:Our Activities Meeting will be on the 2nd Tuesday of the Month at 5:30 PM\, before the Lodge Meeting. \nThis meeting is to coordinate activities for all the Committees and Officer functions.\nAll Lodge Officers/Trustees and Committee Chairs should plan on attending. All Committee Members can also attend\, or anyone wanting to be on a committee can attend. \n*In the Stag Bar\, unless there’s an event in there\, then the Dining Room.
URL:https://elks823.org/event/activities-meeting-6pm-2025-04-15/2025-07-08/
CATEGORIES:Community,Food,fundraiser,Volunteer
ATTACH;FMTTYPE=image/png:https://elks823.org/wp-content/uploads/2025/03/ACTIVITIES-Meeting.png
END:VEVENT
BEGIN:VEVENT
DTSTART;TZID=America/Los_Angeles:20250610T173000
DTEND;TZID=America/Los_Angeles:20250610T183000
DTSTAMP:20260425T212957
CREATED:20240326T193927Z
LAST-MODIFIED:20260216T220550Z
UID:16599-1749576600-1749580200@elks823.org
SUMMARY:Activities Meeting 5:30 PM
DESCRIPTION:Our Activities Meeting will be on the 2nd Tuesday of the Month at 5:30 PM\, before the Lodge Meeting. \nThis meeting is to coordinate activities for all the Committees and Officer functions.\nAll Lodge Officers/Trustees and Committee Chairs should plan on attending. All Committee Members can also attend\, or anyone wanting to be on a committee can attend. \n*In the Stag Bar\, unless there’s an event in there\, then the Dining Room.
URL:https://elks823.org/event/activities-meeting-6pm-2025-04-15/2025-06-10/
CATEGORIES:Community,Food,fundraiser,Volunteer
ATTACH;FMTTYPE=image/png:https://elks823.org/wp-content/uploads/2025/03/ACTIVITIES-Meeting.png
END:VEVENT
BEGIN:VEVENT
DTSTART;TZID=America/Los_Angeles:20250513T173000
DTEND;TZID=America/Los_Angeles:20250513T183000
DTSTAMP:20260425T212957
CREATED:20240326T193927Z
LAST-MODIFIED:20260216T220549Z
UID:16348-1747157400-1747161000@elks823.org
SUMMARY:Activities Meeting 5:30 PM
DESCRIPTION:Our Activities Meeting will be on the 2nd Tuesday of the Month at 5:30 PM\, before the Lodge Meeting. \nThis meeting is to coordinate activities for all the Committees and Officer functions.\nAll Lodge Officers/Trustees and Committee Chairs should plan on attending. All Committee Members can also attend\, or anyone wanting to be on a committee can attend. \n*In the Stag Bar\, unless there’s an event in there\, then the Dining Room.
URL:https://elks823.org/event/activities-meeting-6pm-2025-04-15/2025-05-13/
CATEGORIES:Community,Food,fundraiser,Volunteer
ATTACH;FMTTYPE=image/png:https://elks823.org/wp-content/uploads/2025/03/ACTIVITIES-Meeting.png
END:VEVENT
BEGIN:VEVENT
DTSTART;TZID=America/Los_Angeles:20250408T173000
DTEND;TZID=America/Los_Angeles:20250408T183000
DTSTAMP:20260425T212957
CREATED:20240326T193927Z
LAST-MODIFIED:20260216T220548Z
UID:16173-1744133400-1744137000@elks823.org
SUMMARY:Activities Meeting 5:30 PM
DESCRIPTION:Our Activities Meeting will be on the 2nd Tuesday of the Month at 5:30 PM\, before the Lodge Meeting. \nThis meeting is to coordinate activities for all the Committees and Officer functions.\nAll Lodge Officers/Trustees and Committee Chairs should plan on attending. All Committee Members can also attend\, or anyone wanting to be on a committee can attend. \n*In the Stag Bar\, unless there’s an event in there\, then the Dining Room.
URL:https://elks823.org/event/activities-meeting-6pm-2025-04-15/2025-04-08/
CATEGORIES:Community,Food,fundraiser,Volunteer
ATTACH;FMTTYPE=image/png:https://elks823.org/wp-content/uploads/2025/03/ACTIVITIES-Meeting.png
END:VEVENT
END:VCALENDAR