BEGIN:VCALENDAR
VERSION:2.0
PRODID:-//Elks Lodge 823 - ECPv6.15.20//NONSGML v1.0//EN
CALSCALE:GREGORIAN
METHOD:PUBLISH
X-WR-CALNAME:Elks Lodge 823
X-ORIGINAL-URL:https://elks823.org
X-WR-CALDESC:Events for Elks Lodge 823
REFRESH-INTERVAL;VALUE=DURATION:PT1H
X-Robots-Tag:noindex
X-PUBLISHED-TTL:PT1H
BEGIN:VTIMEZONE
TZID:America/Los_Angeles
BEGIN:DAYLIGHT
TZOFFSETFROM:-0800
TZOFFSETTO:-0700
TZNAME:PDT
DTSTART:20240310T100000
END:DAYLIGHT
BEGIN:STANDARD
TZOFFSETFROM:-0700
TZOFFSETTO:-0800
TZNAME:PST
DTSTART:20241103T090000
END:STANDARD
BEGIN:DAYLIGHT
TZOFFSETFROM:-0800
TZOFFSETTO:-0700
TZNAME:PDT
DTSTART:20250309T100000
END:DAYLIGHT
BEGIN:STANDARD
TZOFFSETFROM:-0700
TZOFFSETTO:-0800
TZNAME:PST
DTSTART:20251102T090000
END:STANDARD
BEGIN:DAYLIGHT
TZOFFSETFROM:-0800
TZOFFSETTO:-0700
TZNAME:PDT
DTSTART:20260308T100000
END:DAYLIGHT
BEGIN:STANDARD
TZOFFSETFROM:-0700
TZOFFSETTO:-0800
TZNAME:PST
DTSTART:20261101T090000
END:STANDARD
END:VTIMEZONE
BEGIN:VEVENT
DTSTART;TZID=America/Los_Angeles:20251122T170000
DTEND;TZID=America/Los_Angeles:20251122T200000
DTSTAMP:20260423T222710
CREATED:20251111T184829Z
LAST-MODIFIED:20251125T214434Z
UID:17631-1763830800-1763841600@elks823.org
SUMMARY:Autumn Rock Painting Party 5PM
DESCRIPTION: Autumn Rock Painting Party! \n\nFriday\, November 22 • 5–8 PMIn the Stag Bar\n\n\nCome hang out with fellow Elks and get creative painting rocks with fun fall themes!No experience needed — we’ll have supplies ready\, bring your imagination and a smile. \n\n It’s a Potluck! Bring a dish to share while you paint and mingle. Donations accepted for Children’s Therapy.\n\nLet’s relax\, create\, and celebrate the cozy season together.
URL:https://elks823.org/event/autumn-rock-painting-party-5pm/2025-11-22/
CATEGORIES:Charity,Class,Community,Food,fundraiser
ATTACH;FMTTYPE=image/png:https://elks823.org/wp-content/uploads/2025/11/autumn-ROCK.png
END:VEVENT
END:VCALENDAR