BEGIN:VCALENDAR
VERSION:2.0
PRODID:-//Elks Lodge 823 - ECPv6.15.20//NONSGML v1.0//EN
CALSCALE:GREGORIAN
METHOD:PUBLISH
X-WR-CALNAME:Elks Lodge 823
X-ORIGINAL-URL:https://elks823.org
X-WR-CALDESC:Events for Elks Lodge 823
REFRESH-INTERVAL;VALUE=DURATION:PT1H
X-Robots-Tag:noindex
X-PUBLISHED-TTL:PT1H
BEGIN:VTIMEZONE
TZID:America/Los_Angeles
BEGIN:DAYLIGHT
TZOFFSETFROM:-0800
TZOFFSETTO:-0700
TZNAME:PDT
DTSTART:20240310T100000
END:DAYLIGHT
BEGIN:STANDARD
TZOFFSETFROM:-0700
TZOFFSETTO:-0800
TZNAME:PST
DTSTART:20241103T090000
END:STANDARD
BEGIN:DAYLIGHT
TZOFFSETFROM:-0800
TZOFFSETTO:-0700
TZNAME:PDT
DTSTART:20250309T100000
END:DAYLIGHT
BEGIN:STANDARD
TZOFFSETFROM:-0700
TZOFFSETTO:-0800
TZNAME:PST
DTSTART:20251102T090000
END:STANDARD
BEGIN:DAYLIGHT
TZOFFSETFROM:-0800
TZOFFSETTO:-0700
TZNAME:PDT
DTSTART:20260308T100000
END:DAYLIGHT
BEGIN:STANDARD
TZOFFSETFROM:-0700
TZOFFSETTO:-0800
TZNAME:PST
DTSTART:20261101T090000
END:STANDARD
BEGIN:DAYLIGHT
TZOFFSETFROM:-0800
TZOFFSETTO:-0700
TZNAME:PDT
DTSTART:20270314T100000
END:DAYLIGHT
BEGIN:STANDARD
TZOFFSETFROM:-0700
TZOFFSETTO:-0800
TZNAME:PST
DTSTART:20271107T090000
END:STANDARD
END:VTIMEZONE
BEGIN:VEVENT
DTSTART;TZID=America/Los_Angeles:20260129T180000
DTEND;TZID=America/Los_Angeles:20260129T210000
DTSTAMP:20260423T153806
CREATED:20250304T220001Z
LAST-MODIFIED:20260102T190602Z
UID:17706-1769709600-1769720400@elks823.org
SUMMARY:BINGO 6:30PM
DESCRIPTION:REAL BINGO is now every other week! NEW START TIME 6:30 PM\nPacket sales begin at 6 PM\, Game starts at 6:30 PM!\n\n\n\n*This event is open to Elks members and their guests! The lounge opens at 4 PM\, and Bingo starts at 6 PM.\n\nCheck the Blast or Facebook for food available in the week.
URL:https://elks823.org/event/bingo-630pm-2-2025-06-05-2025-10-02-2025-11-13/2026-01-29/
CATEGORIES:Community,Food,fundraiser,Games
ATTACH;FMTTYPE=image/png:https://elks823.org/wp-content/uploads/2025/09/BINGO.png
END:VEVENT
BEGIN:VEVENT
DTSTART;TZID=America/Los_Angeles:20260115T180000
DTEND;TZID=America/Los_Angeles:20260115T210000
DTSTAMP:20260423T153806
CREATED:20250304T220001Z
LAST-MODIFIED:20260102T190601Z
UID:17705-1768500000-1768510800@elks823.org
SUMMARY:BINGO 6:30PM
DESCRIPTION:REAL BINGO is now every other week! NEW START TIME 6:30 PM\nPacket sales begin at 6 PM\, Game starts at 6:30 PM!\n\n\n\n*This event is open to Elks members and their guests! The lounge opens at 4 PM\, and Bingo starts at 6 PM.\n\nCheck the Blast or Facebook for food available in the week.
URL:https://elks823.org/event/bingo-630pm-2-2025-06-05-2025-10-02-2025-11-13/2026-01-15/
CATEGORIES:Community,Food,fundraiser,Games
ATTACH;FMTTYPE=image/png:https://elks823.org/wp-content/uploads/2025/09/BINGO.png
END:VEVENT
BEGIN:VEVENT
DTSTART;TZID=America/Los_Angeles:20251204T180000
DTEND;TZID=America/Los_Angeles:20251204T210000
DTSTAMP:20260423T153806
CREATED:20250304T220001Z
LAST-MODIFIED:20260102T190601Z
UID:17704-1764871200-1764882000@elks823.org
SUMMARY:BINGO 6:30PM
DESCRIPTION:REAL BINGO is now every other week! NEW START TIME 6:30 PM\nPacket sales begin at 6 PM\, Game starts at 6:30 PM!\n\n\n\n*This event is open to Elks members and their guests! The lounge opens at 4 PM\, and Bingo starts at 6 PM.\n\nCheck the Blast or Facebook for food available in the week.
URL:https://elks823.org/event/bingo-630pm-2-2025-06-05-2025-10-02-2025-11-13/2025-12-04/
CATEGORIES:Community,Food,fundraiser,Games
ATTACH;FMTTYPE=image/png:https://elks823.org/wp-content/uploads/2025/09/BINGO.png
END:VEVENT
BEGIN:VEVENT
DTSTART;TZID=America/Los_Angeles:20251120T180000
DTEND;TZID=America/Los_Angeles:20251120T210000
DTSTAMP:20260423T153806
CREATED:20250304T220001Z
LAST-MODIFIED:20260102T190600Z
UID:17454-1763661600-1763672400@elks823.org
SUMMARY:BINGO 6:30PM
DESCRIPTION:REAL BINGO is now every other week! NEW START TIME 6:30 PM\nPacket sales begin at 6 PM\, Game starts at 6:30 PM!\n\n\n\n*This event is open to Elks members and their guests! The lounge opens at 4 PM\, and Bingo starts at 6 PM.\n\nCheck the Blast or Facebook for food available in the week.
URL:https://elks823.org/event/bingo-630pm-2-2025-06-05-2025-10-02-2025-11-13/2025-11-20/
CATEGORIES:Community,Food,fundraiser,Games
ATTACH;FMTTYPE=image/png:https://elks823.org/wp-content/uploads/2025/09/BINGO.png
END:VEVENT
BEGIN:VEVENT
DTSTART;TZID=America/Los_Angeles:20251106T180000
DTEND;TZID=America/Los_Angeles:20251106T210000
DTSTAMP:20260423T153806
CREATED:20250304T220001Z
LAST-MODIFIED:20260102T190559Z
UID:17268-1762452000-1762462800@elks823.org
SUMMARY:BINGO 6:30PM
DESCRIPTION:REAL BINGO is now every other week! NEW START TIME 6:30 PM\nPacket sales begin at 6 PM\, Game starts at 6:30 PM!\n\n\n\n*This event is open to Elks members and their guests! The lounge opens at 4 PM\, and Bingo starts at 6 PM.\n\nCheck the Blast or Facebook for food available in the week.
URL:https://elks823.org/event/bingo-630pm-2-2025-06-05-2025-10-02-2025-11-13/2025-11-06/
CATEGORIES:Community,Food,fundraiser,Games
ATTACH;FMTTYPE=image/png:https://elks823.org/wp-content/uploads/2025/09/BINGO.png
END:VEVENT
END:VCALENDAR