BEGIN:VCALENDAR
VERSION:2.0
PRODID:-//Elks Lodge 823 - ECPv6.15.20//NONSGML v1.0//EN
CALSCALE:GREGORIAN
METHOD:PUBLISH
X-WR-CALNAME:Elks Lodge 823
X-ORIGINAL-URL:https://elks823.org
X-WR-CALDESC:Events for Elks Lodge 823
REFRESH-INTERVAL;VALUE=DURATION:PT1H
X-Robots-Tag:noindex
X-PUBLISHED-TTL:PT1H
BEGIN:VTIMEZONE
TZID:America/Los_Angeles
BEGIN:DAYLIGHT
TZOFFSETFROM:-0800
TZOFFSETTO:-0700
TZNAME:PDT
DTSTART:20240310T100000
END:DAYLIGHT
BEGIN:STANDARD
TZOFFSETFROM:-0700
TZOFFSETTO:-0800
TZNAME:PST
DTSTART:20241103T090000
END:STANDARD
BEGIN:DAYLIGHT
TZOFFSETFROM:-0800
TZOFFSETTO:-0700
TZNAME:PDT
DTSTART:20250309T100000
END:DAYLIGHT
BEGIN:STANDARD
TZOFFSETFROM:-0700
TZOFFSETTO:-0800
TZNAME:PST
DTSTART:20251102T090000
END:STANDARD
BEGIN:DAYLIGHT
TZOFFSETFROM:-0800
TZOFFSETTO:-0700
TZNAME:PDT
DTSTART:20260308T100000
END:DAYLIGHT
BEGIN:STANDARD
TZOFFSETFROM:-0700
TZOFFSETTO:-0800
TZNAME:PST
DTSTART:20261101T090000
END:STANDARD
END:VTIMEZONE
BEGIN:VEVENT
DTSTART;TZID=America/Los_Angeles:20250828T180000
DTEND;TZID=America/Los_Angeles:20250828T210000
DTSTAMP:20260425T054758
CREATED:20250304T220001Z
LAST-MODIFIED:20250925T191959Z
UID:17155-1756404000-1756414800@elks823.org
SUMMARY:BINGO 6:30PM
DESCRIPTION:REAL BINGO is now every other week! NEW START TIME 6:30 PM\nPacket sales begin at 6 PM\, Game starts at 6:30 PM!\n\n\n\n*This event is open to Elks members and their guests! The lounge opens at 4 PM\, Bingo starts at 6 PM.\n\nCheck the Blast or Facebook for food available in the week.
URL:https://elks823.org/event/bingo-630pm-2-2025-06-05/2025-08-28/
CATEGORIES:Community,Food,fundraiser,Games
ATTACH;FMTTYPE=image/png:https://elks823.org/wp-content/uploads/2025/09/BINGO.png
END:VEVENT
BEGIN:VEVENT
DTSTART;TZID=America/Los_Angeles:20250814T180000
DTEND;TZID=America/Los_Angeles:20250814T210000
DTSTAMP:20260425T054758
CREATED:20250304T220001Z
LAST-MODIFIED:20250925T191959Z
UID:16777-1755194400-1755205200@elks823.org
SUMMARY:BINGO 6:30PM
DESCRIPTION:REAL BINGO is now every other week! NEW START TIME 6:30 PM\nPacket sales begin at 6 PM\, Game starts at 6:30 PM!\n\n\n\n*This event is open to Elks members and their guests! The lounge opens at 4 PM\, Bingo starts at 6 PM.\n\nCheck the Blast or Facebook for food available in the week.
URL:https://elks823.org/event/bingo-630pm-2-2025-06-05/2025-08-14/
CATEGORIES:Community,Food,fundraiser,Games
ATTACH;FMTTYPE=image/png:https://elks823.org/wp-content/uploads/2025/09/BINGO.png
END:VEVENT
BEGIN:VEVENT
DTSTART;TZID=America/Los_Angeles:20250731T180000
DTEND;TZID=America/Los_Angeles:20250731T210000
DTSTAMP:20260425T054758
CREATED:20250304T220001Z
LAST-MODIFIED:20250925T191959Z
UID:16731-1753984800-1753995600@elks823.org
SUMMARY:BINGO 6:30PM
DESCRIPTION:REAL BINGO is now every other week! NEW START TIME 6:30 PM\nPacket sales begin at 6 PM\, Game starts at 6:30 PM!\n\n\n\n*This event is open to Elks members and their guests! The lounge opens at 4 PM\, Bingo starts at 6 PM.\n\nCheck the Blast or Facebook for food available in the week.
URL:https://elks823.org/event/bingo-630pm-2-2025-06-05/2025-07-31/
CATEGORIES:Community,Food,fundraiser,Games
ATTACH;FMTTYPE=image/png:https://elks823.org/wp-content/uploads/2025/09/BINGO.png
END:VEVENT
BEGIN:VEVENT
DTSTART;TZID=America/Los_Angeles:20250717T180000
DTEND;TZID=America/Los_Angeles:20250717T210000
DTSTAMP:20260425T054758
CREATED:20250304T220001Z
LAST-MODIFIED:20250925T191958Z
UID:16730-1752775200-1752786000@elks823.org
SUMMARY:BINGO 6:30PM
DESCRIPTION:REAL BINGO is now every other week! NEW START TIME 6:30 PM\nPacket sales begin at 6 PM\, Game starts at 6:30 PM!\n\n\n\n*This event is open to Elks members and their guests! The lounge opens at 4 PM\, Bingo starts at 6 PM.\n\nCheck the Blast or Facebook for food available in the week.
URL:https://elks823.org/event/bingo-630pm-2-2025-06-05/2025-07-17/
CATEGORIES:Community,Food,fundraiser,Games
ATTACH;FMTTYPE=image/png:https://elks823.org/wp-content/uploads/2025/09/BINGO.png
END:VEVENT
BEGIN:VEVENT
DTSTART;TZID=America/Los_Angeles:20250703T180000
DTEND;TZID=America/Los_Angeles:20250703T210000
DTSTAMP:20260425T054758
CREATED:20250304T220001Z
LAST-MODIFIED:20250925T191958Z
UID:16729-1751565600-1751576400@elks823.org
SUMMARY:BINGO 6:30PM
DESCRIPTION:REAL BINGO is now every other week! NEW START TIME 6:30 PM\nPacket sales begin at 6 PM\, Game starts at 6:30 PM!\n\n\n\n*This event is open to Elks members and their guests! The lounge opens at 4 PM\, Bingo starts at 6 PM.\n\nCheck the Blast or Facebook for food available in the week.
URL:https://elks823.org/event/bingo-630pm-2-2025-06-05/2025-07-03/
CATEGORIES:Community,Food,fundraiser,Games
ATTACH;FMTTYPE=image/png:https://elks823.org/wp-content/uploads/2025/09/BINGO.png
END:VEVENT
BEGIN:VEVENT
DTSTART;TZID=America/Los_Angeles:20250619T180000
DTEND;TZID=America/Los_Angeles:20250619T210000
DTSTAMP:20260425T054758
CREATED:20250304T220001Z
LAST-MODIFIED:20250925T191958Z
UID:16728-1750356000-1750366800@elks823.org
SUMMARY:BINGO 6:30PM
DESCRIPTION:REAL BINGO is now every other week! NEW START TIME 6:30 PM\nPacket sales begin at 6 PM\, Game starts at 6:30 PM!\n\n\n\n*This event is open to Elks members and their guests! The lounge opens at 4 PM\, Bingo starts at 6 PM.\n\nCheck the Blast or Facebook for food available in the week.
URL:https://elks823.org/event/bingo-630pm-2-2025-06-05/2025-06-19/
CATEGORIES:Community,Food,fundraiser,Games
ATTACH;FMTTYPE=image/png:https://elks823.org/wp-content/uploads/2025/09/BINGO.png
END:VEVENT
BEGIN:VEVENT
DTSTART;TZID=America/Los_Angeles:20250605T180000
DTEND;TZID=America/Los_Angeles:20250605T210000
DTSTAMP:20260425T054758
CREATED:20250304T220001Z
LAST-MODIFIED:20250925T191957Z
UID:16535-1749146400-1749157200@elks823.org
SUMMARY:BINGO 6:30PM
DESCRIPTION:REAL BINGO is now every other week! NEW START TIME 6:30 PM\nPacket sales begin at 6 PM\, Game starts at 6:30 PM!\n\n\n\n*This event is open to Elks members and their guests! The lounge opens at 4 PM\, Bingo starts at 6 PM.\n\nCheck the Blast or Facebook for food available in the week.
URL:https://elks823.org/event/bingo-630pm-2-2025-06-05/2025-06-05/
CATEGORIES:Community,Food,fundraiser,Games
ATTACH;FMTTYPE=image/png:https://elks823.org/wp-content/uploads/2025/09/BINGO.png
END:VEVENT
END:VCALENDAR