BEGIN:VCALENDAR
VERSION:2.0
PRODID:-//Elks Lodge 823 - ECPv6.15.20//NONSGML v1.0//EN
CALSCALE:GREGORIAN
METHOD:PUBLISH
X-WR-CALNAME:Elks Lodge 823
X-ORIGINAL-URL:https://elks823.org
X-WR-CALDESC:Events for Elks Lodge 823
REFRESH-INTERVAL;VALUE=DURATION:PT1H
X-Robots-Tag:noindex
X-PUBLISHED-TTL:PT1H
BEGIN:VTIMEZONE
TZID:America/Los_Angeles
BEGIN:DAYLIGHT
TZOFFSETFROM:-0800
TZOFFSETTO:-0700
TZNAME:PDT
DTSTART:20210314T100000
END:DAYLIGHT
BEGIN:STANDARD
TZOFFSETFROM:-0700
TZOFFSETTO:-0800
TZNAME:PST
DTSTART:20211107T090000
END:STANDARD
BEGIN:DAYLIGHT
TZOFFSETFROM:-0800
TZOFFSETTO:-0700
TZNAME:PDT
DTSTART:20220313T100000
END:DAYLIGHT
BEGIN:STANDARD
TZOFFSETFROM:-0700
TZOFFSETTO:-0800
TZNAME:PST
DTSTART:20221106T090000
END:STANDARD
BEGIN:DAYLIGHT
TZOFFSETFROM:-0800
TZOFFSETTO:-0700
TZNAME:PDT
DTSTART:20230312T100000
END:DAYLIGHT
BEGIN:STANDARD
TZOFFSETFROM:-0700
TZOFFSETTO:-0800
TZNAME:PST
DTSTART:20231105T090000
END:STANDARD
BEGIN:DAYLIGHT
TZOFFSETFROM:-0800
TZOFFSETTO:-0700
TZNAME:PDT
DTSTART:20240310T100000
END:DAYLIGHT
BEGIN:STANDARD
TZOFFSETFROM:-0700
TZOFFSETTO:-0800
TZNAME:PST
DTSTART:20241103T090000
END:STANDARD
BEGIN:DAYLIGHT
TZOFFSETFROM:-0800
TZOFFSETTO:-0700
TZNAME:PDT
DTSTART:20250309T100000
END:DAYLIGHT
BEGIN:STANDARD
TZOFFSETFROM:-0700
TZOFFSETTO:-0800
TZNAME:PST
DTSTART:20251102T090000
END:STANDARD
BEGIN:DAYLIGHT
TZOFFSETFROM:-0800
TZOFFSETTO:-0700
TZNAME:PDT
DTSTART:20260308T100000
END:DAYLIGHT
BEGIN:STANDARD
TZOFFSETFROM:-0700
TZOFFSETTO:-0800
TZNAME:PST
DTSTART:20261101T090000
END:STANDARD
END:VTIMEZONE
BEGIN:VEVENT
DTSTART;TZID=America/Los_Angeles:20250311T190000
DTEND;TZID=America/Los_Angeles:20250311T210000
DTSTAMP:20260425T091919
CREATED:20220816T201709Z
LAST-MODIFIED:20220816T201709Z
UID:15883-1741719600-1741726800@elks823.org
SUMMARY:Lodge Meeting 7PM
DESCRIPTION:The lounge opens at 4 PM\, closed during meetings\, then re-opens after the meeting until 9 PM. \nFood: Taco Tuesday! Come down for some tacos\, quesadillas\, taquitos\, chips\, and salsa.
URL:https://elks823.org/event/lodge-meeting-7pm-5/2025-03-11/
CATEGORIES:Lodge meeting
ATTACH;FMTTYPE=image/png:https://elks823.org/wp-content/uploads/2022/08/Lounge-Screens-april-may-12.png
END:VEVENT
BEGIN:VEVENT
DTSTART;TZID=America/Los_Angeles:20250114T190000
DTEND;TZID=America/Los_Angeles:20250114T210000
DTSTAMP:20260425T091919
CREATED:20220816T201709Z
LAST-MODIFIED:20250127T230610Z
UID:15632-1736881200-1736888400@elks823.org
SUMMARY:Lodge Meeting 7PM
DESCRIPTION:The lounge opens at 4 PM\, closed during meetings\, then re-opens after the meeting until 9 PM. \nFood: Taco Tuesday! Come down for some tacos\, quesadillas\, taquitos\, chips\, and salsa.
URL:https://elks823.org/event/lodge-meeting-7pm-5/2025-01-14/
CATEGORIES:Lodge meeting
ATTACH;FMTTYPE=image/png:https://elks823.org/wp-content/uploads/2022/08/Lounge-Screens-april-may-12.png
END:VEVENT
BEGIN:VEVENT
DTSTART;TZID=America/Los_Angeles:20241210T190000
DTEND;TZID=America/Los_Angeles:20241210T210000
DTSTAMP:20260425T091919
CREATED:20220816T201709Z
LAST-MODIFIED:20250127T230609Z
UID:15631-1733857200-1733864400@elks823.org
SUMMARY:Lodge Meeting 7PM
DESCRIPTION:The lounge opens at 4 PM\, closed during meetings\, then re-opens after the meeting until 9 PM. \nFood: Taco Tuesday! Come down for some tacos\, quesadillas\, taquitos\, chips\, and salsa.
URL:https://elks823.org/event/lodge-meeting-7pm-5/2024-12-10/
CATEGORIES:Lodge meeting
ATTACH;FMTTYPE=image/png:https://elks823.org/wp-content/uploads/2022/08/Lounge-Screens-april-may-12.png
END:VEVENT
BEGIN:VEVENT
DTSTART;TZID=America/Los_Angeles:20241112T190000
DTEND;TZID=America/Los_Angeles:20241112T210000
DTSTAMP:20260425T091919
CREATED:20220816T201709Z
LAST-MODIFIED:20250127T230609Z
UID:15250-1731438000-1731445200@elks823.org
SUMMARY:Lodge Meeting 7PM
DESCRIPTION:The lounge opens at 4 PM\, closed during meetings\, then re-opens after the meeting until 9 PM. \nFood: Taco Tuesday! Come down for some tacos\, quesadillas\, taquitos\, chips\, and salsa.
URL:https://elks823.org/event/lodge-meeting-7pm-5/2024-11-12/
CATEGORIES:Lodge meeting
ATTACH;FMTTYPE=image/png:https://elks823.org/wp-content/uploads/2022/08/Lounge-Screens-april-may-12.png
END:VEVENT
BEGIN:VEVENT
DTSTART;TZID=America/Los_Angeles:20241008T190000
DTEND;TZID=America/Los_Angeles:20241008T210000
DTSTAMP:20260425T091919
CREATED:20220816T201709Z
LAST-MODIFIED:20250127T230609Z
UID:15249-1728414000-1728421200@elks823.org
SUMMARY:Lodge Meeting 7PM
DESCRIPTION:The lounge opens at 4 PM\, closed during meetings\, then re-opens after the meeting until 9 PM. \nFood: Taco Tuesday! Come down for some tacos\, quesadillas\, taquitos\, chips\, and salsa.
URL:https://elks823.org/event/lodge-meeting-7pm-5/2024-10-08/
CATEGORIES:Lodge meeting
ATTACH;FMTTYPE=image/png:https://elks823.org/wp-content/uploads/2022/08/Lounge-Screens-april-may-12.png
END:VEVENT
BEGIN:VEVENT
DTSTART;TZID=America/Los_Angeles:20240910T190000
DTEND;TZID=America/Los_Angeles:20240910T210000
DTSTAMP:20260425T091919
CREATED:20220816T201709Z
LAST-MODIFIED:20250127T230609Z
UID:15090-1725994800-1726002000@elks823.org
SUMMARY:Lodge Meeting 7PM
DESCRIPTION:The lounge opens at 4 PM\, closed during meetings\, then re-opens after the meeting until 9 PM. \nFood: Taco Tuesday! Come down for some tacos\, quesadillas\, taquitos\, chips\, and salsa.
URL:https://elks823.org/event/lodge-meeting-7pm-5/2024-09-10/
CATEGORIES:Lodge meeting
ATTACH;FMTTYPE=image/png:https://elks823.org/wp-content/uploads/2022/08/Lounge-Screens-april-may-12.png
END:VEVENT
BEGIN:VEVENT
DTSTART;TZID=America/Los_Angeles:20240813T190000
DTEND;TZID=America/Los_Angeles:20240813T210000
DTSTAMP:20260425T091919
CREATED:20220816T201709Z
LAST-MODIFIED:20250127T230605Z
UID:14747-1723575600-1723582800@elks823.org
SUMMARY:Lodge Meeting 7PM
DESCRIPTION:The lounge opens at 4 PM\, closed during meetings\, then re-opens after the meeting until 9 PM. \nFood: Taco Tuesday! Come down for some tacos\, quesadillas\, taquitos\, chips\, and salsa.
URL:https://elks823.org/event/lodge-meeting-7pm-5/2024-08-13/
CATEGORIES:Lodge meeting
ATTACH;FMTTYPE=image/png:https://elks823.org/wp-content/uploads/2022/08/Lounge-Screens-april-may-12.png
END:VEVENT
BEGIN:VEVENT
DTSTART;TZID=America/Los_Angeles:20240709T190000
DTEND;TZID=America/Los_Angeles:20240709T210000
DTSTAMP:20260425T091919
CREATED:20220816T201709Z
LAST-MODIFIED:20250127T230605Z
UID:14646-1720551600-1720558800@elks823.org
SUMMARY:Lodge Meeting 7PM
DESCRIPTION:The lounge opens at 4 PM\, closed during meetings\, then re-opens after the meeting until 9 PM. \nFood: Taco Tuesday! Come down for some tacos\, quesadillas\, taquitos\, chips\, and salsa.
URL:https://elks823.org/event/lodge-meeting-7pm-5/2024-07-09/
CATEGORIES:Lodge meeting
ATTACH;FMTTYPE=image/png:https://elks823.org/wp-content/uploads/2022/08/Lounge-Screens-april-may-12.png
END:VEVENT
BEGIN:VEVENT
DTSTART;TZID=America/Los_Angeles:20240611T190000
DTEND;TZID=America/Los_Angeles:20240611T210000
DTSTAMP:20260425T091919
CREATED:20220816T201709Z
LAST-MODIFIED:20250127T230605Z
UID:14370-1718132400-1718139600@elks823.org
SUMMARY:Lodge Meeting 7PM
DESCRIPTION:The lounge opens at 4 PM\, closed during meetings\, then re-opens after the meeting until 9 PM. \nFood: Taco Tuesday! Come down for some tacos\, quesadillas\, taquitos\, chips\, and salsa.
URL:https://elks823.org/event/lodge-meeting-7pm-5/2024-06-11/
CATEGORIES:Lodge meeting
ATTACH;FMTTYPE=image/png:https://elks823.org/wp-content/uploads/2022/08/Lounge-Screens-april-may-12.png
END:VEVENT
BEGIN:VEVENT
DTSTART;TZID=America/Los_Angeles:20240514T190000
DTEND;TZID=America/Los_Angeles:20240514T210000
DTSTAMP:20260425T091919
CREATED:20220816T201709Z
LAST-MODIFIED:20250127T230605Z
UID:14124-1715713200-1715720400@elks823.org
SUMMARY:Lodge Meeting 7PM
DESCRIPTION:The lounge opens at 4 PM\, closed during meetings\, then re-opens after the meeting until 9 PM. \nFood: Taco Tuesday! Come down for some tacos\, quesadillas\, taquitos\, chips\, and salsa.
URL:https://elks823.org/event/lodge-meeting-7pm-5/2024-05-14/
CATEGORIES:Lodge meeting
ATTACH;FMTTYPE=image/png:https://elks823.org/wp-content/uploads/2022/08/Lounge-Screens-april-may-12.png
END:VEVENT
BEGIN:VEVENT
DTSTART;TZID=America/Los_Angeles:20220913T190000
DTEND;TZID=America/Los_Angeles:20220913T210000
DTSTAMP:20260425T091919
CREATED:20220816T201709Z
LAST-MODIFIED:20250127T230545Z
UID:10208-1663095600-1663102800@elks823.org
SUMMARY:Lodge Meeting 7PM
DESCRIPTION:The lounge opens at 4 PM\, closed during meetings\, then re-opens after the meeting until 9 PM. \nFood: Taco Tuesday! Come down for some tacos\, quesadillas\, taquitos\, chips\, and salsa.
URL:https://elks823.org/event/lodge-meeting-7pm-5/2022-09-13/
CATEGORIES:Lodge meeting
ATTACH;FMTTYPE=image/png:https://elks823.org/wp-content/uploads/2022/08/Lounge-Screens-april-may-12.png
END:VEVENT
END:VCALENDAR