BEGIN:VCALENDAR
VERSION:2.0
PRODID:-//Elks Lodge 823 - ECPv6.15.20//NONSGML v1.0//EN
CALSCALE:GREGORIAN
METHOD:PUBLISH
X-WR-CALNAME:Elks Lodge 823
X-ORIGINAL-URL:https://elks823.org
X-WR-CALDESC:Events for Elks Lodge 823
REFRESH-INTERVAL;VALUE=DURATION:PT1H
X-Robots-Tag:noindex
X-PUBLISHED-TTL:PT1H
BEGIN:VTIMEZONE
TZID:America/Los_Angeles
BEGIN:DAYLIGHT
TZOFFSETFROM:-0800
TZOFFSETTO:-0700
TZNAME:PDT
DTSTART:20220313T100000
END:DAYLIGHT
BEGIN:STANDARD
TZOFFSETFROM:-0700
TZOFFSETTO:-0800
TZNAME:PST
DTSTART:20221106T090000
END:STANDARD
BEGIN:DAYLIGHT
TZOFFSETFROM:-0800
TZOFFSETTO:-0700
TZNAME:PDT
DTSTART:20230312T100000
END:DAYLIGHT
BEGIN:STANDARD
TZOFFSETFROM:-0700
TZOFFSETTO:-0800
TZNAME:PST
DTSTART:20231105T090000
END:STANDARD
BEGIN:DAYLIGHT
TZOFFSETFROM:-0800
TZOFFSETTO:-0700
TZNAME:PDT
DTSTART:20240310T100000
END:DAYLIGHT
BEGIN:STANDARD
TZOFFSETFROM:-0700
TZOFFSETTO:-0800
TZNAME:PST
DTSTART:20241103T090000
END:STANDARD
BEGIN:DAYLIGHT
TZOFFSETFROM:-0800
TZOFFSETTO:-0700
TZNAME:PDT
DTSTART:20250309T100000
END:DAYLIGHT
BEGIN:STANDARD
TZOFFSETFROM:-0700
TZOFFSETTO:-0800
TZNAME:PST
DTSTART:20251102T090000
END:STANDARD
END:VTIMEZONE
BEGIN:VEVENT
DTSTART;VALUE=DATE:20240527
DTEND;VALUE=DATE:20240528
DTSTAMP:20260423T193540
CREATED:20230503T192145Z
LAST-MODIFIED:20260421T193539Z
UID:14188-1716768000-1716854399@elks823.org
SUMMARY:Memorial Day - Observed
DESCRIPTION:This is a day when we think back to those brave men and women who gave their lives to fight for our freedom.\nFly “Old Glory” today\, and if possible\, with your family fly it at half-staff until noon then proudly raise it to the top where it belongs. \nAt 3 PM\, have a moment of silence to honor all our fallen heroes.
URL:https://elks823.org/event/memorial-day-observed-2/2024-05-27/
CATEGORIES:Community
ATTACH;FMTTYPE=image/jpeg:https://elks823.org/wp-content/uploads/2019/04/memorialday.jpeg
END:VEVENT
BEGIN:VEVENT
DTSTART;VALUE=DATE:20230529
DTEND;VALUE=DATE:20230530
DTSTAMP:20260423T193540
CREATED:20230503T192145Z
LAST-MODIFIED:20260421T193539Z
UID:12158-1685318400-1685404799@elks823.org
SUMMARY:Memorial Day - Observed
DESCRIPTION:This is a day when we think back to those brave men and women who gave their lives to fight for our freedom.\nFly “Old Glory” today\, and if possible\, with your family fly it at half-staff until noon then proudly raise it to the top where it belongs. \nAt 3 PM\, have a moment of silence to honor all our fallen heroes.
URL:https://elks823.org/event/memorial-day-observed-2/2023-05-29/
CATEGORIES:Community
ATTACH;FMTTYPE=image/jpeg:https://elks823.org/wp-content/uploads/2019/04/memorialday.jpeg
END:VEVENT
END:VCALENDAR