BEGIN:VCALENDAR
VERSION:2.0
PRODID:-//Elks Lodge 823 - ECPv5.16.0//NONSGML v1.0//EN
CALSCALE:GREGORIAN
METHOD:PUBLISH
X-WR-CALNAME:Elks Lodge 823
X-ORIGINAL-URL:https://elks823.org
X-WR-CALDESC:Events for Elks Lodge 823
BEGIN:VTIMEZONE
TZID:America/Los_Angeles
BEGIN:DAYLIGHT
TZOFFSETFROM:-0800
TZOFFSETTO:-0700
TZNAME:PDT
DTSTART:20250309T100000
END:DAYLIGHT
BEGIN:STANDARD
TZOFFSETFROM:-0700
TZOFFSETTO:-0800
TZNAME:PST
DTSTART:20251102T090000
END:STANDARD
END:VTIMEZONE
BEGIN:VEVENT
DTSTART;TZID=America/Los_Angeles:20250701T183000
DTEND;TZID=America/Los_Angeles:20250701T193000
DTSTAMP:20260421T105039
CREATED:20250304T214549Z
LAST-MODIFIED:20260331T200709Z
UID:17409-1751394600-1751398200@elks823.org
SUMMARY:Officer Meeting 6:30PM
DESCRIPTION:Officer Meeting/Ritual Practice\n6:30 PM
URL:https://elks823.org/event/officer-meeting-6pm-2025-05-06/2025-07-01/
CATEGORIES:Community
ATTACH;FMTTYPE=image/jpeg:https://elks823.org/wp-content/uploads/2025/03/Officer-Meeting.jpg
END:VEVENT
END:VCALENDAR