BEGIN:VCALENDAR
VERSION:2.0
PRODID:-//Elks Lodge 823 - ECPv6.15.20//NONSGML v1.0//EN
CALSCALE:GREGORIAN
METHOD:PUBLISH
X-WR-CALNAME:Elks Lodge 823
X-ORIGINAL-URL:https://elks823.org
X-WR-CALDESC:Events for Elks Lodge 823
REFRESH-INTERVAL;VALUE=DURATION:PT1H
X-Robots-Tag:noindex
X-PUBLISHED-TTL:PT1H
BEGIN:VTIMEZONE
TZID:America/Los_Angeles
BEGIN:DAYLIGHT
TZOFFSETFROM:-0800
TZOFFSETTO:-0700
TZNAME:PDT
DTSTART:20230312T100000
END:DAYLIGHT
BEGIN:STANDARD
TZOFFSETFROM:-0700
TZOFFSETTO:-0800
TZNAME:PST
DTSTART:20231105T090000
END:STANDARD
BEGIN:DAYLIGHT
TZOFFSETFROM:-0800
TZOFFSETTO:-0700
TZNAME:PDT
DTSTART:20240310T100000
END:DAYLIGHT
BEGIN:STANDARD
TZOFFSETFROM:-0700
TZOFFSETTO:-0800
TZNAME:PST
DTSTART:20241103T090000
END:STANDARD
BEGIN:DAYLIGHT
TZOFFSETFROM:-0800
TZOFFSETTO:-0700
TZNAME:PDT
DTSTART:20250309T100000
END:DAYLIGHT
BEGIN:STANDARD
TZOFFSETFROM:-0700
TZOFFSETTO:-0800
TZNAME:PST
DTSTART:20251102T090000
END:STANDARD
END:VTIMEZONE
BEGIN:VEVENT
DTSTART;TZID=America/Los_Angeles:20241106T173000
DTEND;TZID=America/Los_Angeles:20241106T183000
DTSTAMP:20260425T180753
CREATED:20240220T191720Z
LAST-MODIFIED:20240220T191720Z
UID:15718-1730914200-1730917800@elks823.org
SUMMARY:PER Meeting 6PM
DESCRIPTION:Meet with your fellow PERs and talk about charities\, events coming up\, volunteer\, and all-around camaraderie.
URL:https://elks823.org/event/per-meeting-6pm/2024-11-06/
CATEGORIES:Charity,Community,Food,Volunteer
ATTACH;FMTTYPE=image/jpeg:https://elks823.org/wp-content/uploads/2020/09/PERA-Group-Photo.jpg
END:VEVENT
BEGIN:VEVENT
DTSTART;TZID=America/Los_Angeles:20241002T173000
DTEND;TZID=America/Los_Angeles:20241002T183000
DTSTAMP:20260425T180753
CREATED:20240220T191720Z
LAST-MODIFIED:20240220T191720Z
UID:15717-1727890200-1727893800@elks823.org
SUMMARY:PER Meeting 6PM
DESCRIPTION:Meet with your fellow PERs and talk about charities\, events coming up\, volunteer\, and all-around camaraderie.
URL:https://elks823.org/event/per-meeting-6pm/2024-10-02/
CATEGORIES:Charity,Community,Food,Volunteer
ATTACH;FMTTYPE=image/jpeg:https://elks823.org/wp-content/uploads/2020/09/PERA-Group-Photo.jpg
END:VEVENT
BEGIN:VEVENT
DTSTART;TZID=America/Los_Angeles:20240904T173000
DTEND;TZID=America/Los_Angeles:20240904T183000
DTSTAMP:20260425T180753
CREATED:20240220T191720Z
LAST-MODIFIED:20240220T191720Z
UID:15716-1725471000-1725474600@elks823.org
SUMMARY:PER Meeting 6PM
DESCRIPTION:Meet with your fellow PERs and talk about charities\, events coming up\, volunteer\, and all-around camaraderie.
URL:https://elks823.org/event/per-meeting-6pm/2024-09-04/
CATEGORIES:Charity,Community,Food,Volunteer
ATTACH;FMTTYPE=image/jpeg:https://elks823.org/wp-content/uploads/2020/09/PERA-Group-Photo.jpg
END:VEVENT
BEGIN:VEVENT
DTSTART;TZID=America/Los_Angeles:20240807T173000
DTEND;TZID=America/Los_Angeles:20240807T183000
DTSTAMP:20260425T180753
CREATED:20240220T191720Z
LAST-MODIFIED:20240220T191720Z
UID:15715-1723051800-1723055400@elks823.org
SUMMARY:PER Meeting 6PM
DESCRIPTION:Meet with your fellow PERs and talk about charities\, events coming up\, volunteer\, and all-around camaraderie.
URL:https://elks823.org/event/per-meeting-6pm/2024-08-07/
CATEGORIES:Charity,Community,Food,Volunteer
ATTACH;FMTTYPE=image/jpeg:https://elks823.org/wp-content/uploads/2020/09/PERA-Group-Photo.jpg
END:VEVENT
BEGIN:VEVENT
DTSTART;TZID=America/Los_Angeles:20240703T173000
DTEND;TZID=America/Los_Angeles:20240703T183000
DTSTAMP:20260425T180753
CREATED:20240220T191720Z
LAST-MODIFIED:20240220T191720Z
UID:15714-1720027800-1720031400@elks823.org
SUMMARY:PER Meeting 6PM
DESCRIPTION:Meet with your fellow PERs and talk about charities\, events coming up\, volunteer\, and all-around camaraderie.
URL:https://elks823.org/event/per-meeting-6pm/2024-07-03/
CATEGORIES:Charity,Community,Food,Volunteer
ATTACH;FMTTYPE=image/jpeg:https://elks823.org/wp-content/uploads/2020/09/PERA-Group-Photo.jpg
END:VEVENT
BEGIN:VEVENT
DTSTART;TZID=America/Los_Angeles:20240605T173000
DTEND;TZID=America/Los_Angeles:20240605T183000
DTSTAMP:20260425T180753
CREATED:20240220T191720Z
LAST-MODIFIED:20240220T191720Z
UID:15713-1717608600-1717612200@elks823.org
SUMMARY:PER Meeting 6PM
DESCRIPTION:Meet with your fellow PERs and talk about charities\, events coming up\, volunteer\, and all-around camaraderie.
URL:https://elks823.org/event/per-meeting-6pm/2024-06-05/
CATEGORIES:Charity,Community,Food,Volunteer
ATTACH;FMTTYPE=image/jpeg:https://elks823.org/wp-content/uploads/2020/09/PERA-Group-Photo.jpg
END:VEVENT
BEGIN:VEVENT
DTSTART;TZID=America/Los_Angeles:20240501T173000
DTEND;TZID=America/Los_Angeles:20240501T183000
DTSTAMP:20260425T180753
CREATED:20240220T191720Z
LAST-MODIFIED:20240220T191720Z
UID:15712-1714584600-1714588200@elks823.org
SUMMARY:PER Meeting 6PM
DESCRIPTION:Meet with your fellow PERs and talk about charities\, events coming up\, volunteer\, and all-around camaraderie.
URL:https://elks823.org/event/per-meeting-6pm/2024-05-01/
CATEGORIES:Charity,Community,Food,Volunteer
ATTACH;FMTTYPE=image/jpeg:https://elks823.org/wp-content/uploads/2020/09/PERA-Group-Photo.jpg
END:VEVENT
BEGIN:VEVENT
DTSTART;TZID=America/Los_Angeles:20240307T180000
DTEND;TZID=America/Los_Angeles:20240307T190000
DTSTAMP:20260425T180753
CREATED:20240220T191720Z
LAST-MODIFIED:20241125T230907Z
UID:13998-1709834400-1709838000@elks823.org
SUMMARY:PER Meeting 6PM
DESCRIPTION:Meet with your fellow PERs and talk about charities\, events coming up\, volunteer\, and all-around camaraderie.
URL:https://elks823.org/event/per-meeting-6pm/2024-03-07/
CATEGORIES:Charity,Community,Food,Volunteer
ATTACH;FMTTYPE=image/jpeg:https://elks823.org/wp-content/uploads/2020/09/PERA-Group-Photo.jpg
END:VEVENT
END:VCALENDAR