BEGIN:VCALENDAR
VERSION:2.0
PRODID:-//Elks Lodge 823 - ECPv6.15.20//NONSGML v1.0//EN
CALSCALE:GREGORIAN
METHOD:PUBLISH
X-WR-CALNAME:Elks Lodge 823
X-ORIGINAL-URL:https://elks823.org
X-WR-CALDESC:Events for Elks Lodge 823
REFRESH-INTERVAL;VALUE=DURATION:PT1H
X-Robots-Tag:noindex
X-PUBLISHED-TTL:PT1H
BEGIN:VTIMEZONE
TZID:America/Los_Angeles
BEGIN:DAYLIGHT
TZOFFSETFROM:-0800
TZOFFSETTO:-0700
TZNAME:PDT
DTSTART:20230312T100000
END:DAYLIGHT
BEGIN:STANDARD
TZOFFSETFROM:-0700
TZOFFSETTO:-0800
TZNAME:PST
DTSTART:20231105T090000
END:STANDARD
BEGIN:DAYLIGHT
TZOFFSETFROM:-0800
TZOFFSETTO:-0700
TZNAME:PDT
DTSTART:20240310T100000
END:DAYLIGHT
BEGIN:STANDARD
TZOFFSETFROM:-0700
TZOFFSETTO:-0800
TZNAME:PST
DTSTART:20241103T090000
END:STANDARD
BEGIN:DAYLIGHT
TZOFFSETFROM:-0800
TZOFFSETTO:-0700
TZNAME:PDT
DTSTART:20250309T100000
END:DAYLIGHT
BEGIN:STANDARD
TZOFFSETFROM:-0700
TZOFFSETTO:-0800
TZNAME:PST
DTSTART:20251102T090000
END:STANDARD
END:VTIMEZONE
BEGIN:VEVENT
DTSTART;TZID=America/Los_Angeles:20241115T173000
DTEND;TZID=America/Los_Angeles:20241115T203000
DTSTAMP:20260425T200325
CREATED:20240202T200837Z
LAST-MODIFIED:20240202T200837Z
UID:15235-1731691800-1731702600@elks823.org
SUMMARY:Vera's Basement Open 5:30 - 8:30PM
DESCRIPTION:1st & 3rd Fridays\, Vera’s Basement is Open. Come downstairs and check us out! 5:30-8:30 PM \n*For more information\, contact Colleen Wyatt.\n*All proceeds go back to the Lodge Fund.
URL:https://elks823.org/event/veras-basement-open-530-830pm/2024-11-15/
CATEGORIES:Charity,Community,fundraiser
ATTACH;FMTTYPE=image/jpeg:https://elks823.org/wp-content/uploads/2024/02/Veras-hours-scaled.jpg
END:VEVENT
BEGIN:VEVENT
DTSTART;TZID=America/Los_Angeles:20241018T173000
DTEND;TZID=America/Los_Angeles:20241018T203000
DTSTAMP:20260425T200325
CREATED:20240202T200837Z
LAST-MODIFIED:20240202T200837Z
UID:15233-1729272600-1729283400@elks823.org
SUMMARY:Vera's Basement Open 5:30 - 8:30PM
DESCRIPTION:1st & 3rd Fridays\, Vera’s Basement is Open. Come downstairs and check us out! 5:30-8:30 PM \n*For more information\, contact Colleen Wyatt.\n*All proceeds go back to the Lodge Fund.
URL:https://elks823.org/event/veras-basement-open-530-830pm/2024-10-18/
CATEGORIES:Charity,Community,fundraiser
ATTACH;FMTTYPE=image/jpeg:https://elks823.org/wp-content/uploads/2024/02/Veras-hours-scaled.jpg
END:VEVENT
BEGIN:VEVENT
DTSTART;TZID=America/Los_Angeles:20241004T173000
DTEND;TZID=America/Los_Angeles:20241004T203000
DTSTAMP:20260425T200325
CREATED:20240202T200837Z
LAST-MODIFIED:20240202T200837Z
UID:15232-1728063000-1728073800@elks823.org
SUMMARY:Vera's Basement Open 5:30 - 8:30PM
DESCRIPTION:1st & 3rd Fridays\, Vera’s Basement is Open. Come downstairs and check us out! 5:30-8:30 PM \n*For more information\, contact Colleen Wyatt.\n*All proceeds go back to the Lodge Fund.
URL:https://elks823.org/event/veras-basement-open-530-830pm/2024-10-04/
CATEGORIES:Charity,Community,fundraiser
ATTACH;FMTTYPE=image/jpeg:https://elks823.org/wp-content/uploads/2024/02/Veras-hours-scaled.jpg
END:VEVENT
BEGIN:VEVENT
DTSTART;TZID=America/Los_Angeles:20240920T173000
DTEND;TZID=America/Los_Angeles:20240920T203000
DTSTAMP:20260425T200325
CREATED:20240202T200837Z
LAST-MODIFIED:20240202T200837Z
UID:15231-1726853400-1726864200@elks823.org
SUMMARY:Vera's Basement Open 5:30 - 8:30PM
DESCRIPTION:1st & 3rd Fridays\, Vera’s Basement is Open. Come downstairs and check us out! 5:30-8:30 PM \n*For more information\, contact Colleen Wyatt.\n*All proceeds go back to the Lodge Fund.
URL:https://elks823.org/event/veras-basement-open-530-830pm/2024-09-20/
CATEGORIES:Charity,Community,fundraiser
ATTACH;FMTTYPE=image/jpeg:https://elks823.org/wp-content/uploads/2024/02/Veras-hours-scaled.jpg
END:VEVENT
BEGIN:VEVENT
DTSTART;TZID=America/Los_Angeles:20240906T173000
DTEND;TZID=America/Los_Angeles:20240906T203000
DTSTAMP:20260425T200325
CREATED:20240202T200837Z
LAST-MODIFIED:20241002T212445Z
UID:15048-1725643800-1725654600@elks823.org
SUMMARY:Vera's Basement Open 5:30 - 8:30PM
DESCRIPTION:1st & 3rd Fridays\, Vera’s Basement is Open. Come downstairs and check us out! 5:30-8:30 PM \n*For more information\, contact Colleen Wyatt.\n*All proceeds go back to the Lodge Fund.
URL:https://elks823.org/event/veras-basement-open-530-830pm/2024-09-06/
CATEGORIES:Charity,Community,fundraiser
ATTACH;FMTTYPE=image/jpeg:https://elks823.org/wp-content/uploads/2024/02/Veras-hours-scaled.jpg
END:VEVENT
BEGIN:VEVENT
DTSTART;TZID=America/Los_Angeles:20240816T173000
DTEND;TZID=America/Los_Angeles:20240816T203000
DTSTAMP:20260425T200325
CREATED:20240202T200837Z
LAST-MODIFIED:20241002T212445Z
UID:15047-1723829400-1723840200@elks823.org
SUMMARY:Vera's Basement Open 5:30 - 8:30PM
DESCRIPTION:1st & 3rd Fridays\, Vera’s Basement is Open. Come downstairs and check us out! 5:30-8:30 PM \n*For more information\, contact Colleen Wyatt.\n*All proceeds go back to the Lodge Fund.
URL:https://elks823.org/event/veras-basement-open-530-830pm/2024-08-16/
CATEGORIES:Charity,Community,fundraiser
ATTACH;FMTTYPE=image/jpeg:https://elks823.org/wp-content/uploads/2024/02/Veras-hours-scaled.jpg
END:VEVENT
BEGIN:VEVENT
DTSTART;TZID=America/Los_Angeles:20240802T173000
DTEND;TZID=America/Los_Angeles:20240802T203000
DTSTAMP:20260425T200325
CREATED:20240202T200837Z
LAST-MODIFIED:20241002T212445Z
UID:15046-1722619800-1722630600@elks823.org
SUMMARY:Vera's Basement Open 5:30 - 8:30PM
DESCRIPTION:1st & 3rd Fridays\, Vera’s Basement is Open. Come downstairs and check us out! 5:30-8:30 PM \n*For more information\, contact Colleen Wyatt.\n*All proceeds go back to the Lodge Fund.
URL:https://elks823.org/event/veras-basement-open-530-830pm/2024-08-02/
CATEGORIES:Charity,Community,fundraiser
ATTACH;FMTTYPE=image/jpeg:https://elks823.org/wp-content/uploads/2024/02/Veras-hours-scaled.jpg
END:VEVENT
BEGIN:VEVENT
DTSTART;TZID=America/Los_Angeles:20240719T173000
DTEND;TZID=America/Los_Angeles:20240719T203000
DTSTAMP:20260425T200325
CREATED:20240202T200837Z
LAST-MODIFIED:20241002T212444Z
UID:14490-1721410200-1721421000@elks823.org
SUMMARY:Vera's Basement Open 5:30 - 8:30PM
DESCRIPTION:1st & 3rd Fridays\, Vera’s Basement is Open. Come downstairs and check us out! 5:30-8:30 PM \n*For more information\, contact Colleen Wyatt.\n*All proceeds go back to the Lodge Fund.
URL:https://elks823.org/event/veras-basement-open-530-830pm/2024-07-19/
CATEGORIES:Charity,Community,fundraiser
ATTACH;FMTTYPE=image/jpeg:https://elks823.org/wp-content/uploads/2024/02/Veras-hours-scaled.jpg
END:VEVENT
BEGIN:VEVENT
DTSTART;TZID=America/Los_Angeles:20240705T173000
DTEND;TZID=America/Los_Angeles:20240705T203000
DTSTAMP:20260425T200325
CREATED:20240202T200837Z
LAST-MODIFIED:20241002T212444Z
UID:15045-1720200600-1720211400@elks823.org
SUMMARY:Vera's Basement Open 5:30 - 8:30PM
DESCRIPTION:1st & 3rd Fridays\, Vera’s Basement is Open. Come downstairs and check us out! 5:30-8:30 PM \n*For more information\, contact Colleen Wyatt.\n*All proceeds go back to the Lodge Fund.
URL:https://elks823.org/event/veras-basement-open-530-830pm/2024-07-05/
CATEGORIES:Charity,Community,fundraiser
ATTACH;FMTTYPE=image/jpeg:https://elks823.org/wp-content/uploads/2024/02/Veras-hours-scaled.jpg
END:VEVENT
BEGIN:VEVENT
DTSTART;TZID=America/Los_Angeles:20240621T173000
DTEND;TZID=America/Los_Angeles:20240621T203000
DTSTAMP:20260425T200325
CREATED:20240202T200837Z
LAST-MODIFIED:20241002T212444Z
UID:14489-1718991000-1719001800@elks823.org
SUMMARY:Vera's Basement Open 5:30 - 8:30PM
DESCRIPTION:1st & 3rd Fridays\, Vera’s Basement is Open. Come downstairs and check us out! 5:30-8:30 PM \n*For more information\, contact Colleen Wyatt.\n*All proceeds go back to the Lodge Fund.
URL:https://elks823.org/event/veras-basement-open-530-830pm/2024-06-21/
CATEGORIES:Charity,Community,fundraiser
ATTACH;FMTTYPE=image/jpeg:https://elks823.org/wp-content/uploads/2024/02/Veras-hours-scaled.jpg
END:VEVENT
BEGIN:VEVENT
DTSTART;TZID=America/Los_Angeles:20240607T173000
DTEND;TZID=America/Los_Angeles:20240607T203000
DTSTAMP:20260425T200325
CREATED:20240202T200837Z
LAST-MODIFIED:20241002T212444Z
UID:14488-1717781400-1717792200@elks823.org
SUMMARY:Vera's Basement Open 5:30 - 8:30PM
DESCRIPTION:1st & 3rd Fridays\, Vera’s Basement is Open. Come downstairs and check us out! 5:30-8:30 PM \n*For more information\, contact Colleen Wyatt.\n*All proceeds go back to the Lodge Fund.
URL:https://elks823.org/event/veras-basement-open-530-830pm/2024-06-07/
CATEGORIES:Charity,Community,fundraiser
ATTACH;FMTTYPE=image/jpeg:https://elks823.org/wp-content/uploads/2024/02/Veras-hours-scaled.jpg
END:VEVENT
BEGIN:VEVENT
DTSTART;TZID=America/Los_Angeles:20240517T173000
DTEND;TZID=America/Los_Angeles:20240517T203000
DTSTAMP:20260425T200325
CREATED:20240202T200837Z
LAST-MODIFIED:20241002T212444Z
UID:14132-1715967000-1715977800@elks823.org
SUMMARY:Vera's Basement Open 5:30 - 8:30PM
DESCRIPTION:1st & 3rd Fridays\, Vera’s Basement is Open. Come downstairs and check us out! 5:30-8:30 PM \n*For more information\, contact Colleen Wyatt.\n*All proceeds go back to the Lodge Fund.
URL:https://elks823.org/event/veras-basement-open-530-830pm/2024-05-17/
CATEGORIES:Charity,Community,fundraiser
ATTACH;FMTTYPE=image/jpeg:https://elks823.org/wp-content/uploads/2024/02/Veras-hours-scaled.jpg
END:VEVENT
BEGIN:VEVENT
DTSTART;TZID=America/Los_Angeles:20240503T173000
DTEND;TZID=America/Los_Angeles:20240503T203000
DTSTAMP:20260425T200325
CREATED:20240202T200837Z
LAST-MODIFIED:20241002T212444Z
UID:14131-1714757400-1714768200@elks823.org
SUMMARY:Vera's Basement Open 5:30 - 8:30PM
DESCRIPTION:1st & 3rd Fridays\, Vera’s Basement is Open. Come downstairs and check us out! 5:30-8:30 PM \n*For more information\, contact Colleen Wyatt.\n*All proceeds go back to the Lodge Fund.
URL:https://elks823.org/event/veras-basement-open-530-830pm/2024-05-03/
CATEGORIES:Charity,Community,fundraiser
ATTACH;FMTTYPE=image/jpeg:https://elks823.org/wp-content/uploads/2024/02/Veras-hours-scaled.jpg
END:VEVENT
BEGIN:VEVENT
DTSTART;TZID=America/Los_Angeles:20240202T173000
DTEND;TZID=America/Los_Angeles:20240202T203000
DTSTAMP:20260425T200325
CREATED:20240202T200837Z
LAST-MODIFIED:20241002T212437Z
UID:13856-1706895000-1706905800@elks823.org
SUMMARY:Vera's Basement Open 5:30 - 8:30PM
DESCRIPTION:1st & 3rd Fridays\, Vera’s Basement is Open. Come downstairs and check us out! 5:30-8:30 PM \n*For more information\, contact Colleen Wyatt.\n*All proceeds go back to the Lodge Fund.
URL:https://elks823.org/event/veras-basement-open-530-830pm/2024-02-02/
CATEGORIES:Charity,Community,fundraiser
ATTACH;FMTTYPE=image/jpeg:https://elks823.org/wp-content/uploads/2024/02/Veras-hours-scaled.jpg
END:VEVENT
END:VCALENDAR