BEGIN:VCALENDAR
VERSION:2.0
PRODID:-//Elks Lodge 823 - ECPv5.16.0//NONSGML v1.0//EN
CALSCALE:GREGORIAN
METHOD:PUBLISH
X-WR-CALNAME:Elks Lodge 823
X-ORIGINAL-URL:https://elks823.org
X-WR-CALDESC:Events for Elks Lodge 823
BEGIN:VTIMEZONE
TZID:America/Los_Angeles
BEGIN:DAYLIGHT
TZOFFSETFROM:-0800
TZOFFSETTO:-0700
TZNAME:PDT
DTSTART:20250309T100000
END:DAYLIGHT
BEGIN:STANDARD
TZOFFSETFROM:-0700
TZOFFSETTO:-0800
TZNAME:PST
DTSTART:20251102T090000
END:STANDARD
END:VTIMEZONE
BEGIN:VEVENT
DTSTART;VALUE=DATE:20250115
DTEND;VALUE=DATE:20250120
DTSTAMP:20260421T071311
CREATED:20241125T231342Z
LAST-MODIFIED:20260102T183733Z
UID:15725-1736899200-1737331199@elks823.org
SUMMARY:WSEA Winter Convention
DESCRIPTION:Winter Convention – Seatac\nJanuary 15th – 19th\nhttps://waelks.org/mid-winter-convention-2025/ \n*Registration Packets are due by\, Dec. 5th.
URL:https://elks823.org/event/wsea-winter-convention/2025-01-15/
ATTACH;FMTTYPE=image/png:https://elks823.org/wp-content/uploads/2021/12/wa_state_elks.png
END:VEVENT
END:VCALENDAR