BEGIN:VCALENDAR
VERSION:2.0
PRODID:-//Elks Lodge 823 - ECPv6.15.20//NONSGML v1.0//EN
CALSCALE:GREGORIAN
METHOD:PUBLISH
X-WR-CALNAME:Elks Lodge 823
X-ORIGINAL-URL:https://elks823.org
X-WR-CALDESC:Events for Elks Lodge 823
REFRESH-INTERVAL;VALUE=DURATION:PT1H
X-Robots-Tag:noindex
X-PUBLISHED-TTL:PT1H
BEGIN:VTIMEZONE
TZID:America/Los_Angeles
BEGIN:DAYLIGHT
TZOFFSETFROM:-0800
TZOFFSETTO:-0700
TZNAME:PDT
DTSTART:20230312T100000
END:DAYLIGHT
BEGIN:STANDARD
TZOFFSETFROM:-0700
TZOFFSETTO:-0800
TZNAME:PST
DTSTART:20231105T090000
END:STANDARD
BEGIN:DAYLIGHT
TZOFFSETFROM:-0800
TZOFFSETTO:-0700
TZNAME:PDT
DTSTART:20240310T100000
END:DAYLIGHT
BEGIN:STANDARD
TZOFFSETFROM:-0700
TZOFFSETTO:-0800
TZNAME:PST
DTSTART:20241103T090000
END:STANDARD
BEGIN:DAYLIGHT
TZOFFSETFROM:-0800
TZOFFSETTO:-0700
TZNAME:PDT
DTSTART:20250309T100000
END:DAYLIGHT
BEGIN:STANDARD
TZOFFSETFROM:-0700
TZOFFSETTO:-0800
TZNAME:PST
DTSTART:20251102T090000
END:STANDARD
END:VTIMEZONE
BEGIN:VEVENT
DTSTART;TZID=America/Los_Angeles:20241115T160000
DTEND;TZID=America/Los_Angeles:20241115T220000
DTSTAMP:20260425T182933
CREATED:20240711T191919Z
LAST-MODIFIED:20241121T232310Z
UID:15334-1731686400-1731708000@elks823.org
SUMMARY:Officer Steak Night 5PM\, Live Music Lip Bomb 7PM
DESCRIPTION:Steak $27 comes with a salad\, baked potato\, and vegetables.\nOr select Fish\, $25: Salmon with a salad\, baked potato\, and vegetables.\n*The steak will be upgraded to Ribeye from Sirloin\, 8oz portion. Hence the pricing change. \nPlease call the office to make your reservations\, by the Wednesday before.\nWhen you call\, please select an open time for dinner.\n*Late RSVPs may not be taken. 360-256-0823 \nLive Music by Lip Bomb (in the Lodge room) at 7 PM\n$6 members\, $10 non-members \n*Steak Night Tips and proceeds go to the Officer Fund to help with Conventions\, Officer uniforms\, and training.
URL:https://elks823.org/event/officer-steak-night-5pm-live-music-seymour-smith-7pm-2024-11-15/2024-11-15/
CATEGORIES:Community,Dance,Food,Music
ATTACH;FMTTYPE=image/jpeg:https://elks823.org/wp-content/uploads/2022/11/Steak_night.jpeg
END:VEVENT
BEGIN:VEVENT
DTSTART;TZID=America/Los_Angeles:20241115T173000
DTEND;TZID=America/Los_Angeles:20241115T203000
DTSTAMP:20260425T182933
CREATED:20240202T200837Z
LAST-MODIFIED:20240202T200837Z
UID:15235-1731691800-1731702600@elks823.org
SUMMARY:Vera's Basement Open 5:30 - 8:30PM
DESCRIPTION:1st & 3rd Fridays\, Vera’s Basement is Open. Come downstairs and check us out! 5:30-8:30 PM \n*For more information\, contact Colleen Wyatt.\n*All proceeds go back to the Lodge Fund.
URL:https://elks823.org/event/veras-basement-open-530-830pm/2024-11-15/
CATEGORIES:Charity,Community,fundraiser
ATTACH;FMTTYPE=image/jpeg:https://elks823.org/wp-content/uploads/2024/02/Veras-hours-scaled.jpg
END:VEVENT
BEGIN:VEVENT
DTSTART;TZID=America/Los_Angeles:20241115T180000
DTEND;TZID=America/Los_Angeles:20241115T200000
DTSTAMP:20260425T182933
CREATED:20230717T173939Z
LAST-MODIFIED:20260216T215402Z
UID:15272-1731693600-1731700800@elks823.org
SUMMARY:Queen of Hearts
DESCRIPTION:Queen of Hearts is back! It will be held every Friday night. \n\n\n\n\nTicket sales will begin on Friday from 6 PM to 8 PM.\nThe drawing will be at 8:00 PM.\nFriday’s Pot = $TBD \n*Eligible Players:\nOpen to Elk members\, visiting Elks\, as well as Emblem Club members.\nA valid Elks/Emblem Club ID must be presented to purchase tickets.\n**Must be present to win.
URL:https://elks823.org/event/queen-of-hearts-12/2024-11-15/
CATEGORIES:Community
ATTACH;FMTTYPE=image/jpeg:https://elks823.org/wp-content/uploads/2025/03/Queen_of_Hearts-scaled.jpg
END:VEVENT
END:VCALENDAR