BEGIN:VCALENDAR
VERSION:2.0
PRODID:-//Elks Lodge 823 - ECPv6.15.20//NONSGML v1.0//EN
CALSCALE:GREGORIAN
METHOD:PUBLISH
X-WR-CALNAME:Elks Lodge 823
X-ORIGINAL-URL:https://elks823.org
X-WR-CALDESC:Events for Elks Lodge 823
REFRESH-INTERVAL;VALUE=DURATION:PT1H
X-Robots-Tag:noindex
X-PUBLISHED-TTL:PT1H
BEGIN:VTIMEZONE
TZID:America/Los_Angeles
BEGIN:DAYLIGHT
TZOFFSETFROM:-0800
TZOFFSETTO:-0700
TZNAME:PDT
DTSTART:20230312T100000
END:DAYLIGHT
BEGIN:STANDARD
TZOFFSETFROM:-0700
TZOFFSETTO:-0800
TZNAME:PST
DTSTART:20231105T090000
END:STANDARD
BEGIN:DAYLIGHT
TZOFFSETFROM:-0800
TZOFFSETTO:-0700
TZNAME:PDT
DTSTART:20240310T100000
END:DAYLIGHT
BEGIN:STANDARD
TZOFFSETFROM:-0700
TZOFFSETTO:-0800
TZNAME:PST
DTSTART:20241103T090000
END:STANDARD
BEGIN:DAYLIGHT
TZOFFSETFROM:-0800
TZOFFSETTO:-0700
TZNAME:PDT
DTSTART:20250309T100000
END:DAYLIGHT
BEGIN:STANDARD
TZOFFSETFROM:-0700
TZOFFSETTO:-0800
TZNAME:PST
DTSTART:20251102T090000
END:STANDARD
END:VTIMEZONE
BEGIN:VEVENT
DTSTART;TZID=America/Los_Angeles:20241116T160000
DTEND;TZID=America/Los_Angeles:20241116T210000
DTSTAMP:20260425T162651
CREATED:20241004T201740Z
LAST-MODIFIED:20241023T193711Z
UID:15398-1731772800-1731790800@elks823.org
SUMMARY:Friendsgiving Potluck 4PM
DESCRIPTION:Let’s get together with your ELK Family and friends and have a Friendsgiving!\nJoin us at 4 PM\, Potluck and dinner at 5 PM \n*Members\, families & guests. \nWe will soon have signups for sides and such. The Lodge will be providing the Turkey\, all sides and desserts are potluck!\nhttps://www.signupgenius.com/go/10c0f4faeae2ba1fac34-test#/
URL:https://elks823.org/event/friendsgiving-potluck-4pm/
CATEGORIES:Community,Food,Games,Music,Volunteer
ATTACH;FMTTYPE=image/png:https://elks823.org/wp-content/uploads/2024/10/Friendsgiving_2024.png
END:VEVENT
END:VCALENDAR