BEGIN:VCALENDAR
VERSION:2.0
PRODID:-//Elks Lodge 823 - ECPv6.15.20//NONSGML v1.0//EN
CALSCALE:GREGORIAN
METHOD:PUBLISH
X-ORIGINAL-URL:https://elks823.org
X-WR-CALDESC:Events for Elks Lodge 823
REFRESH-INTERVAL;VALUE=DURATION:PT1H
X-Robots-Tag:noindex
X-PUBLISHED-TTL:PT1H
BEGIN:VTIMEZONE
TZID:America/Los_Angeles
BEGIN:DAYLIGHT
TZOFFSETFROM:-0800
TZOFFSETTO:-0700
TZNAME:PDT
DTSTART:20230312T100000
END:DAYLIGHT
BEGIN:STANDARD
TZOFFSETFROM:-0700
TZOFFSETTO:-0800
TZNAME:PST
DTSTART:20231105T090000
END:STANDARD
BEGIN:DAYLIGHT
TZOFFSETFROM:-0800
TZOFFSETTO:-0700
TZNAME:PDT
DTSTART:20240310T100000
END:DAYLIGHT
BEGIN:STANDARD
TZOFFSETFROM:-0700
TZOFFSETTO:-0800
TZNAME:PST
DTSTART:20241103T090000
END:STANDARD
BEGIN:DAYLIGHT
TZOFFSETFROM:-0800
TZOFFSETTO:-0700
TZNAME:PDT
DTSTART:20250309T100000
END:DAYLIGHT
BEGIN:STANDARD
TZOFFSETFROM:-0700
TZOFFSETTO:-0800
TZNAME:PST
DTSTART:20251102T090000
END:STANDARD
END:VTIMEZONE
BEGIN:VEVENT
DTSTART;TZID=America/Los_Angeles:20241118T173000
DTEND;TZID=America/Los_Angeles:20241118T193000
DTSTAMP:20260425T163911
CREATED:20230227T212526Z
LAST-MODIFIED:20241118T211836Z
UID:15243-1731951000-1731958200@elks823.org
SUMMARY:CMB/Board Meeting 5:30PM
DESCRIPTION:CMB/Board meetings will be held on the 2nd and 4th Monday of each month. (Monday before Lodge Meetings) \nIn the Board Room. All members are welcome to attend. \n*Due to Veterans Day on 11/11\, moving the CMB/Board Meeting to 11/18.
URL:https://elks823.org/event/cmb-board-meeting-2023-08-14-2024-11-11/
CATEGORIES:Board Meeting,Community
ATTACH;FMTTYPE=image/png:https://elks823.org/wp-content/uploads/2023/02/Lounge-Screens-april-may-14.png
END:VEVENT
END:VCALENDAR