BEGIN:VCALENDAR
VERSION:2.0
PRODID:-//Elks Lodge 823 - ECPv6.15.20//NONSGML v1.0//EN
CALSCALE:GREGORIAN
METHOD:PUBLISH
X-WR-CALNAME:Elks Lodge 823
X-ORIGINAL-URL:https://elks823.org
X-WR-CALDESC:Events for Elks Lodge 823
REFRESH-INTERVAL;VALUE=DURATION:PT1H
X-Robots-Tag:noindex
X-PUBLISHED-TTL:PT1H
BEGIN:VTIMEZONE
TZID:America/Los_Angeles
BEGIN:DAYLIGHT
TZOFFSETFROM:-0800
TZOFFSETTO:-0700
TZNAME:PDT
DTSTART:20230312T100000
END:DAYLIGHT
BEGIN:STANDARD
TZOFFSETFROM:-0700
TZOFFSETTO:-0800
TZNAME:PST
DTSTART:20231105T090000
END:STANDARD
BEGIN:DAYLIGHT
TZOFFSETFROM:-0800
TZOFFSETTO:-0700
TZNAME:PDT
DTSTART:20240310T100000
END:DAYLIGHT
BEGIN:STANDARD
TZOFFSETFROM:-0700
TZOFFSETTO:-0800
TZNAME:PST
DTSTART:20241103T090000
END:STANDARD
BEGIN:DAYLIGHT
TZOFFSETFROM:-0800
TZOFFSETTO:-0700
TZNAME:PDT
DTSTART:20250309T100000
END:DAYLIGHT
BEGIN:STANDARD
TZOFFSETFROM:-0700
TZOFFSETTO:-0800
TZNAME:PST
DTSTART:20251102T090000
END:STANDARD
END:VTIMEZONE
BEGIN:VEVENT
DTSTART;TZID=America/Los_Angeles:20241120T100000
DTEND;TZID=America/Los_Angeles:20241120T110000
DTSTAMP:20260425T110712
CREATED:20240202T193200Z
LAST-MODIFIED:20240202T193200Z
UID:15326-1732096800-1732100400@elks823.org
SUMMARY:Emblem Club Meeting 10AM
DESCRIPTION:Emblem Club Meeting 10 AM
URL:https://elks823.org/event/emblem-club-meeting-10am/2024-11-20/
CATEGORIES:Community
ATTACH;FMTTYPE=image/png:https://elks823.org/wp-content/uploads/2021/12/emblem.png
END:VEVENT
BEGIN:VEVENT
DTSTART;TZID=America/Los_Angeles:20241120T170000
DTEND;TZID=America/Los_Angeles:20241120T200000
DTSTAMP:20260425T110712
CREATED:20241118T212059Z
LAST-MODIFIED:20241118T212059Z
UID:15508-1732122000-1732132800@elks823.org
SUMMARY:Christmas Decorating Party 5PM
DESCRIPTION:2 evenings this week to help get the Lodge festive for Christmas! Come and help us decorate!\nWednesday\, Nov 20th\, 5PM\nThursday\, November 21st\, 5PM \n\n\n\nFor more information\, contact ER Annie.
URL:https://elks823.org/event/christmas-decorating-party-5pm/2024-11-20/
CATEGORIES:Charity,Community,Volunteer
ATTACH;FMTTYPE=image/png:https://elks823.org/wp-content/uploads/2024/11/christmas-decorating-party.png
END:VEVENT
BEGIN:VEVENT
DTSTART;TZID=America/Los_Angeles:20241120T180000
DTEND;TZID=America/Los_Angeles:20241120T200000
DTSTAMP:20260425T110712
CREATED:20220221T185446Z
LAST-MODIFIED:20250127T230031Z
UID:15365-1732125600-1732132800@elks823.org
SUMMARY:Bar Card Bingo 6-8PM
DESCRIPTION:Bar Card Bingo every Wednesday. All are welcome! \nBar Bingo is played with playing cards. It is $1.00 for 3 cards. An app randomly picks cards\, if you “match”\, you flip over that card. When all three cards (in 1 row) are flipped\, you have a Bingo!\nLots of members are there to help you play! Come on down\, but be careful…..you might have too much fun! \nElk Cove Menu is also available in Lounge.
URL:https://elks823.org/event/bar-card-bingo-6-8pm/2024-11-20/
CATEGORIES:Community,Food,Games
ATTACH;FMTTYPE=image/jpeg:https://elks823.org/wp-content/uploads/2021/09/BarBingo.jpg
END:VEVENT
BEGIN:VEVENT
DTSTART;TZID=America/Los_Angeles:20241120T180000
DTEND;TZID=America/Los_Angeles:20241120T200000
DTSTAMP:20260425T110712
CREATED:20231207T203128Z
LAST-MODIFIED:20241126T212522Z
UID:15331-1732125600-1732132800@elks823.org
SUMMARY:Veterans Bingo at CLC
DESCRIPTION:at the CLC @ 6PM \n*Please contact Leonard Mills for more information and to volunteer.
URL:https://elks823.org/event/veterans-bingo-at-clc-2024-02-21/2024-11-20/
CATEGORIES:Charity,Community,Games,Volunteer
ATTACH;FMTTYPE=image/png:https://elks823.org/wp-content/uploads/2021/10/veterans.png
END:VEVENT
BEGIN:VEVENT
DTSTART;TZID=America/Los_Angeles:20241120T183000
DTEND;TZID=America/Los_Angeles:20241120T203000
DTSTAMP:20260425T110712
CREATED:20240528T164816Z
LAST-MODIFIED:20240528T164816Z
UID:15378-1732127400-1732134600@elks823.org
SUMMARY:One Eyed Kats Practice 6:30PM(Emil Room)
DESCRIPTION:One-Eyed Kats practice downstairs in the Emil room. Members can go down and listen. Just remember to bring any plates\, drinkware\, etc. back up to the bar/kitchen. \nBlues\, R&B\, and rock and roll. http://www.oneeyedkats.com/
URL:https://elks823.org/event/one-eyed-kats-practice/2024-11-20/
CATEGORIES:Music
ATTACH;FMTTYPE=image/jpeg:https://elks823.org/wp-content/uploads/2024/05/mir-6015-enhanced-nr-edit_orig.jpg
END:VEVENT
BEGIN:VEVENT
DTSTART;TZID=America/Los_Angeles:20241120T190000
DTEND;TZID=America/Los_Angeles:20241120T210000
DTSTAMP:20260425T110712
CREATED:20240720T145935Z
LAST-MODIFIED:20250127T230139Z
UID:15387-1732129200-1732136400@elks823.org
SUMMARY:Taska & the Party Band
DESCRIPTION:The dance is from 7 p.m. to 9 p.m. each Wednesday.\nEach band member has a passion for the art of music and has made this journey into a career. For this group\, they don’t just bring the music\, they bring the party! \nCome early to get a seat as early as 6 p.m. Snacks and water are available for purchase. \n*Cover is $6 for Elk members and $10 for the general public.
URL:https://elks823.org/event/taska-party-band/2024-11-20/
CATEGORIES:Community,Dance,Food,Music
ATTACH;FMTTYPE=image/png:https://elks823.org/wp-content/uploads/2024/07/Taska_Band.png
END:VEVENT
END:VCALENDAR