BEGIN:VCALENDAR
VERSION:2.0
PRODID:-//Elks Lodge 823 - ECPv6.15.20//NONSGML v1.0//EN
CALSCALE:GREGORIAN
METHOD:PUBLISH
X-ORIGINAL-URL:https://elks823.org
X-WR-CALDESC:Events for Elks Lodge 823
REFRESH-INTERVAL;VALUE=DURATION:PT1H
X-Robots-Tag:noindex
X-PUBLISHED-TTL:PT1H
BEGIN:VTIMEZONE
TZID:America/Los_Angeles
BEGIN:DAYLIGHT
TZOFFSETFROM:-0800
TZOFFSETTO:-0700
TZNAME:PDT
DTSTART:20240310T100000
END:DAYLIGHT
BEGIN:STANDARD
TZOFFSETFROM:-0700
TZOFFSETTO:-0800
TZNAME:PST
DTSTART:20241103T090000
END:STANDARD
BEGIN:DAYLIGHT
TZOFFSETFROM:-0800
TZOFFSETTO:-0700
TZNAME:PDT
DTSTART:20250309T100000
END:DAYLIGHT
BEGIN:STANDARD
TZOFFSETFROM:-0700
TZOFFSETTO:-0800
TZNAME:PST
DTSTART:20251102T090000
END:STANDARD
BEGIN:DAYLIGHT
TZOFFSETFROM:-0800
TZOFFSETTO:-0700
TZNAME:PDT
DTSTART:20260308T100000
END:DAYLIGHT
BEGIN:STANDARD
TZOFFSETFROM:-0700
TZOFFSETTO:-0800
TZNAME:PST
DTSTART:20261101T090000
END:STANDARD
END:VTIMEZONE
BEGIN:VEVENT
DTSTART;VALUE=DATE:20250115
DTEND;VALUE=DATE:20250120
DTSTAMP:20260425T074515
CREATED:20241125T231342Z
LAST-MODIFIED:20260102T183733Z
UID:15725-1736899200-1737331199@elks823.org
SUMMARY:WSEA Winter Convention
DESCRIPTION:Winter Convention – Seatac\nJanuary 15th – 19th\nhttps://waelks.org/mid-winter-convention-2025/ \n*Registration Packets are due by\, Dec. 5th.
URL:https://elks823.org/event/wsea-winter-convention/2025-01-15/
ATTACH;FMTTYPE=image/png:https://elks823.org/wp-content/uploads/2021/12/wa_state_elks.png
END:VEVENT
BEGIN:VEVENT
DTSTART;TZID=America/Los_Angeles:20250115T180000
DTEND;TZID=America/Los_Angeles:20250115T200000
DTSTAMP:20260425T074515
CREATED:20220221T185446Z
LAST-MODIFIED:20220221T185446Z
UID:15570-1736964000-1736971200@elks823.org
SUMMARY:Bar Card Bingo 6-8PM
DESCRIPTION:Bar Card Bingo every Wednesday. All are welcome! \nBar Bingo is played with playing cards. It is $1.00 for 3 cards. An app randomly picks cards\, if you “match”\, you flip over that card. When all three cards (in 1 row) are flipped\, you have a Bingo!\nLots of members are there to help you play! Come on down\, but be careful…..you might have too much fun! \nElk Cove Menu is also available in Lounge.
URL:https://elks823.org/event/bar-card-bingo-6-8pm/2025-01-15/
CATEGORIES:Community,Food,Games
ATTACH;FMTTYPE=image/jpeg:https://elks823.org/wp-content/uploads/2021/09/BarBingo.jpg
END:VEVENT
BEGIN:VEVENT
DTSTART;TZID=America/Los_Angeles:20250115T180000
DTEND;TZID=America/Los_Angeles:20250115T200000
DTSTAMP:20260425T074515
CREATED:20231207T203128Z
LAST-MODIFIED:20231207T203128Z
UID:15736-1736964000-1736971200@elks823.org
SUMMARY:Veterans Bingo at CLC
DESCRIPTION:at the CLC @ 6PM \n*Please contact Leonard Mills for more information and to volunteer.
URL:https://elks823.org/event/veterans-bingo-at-clc-2024-02-21/2025-01-15/
CATEGORIES:Charity,Community,Games,Volunteer
ATTACH;FMTTYPE=image/png:https://elks823.org/wp-content/uploads/2021/10/veterans.png
END:VEVENT
BEGIN:VEVENT
DTSTART;TZID=America/Los_Angeles:20250115T183000
DTEND;TZID=America/Los_Angeles:20250115T203000
DTSTAMP:20260425T074515
CREATED:20240528T164816Z
LAST-MODIFIED:20240528T164816Z
UID:15577-1736965800-1736973000@elks823.org
SUMMARY:One Eyed Kats Practice 6:30PM(Emil Room)
DESCRIPTION:One-Eyed Kats practice downstairs in the Emil room. Members can go down and listen. Just remember to bring any plates\, drinkware\, etc. back up to the bar/kitchen. \nBlues\, R&B\, and rock and roll. http://www.oneeyedkats.com/
URL:https://elks823.org/event/one-eyed-kats-practice/2025-01-15/
CATEGORIES:Music
ATTACH;FMTTYPE=image/jpeg:https://elks823.org/wp-content/uploads/2024/05/mir-6015-enhanced-nr-edit_orig.jpg
END:VEVENT
BEGIN:VEVENT
DTSTART;TZID=America/Los_Angeles:20250115T190000
DTEND;TZID=America/Los_Angeles:20250115T210000
DTSTAMP:20260425T074515
CREATED:20240720T145935Z
LAST-MODIFIED:20250304T215355Z
UID:15584-1736967600-1736974800@elks823.org
SUMMARY:Taska & the Party Band
DESCRIPTION:The dance is from 7 p.m. to 9 p.m. each Wednesday.\nEach band member has a passion for the art of music and has made this journey into a career. For this group\, they don’t just bring the music\, they bring the party! \nCome early to get a seat as early as 6 p.m. Snacks and water are available for purchase. \n*Cover is $6 for Elk members and $10 for the general public.
URL:https://elks823.org/event/taska-party-band/2025-01-15/
CATEGORIES:Community,Dance,Food,Music
ATTACH;FMTTYPE=image/png:https://elks823.org/wp-content/uploads/2024/07/Taska_Band.png
END:VEVENT
END:VCALENDAR