BEGIN:VCALENDAR
VERSION:2.0
PRODID:-//Elks Lodge 823 - ECPv6.15.20//NONSGML v1.0//EN
CALSCALE:GREGORIAN
METHOD:PUBLISH
X-WR-CALNAME:Elks Lodge 823
X-ORIGINAL-URL:https://elks823.org
X-WR-CALDESC:Events for Elks Lodge 823
REFRESH-INTERVAL;VALUE=DURATION:PT1H
X-Robots-Tag:noindex
X-PUBLISHED-TTL:PT1H
BEGIN:VTIMEZONE
TZID:America/Los_Angeles
BEGIN:DAYLIGHT
TZOFFSETFROM:-0800
TZOFFSETTO:-0700
TZNAME:PDT
DTSTART:20240310T100000
END:DAYLIGHT
BEGIN:STANDARD
TZOFFSETFROM:-0700
TZOFFSETTO:-0800
TZNAME:PST
DTSTART:20241103T090000
END:STANDARD
BEGIN:DAYLIGHT
TZOFFSETFROM:-0800
TZOFFSETTO:-0700
TZNAME:PDT
DTSTART:20250309T100000
END:DAYLIGHT
BEGIN:STANDARD
TZOFFSETFROM:-0700
TZOFFSETTO:-0800
TZNAME:PST
DTSTART:20251102T090000
END:STANDARD
BEGIN:DAYLIGHT
TZOFFSETFROM:-0800
TZOFFSETTO:-0700
TZNAME:PDT
DTSTART:20260308T100000
END:DAYLIGHT
BEGIN:STANDARD
TZOFFSETFROM:-0700
TZOFFSETTO:-0800
TZNAME:PST
DTSTART:20261101T090000
END:STANDARD
END:VTIMEZONE
BEGIN:VEVENT
DTSTART;TZID=America/Los_Angeles:20250126T090000
DTEND;TZID=America/Los_Angeles:20250126T110000
DTSTAMP:20260425T073327
CREATED:20241126T201040Z
LAST-MODIFIED:20260102T184924Z
UID:15728-1737882000-1737889200@elks823.org
SUMMARY:Race for Warmth
DESCRIPTION:Let’s get a team together and do a 5K! \nSunday\, January 26 for the 11th annual Race for Warmth\, a 5k/10k run/walk or bike ride to support Operation Warm Heart\, a Clark Public Utilities customer-funded program to help limited-income families in crisis situations who need help paying their electric bills. \nEvery dollar of your Race for Warmth registration goes directly to Operation Warm Heart. Over the last ten years the race alone has raised nearly $500\,000 for local families. \nThe race will take place on January 26. There will be prizes\, a kids run and fun for the whole family!\nCheck out this site for more details: https://www.clarkpublicutilities.com/event/race-for-warmth \nRegister by Dec. 31st!
URL:https://elks823.org/event/race-for-warmth/2025-01-26/
CATEGORIES:Charity,Community,Volunteer
ATTACH;FMTTYPE=image/jpeg:https://elks823.org/wp-content/uploads/2024/11/Raceforwarmth.jpg
END:VEVENT
END:VCALENDAR