BEGIN:VCALENDAR
VERSION:2.0
PRODID:-//Elks Lodge 823 - ECPv6.15.20//NONSGML v1.0//EN
CALSCALE:GREGORIAN
METHOD:PUBLISH
X-ORIGINAL-URL:https://elks823.org
X-WR-CALDESC:Events for Elks Lodge 823
REFRESH-INTERVAL;VALUE=DURATION:PT1H
X-Robots-Tag:noindex
X-PUBLISHED-TTL:PT1H
BEGIN:VTIMEZONE
TZID:America/Los_Angeles
BEGIN:DAYLIGHT
TZOFFSETFROM:-0800
TZOFFSETTO:-0700
TZNAME:PDT
DTSTART:20240310T100000
END:DAYLIGHT
BEGIN:STANDARD
TZOFFSETFROM:-0700
TZOFFSETTO:-0800
TZNAME:PST
DTSTART:20241103T090000
END:STANDARD
BEGIN:DAYLIGHT
TZOFFSETFROM:-0800
TZOFFSETTO:-0700
TZNAME:PDT
DTSTART:20250309T100000
END:DAYLIGHT
BEGIN:STANDARD
TZOFFSETFROM:-0700
TZOFFSETTO:-0800
TZNAME:PST
DTSTART:20251102T090000
END:STANDARD
BEGIN:DAYLIGHT
TZOFFSETFROM:-0800
TZOFFSETTO:-0700
TZNAME:PDT
DTSTART:20260308T100000
END:DAYLIGHT
BEGIN:STANDARD
TZOFFSETFROM:-0700
TZOFFSETTO:-0800
TZNAME:PST
DTSTART:20261101T090000
END:STANDARD
END:VTIMEZONE
BEGIN:VEVENT
DTSTART;TZID=America/Los_Angeles:20250202T150000
DTEND;TZID=America/Los_Angeles:20250202T170000
DTSTAMP:20260425T144520
CREATED:20240202T190517Z
LAST-MODIFIED:20250127T224515Z
UID:15832-1738508400-1738515600@elks823.org
SUMMARY:Bingo Fundraiser - Open to the Public 3-5PM
DESCRIPTION:Come down to the lodge for BINGO! All proceeds go directly to CCVAC (Clark County Veterans Assistance Center). \nUse the QR code to buy your tickets ahead of time. Or go here: https://event.auctria.com/b25df4fa-f297-4512-ac3f-aaab27f85de2/ \n 
URL:https://elks823.org/event/bingo-fundraiser-open-to-the-public-3-5pm-2025-02-02/
CATEGORIES:Charity,Community,Games
ATTACH;FMTTYPE=image/png:https://elks823.org/wp-content/uploads/2025/01/CCVAC_Bingo_Horiz.png
END:VEVENT
END:VCALENDAR