BEGIN:VCALENDAR
VERSION:2.0
PRODID:-//Elks Lodge 823 - ECPv6.15.20//NONSGML v1.0//EN
CALSCALE:GREGORIAN
METHOD:PUBLISH
X-ORIGINAL-URL:https://elks823.org
X-WR-CALDESC:Events for Elks Lodge 823
REFRESH-INTERVAL;VALUE=DURATION:PT1H
X-Robots-Tag:noindex
X-PUBLISHED-TTL:PT1H
BEGIN:VTIMEZONE
TZID:America/Los_Angeles
BEGIN:DAYLIGHT
TZOFFSETFROM:-0800
TZOFFSETTO:-0700
TZNAME:PDT
DTSTART:20240310T100000
END:DAYLIGHT
BEGIN:STANDARD
TZOFFSETFROM:-0700
TZOFFSETTO:-0800
TZNAME:PST
DTSTART:20241103T090000
END:STANDARD
BEGIN:DAYLIGHT
TZOFFSETFROM:-0800
TZOFFSETTO:-0700
TZNAME:PDT
DTSTART:20250309T100000
END:DAYLIGHT
BEGIN:STANDARD
TZOFFSETFROM:-0700
TZOFFSETTO:-0800
TZNAME:PST
DTSTART:20251102T090000
END:STANDARD
BEGIN:DAYLIGHT
TZOFFSETFROM:-0800
TZOFFSETTO:-0700
TZNAME:PDT
DTSTART:20260308T100000
END:DAYLIGHT
BEGIN:STANDARD
TZOFFSETFROM:-0700
TZOFFSETTO:-0800
TZNAME:PST
DTSTART:20261101T090000
END:STANDARD
END:VTIMEZONE
BEGIN:VEVENT
DTSTART;TZID=America/Los_Angeles:20250205T180000
DTEND;TZID=America/Los_Angeles:20250205T200000
DTSTAMP:20260425T075706
CREATED:20220221T185446Z
LAST-MODIFIED:20220221T185446Z
UID:15855-1738778400-1738785600@elks823.org
SUMMARY:Bar Card Bingo 6-8PM
DESCRIPTION:Bar Card Bingo every Wednesday. All are welcome! \nBar Bingo is played with playing cards. It is $1.00 for 3 cards. An app randomly picks cards\, if you “match”\, you flip over that card. When all three cards (in 1 row) are flipped\, you have a Bingo!\nLots of members are there to help you play! Come on down\, but be careful…..you might have too much fun! \nElk Cove Menu is also available in Lounge.
URL:https://elks823.org/event/bar-card-bingo-6-8pm/2025-02-05/
CATEGORIES:Community,Food,Games
ATTACH;FMTTYPE=image/jpeg:https://elks823.org/wp-content/uploads/2021/09/BarBingo.jpg
END:VEVENT
BEGIN:VEVENT
DTSTART;TZID=America/Los_Angeles:20250205T190000
DTEND;TZID=America/Los_Angeles:20250205T210000
DTSTAMP:20260425T075706
CREATED:20240720T145935Z
LAST-MODIFIED:20240720T145935Z
UID:15863-1738782000-1738789200@elks823.org
SUMMARY:Taska & the Party Band
DESCRIPTION:The dance is from 7 p.m. to 9 p.m. each Wednesday.\nEach band member has a passion for the art of music and has made this journey into a career. For this group\, they don’t just bring the music\, they bring the party! \nCome early to get a seat as early as 6 p.m. Snacks and water are available for purchase. \n*Cover is $6 for Elk members and $10 for the general public.
URL:https://elks823.org/event/taska-party-band/2025-02-05/
CATEGORIES:Community,Dance,Food,Music
ATTACH;FMTTYPE=image/png:https://elks823.org/wp-content/uploads/2024/07/Taska_Band.png
END:VEVENT
END:VCALENDAR