BEGIN:VCALENDAR
VERSION:2.0
PRODID:-//Elks Lodge 823 - ECPv6.15.20//NONSGML v1.0//EN
CALSCALE:GREGORIAN
METHOD:PUBLISH
X-ORIGINAL-URL:https://elks823.org
X-WR-CALDESC:Events for Elks Lodge 823
REFRESH-INTERVAL;VALUE=DURATION:PT1H
X-Robots-Tag:noindex
X-PUBLISHED-TTL:PT1H
BEGIN:VTIMEZONE
TZID:America/Los_Angeles
BEGIN:DAYLIGHT
TZOFFSETFROM:-0800
TZOFFSETTO:-0700
TZNAME:PDT
DTSTART:20240310T100000
END:DAYLIGHT
BEGIN:STANDARD
TZOFFSETFROM:-0700
TZOFFSETTO:-0800
TZNAME:PST
DTSTART:20241103T090000
END:STANDARD
BEGIN:DAYLIGHT
TZOFFSETFROM:-0800
TZOFFSETTO:-0700
TZNAME:PDT
DTSTART:20250309T100000
END:DAYLIGHT
BEGIN:STANDARD
TZOFFSETFROM:-0700
TZOFFSETTO:-0800
TZNAME:PST
DTSTART:20251102T090000
END:STANDARD
BEGIN:DAYLIGHT
TZOFFSETFROM:-0800
TZOFFSETTO:-0700
TZNAME:PDT
DTSTART:20260308T100000
END:DAYLIGHT
BEGIN:STANDARD
TZOFFSETFROM:-0700
TZOFFSETTO:-0800
TZNAME:PST
DTSTART:20261101T090000
END:STANDARD
END:VTIMEZONE
BEGIN:VEVENT
DTSTART;TZID=America/Los_Angeles:20250220T180000
DTEND;TZID=America/Los_Angeles:20250220T220000
DTSTAMP:20260425T075728
CREATED:20231207T203921Z
LAST-MODIFIED:20250127T233202Z
UID:15912-1740074400-1740088800@elks823.org
SUMMARY:Galentine's Ropers & Rompers Party 6PM
DESCRIPTION:You are invited to celebrate Galentine’s at the Elks Lodge for a Ropers and Rompers Party. Ladies come in your best Mrs. Roper costume and Guys\, if you’d like to go\, wear your best Romper! \nWe will have games\, raffles\, karaoke\, and drink specials!\nFood and beverages are available for purchase in the lounge. \nThis is for Members and their Guests(guests need to be signed in). Free to attend\, we ask that you bring feminine hygiene products that we donate to a women’s shelter! \n  \n 
URL:https://elks823.org/event/galentines-day-party-630pm-2025-02-20/
CATEGORIES:Charity,Community,Food,Games,Music
ATTACH;FMTTYPE=image/png:https://elks823.org/wp-content/uploads/2025/01/Galentines-with-text.png
END:VEVENT
END:VCALENDAR