BEGIN:VCALENDAR
VERSION:2.0
PRODID:-//Elks Lodge 823 - ECPv6.15.20//NONSGML v1.0//EN
CALSCALE:GREGORIAN
METHOD:PUBLISH
X-WR-CALNAME:Elks Lodge 823
X-ORIGINAL-URL:https://elks823.org
X-WR-CALDESC:Events for Elks Lodge 823
REFRESH-INTERVAL;VALUE=DURATION:PT1H
X-Robots-Tag:noindex
X-PUBLISHED-TTL:PT1H
BEGIN:VTIMEZONE
TZID:America/Los_Angeles
BEGIN:DAYLIGHT
TZOFFSETFROM:-0800
TZOFFSETTO:-0700
TZNAME:PDT
DTSTART:20240310T100000
END:DAYLIGHT
BEGIN:STANDARD
TZOFFSETFROM:-0700
TZOFFSETTO:-0800
TZNAME:PST
DTSTART:20241103T090000
END:STANDARD
BEGIN:DAYLIGHT
TZOFFSETFROM:-0800
TZOFFSETTO:-0700
TZNAME:PDT
DTSTART:20250309T100000
END:DAYLIGHT
BEGIN:STANDARD
TZOFFSETFROM:-0700
TZOFFSETTO:-0800
TZNAME:PST
DTSTART:20251102T090000
END:STANDARD
BEGIN:DAYLIGHT
TZOFFSETFROM:-0800
TZOFFSETTO:-0700
TZNAME:PDT
DTSTART:20260308T100000
END:DAYLIGHT
BEGIN:STANDARD
TZOFFSETFROM:-0700
TZOFFSETTO:-0800
TZNAME:PST
DTSTART:20261101T090000
END:STANDARD
END:VTIMEZONE
BEGIN:VEVENT
DTSTART;TZID=America/Los_Angeles:20250402T173000
DTEND;TZID=America/Los_Angeles:20250402T183000
DTSTAMP:20260425T110737
CREATED:20250225T211753Z
LAST-MODIFIED:20250225T211753Z
UID:16056-1743615000-1743618600@elks823.org
SUMMARY:PER Meeting 5:30PM
DESCRIPTION:Meet with your fellow PERs and talk about charities\, events coming up\, volunteer\, and all-around camaraderie.
URL:https://elks823.org/event/per-meeting-530pm/2025-04-02/
CATEGORIES:Community,fundraiser
ATTACH;FMTTYPE=image/jpeg:https://elks823.org/wp-content/uploads/2023/01/PERA-Christmas-2022-scaled.jpg
END:VEVENT
BEGIN:VEVENT
DTSTART;TZID=America/Los_Angeles:20250402T180000
DTEND;TZID=America/Los_Angeles:20250402T210000
DTSTAMP:20260425T110737
CREATED:20250304T215218Z
LAST-MODIFIED:20260331T190551Z
UID:16058-1743616800-1743627600@elks823.org
SUMMARY:Bar Card Bingo 6PM
DESCRIPTION:Bar Card Bingo every Wednesday. All are welcome! \nBar Bingo is played with playing cards. It costs $1.00 for three cards. An app randomly picks cards; if you “match\,” you flip over that card. When all three cards (in one row) are flipped\, you have a Bingo!\nLots of members are there to help you play! Come on down\, but be careful…..you might have too much fun! \nSee Blast on Tuesdays or Facebook for food options.\nLounge opens at 4PM
URL:https://elks823.org/event/bar-card-bingo-6pm/2025-04-02/
CATEGORIES:Charity,Community,Games
ATTACH;FMTTYPE=image/jpeg:https://elks823.org/wp-content/uploads/2021/09/BarBingo.jpg
END:VEVENT
BEGIN:VEVENT
DTSTART;TZID=America/Los_Angeles:20250402T190000
DTEND;TZID=America/Los_Angeles:20250402T210000
DTSTAMP:20260425T110737
CREATED:20250304T215725Z
LAST-MODIFIED:20260331T200035Z
UID:16089-1743620400-1743627600@elks823.org
SUMMARY:Taska & the Party Band 7PM
DESCRIPTION:The dance is from 7 p.m. to 9 p.m. each Wednesday.\nEach band member has a passion for the art of music and has made this journey into a career. For this group\, they don’t just bring the music\, they bring the party! \nCome early to get a seat\, as early as 6 PM. The lounge offers Bar Bingo from 6-8PM. \n*Cover is $6 for Elk members and $10 for the general public. \nSee Blast on Tuesdays or Facebook for food options.\nLounge opens at 4 PM
URL:https://elks823.org/event/taska-the-party-band-7pm/2025-04-02/
CATEGORIES:Community,Dance,Food,Games,Music
ATTACH;FMTTYPE=image/png:https://elks823.org/wp-content/uploads/2025/02/wednesdays.png
END:VEVENT
END:VCALENDAR