BEGIN:VCALENDAR
VERSION:2.0
PRODID:-//Elks Lodge 823 - ECPv6.15.20//NONSGML v1.0//EN
CALSCALE:GREGORIAN
METHOD:PUBLISH
X-ORIGINAL-URL:https://elks823.org
X-WR-CALDESC:Events for Elks Lodge 823
REFRESH-INTERVAL;VALUE=DURATION:PT1H
X-Robots-Tag:noindex
X-PUBLISHED-TTL:PT1H
BEGIN:VTIMEZONE
TZID:America/Los_Angeles
BEGIN:DAYLIGHT
TZOFFSETFROM:-0800
TZOFFSETTO:-0700
TZNAME:PDT
DTSTART:20240310T100000
END:DAYLIGHT
BEGIN:STANDARD
TZOFFSETFROM:-0700
TZOFFSETTO:-0800
TZNAME:PST
DTSTART:20241103T090000
END:STANDARD
BEGIN:DAYLIGHT
TZOFFSETFROM:-0800
TZOFFSETTO:-0700
TZNAME:PDT
DTSTART:20250309T100000
END:DAYLIGHT
BEGIN:STANDARD
TZOFFSETFROM:-0700
TZOFFSETTO:-0800
TZNAME:PST
DTSTART:20251102T090000
END:STANDARD
BEGIN:DAYLIGHT
TZOFFSETFROM:-0800
TZOFFSETTO:-0700
TZNAME:PDT
DTSTART:20260308T100000
END:DAYLIGHT
BEGIN:STANDARD
TZOFFSETFROM:-0700
TZOFFSETTO:-0800
TZNAME:PST
DTSTART:20261101T090000
END:STANDARD
END:VTIMEZONE
BEGIN:VEVENT
DTSTART;TZID=America/Los_Angeles:20250405T180000
DTEND;TZID=America/Los_Angeles:20250405T220000
DTSTAMP:20260425T110721
CREATED:20250304T221559Z
LAST-MODIFIED:20250313T211136Z
UID:16135-1743876000-1743890400@elks823.org
SUMMARY:Black & Silver Inaugural Ball 6PM
DESCRIPTION:Members & Guests\, please join us for a Celebration of our New 25-26′ Officers!\nApril 5th\, 2025 at 6:00 PM\n$25 per person \n6:00 PM – Cocktails\n6:30 PM – Dinner\n7:00 PM – Introduction of Officers & Toast\n7:30 PM – Music by Unusual Aspects\n10:00 PM – 11 O’clock Toast \nDinner Menu: \n\nSlow-Roasted Brisket  *(Salmon option)\nGarlic & Herb Roasted Potatoes\nSeasonal Vegetable Medley\nCrisp House Salad with Signature Dressing\nWarm Buttery Dinner Rolls (GF option available)\nDessert: Cheesecake (GF option available)\n*Salmon – Please RSVP soon\, limited supply!\nWe have an add-on at no extra charge for Salmon and GF options.\n\n\n\n\n\nMusic by Unusual Aspects – High energy 5-piece group playing Rock\, Classic Rock\, Blues & Country. \nTickets are available in the Office\, T-F 10 am – 2 pm\, 360-256-0823\nor on Eventbrite – Click here!
URL:https://elks823.org/event/officers-black-silver-inaugural-ball/
CATEGORIES:Community,Dance,Food,Music,Volunteer
ATTACH;FMTTYPE=image/png:https://elks823.org/wp-content/uploads/2025/03/HORIZ_BlakcSilver.png
END:VEVENT
END:VCALENDAR