BEGIN:VCALENDAR
VERSION:2.0
PRODID:-//Elks Lodge 823 - ECPv6.15.20//NONSGML v1.0//EN
CALSCALE:GREGORIAN
METHOD:PUBLISH
X-WR-CALNAME:Elks Lodge 823
X-ORIGINAL-URL:https://elks823.org
X-WR-CALDESC:Events for Elks Lodge 823
REFRESH-INTERVAL;VALUE=DURATION:PT1H
X-Robots-Tag:noindex
X-PUBLISHED-TTL:PT1H
BEGIN:VTIMEZONE
TZID:America/Los_Angeles
BEGIN:DAYLIGHT
TZOFFSETFROM:-0800
TZOFFSETTO:-0700
TZNAME:PDT
DTSTART:20250309T100000
END:DAYLIGHT
BEGIN:STANDARD
TZOFFSETFROM:-0700
TZOFFSETTO:-0800
TZNAME:PST
DTSTART:20251102T090000
END:STANDARD
BEGIN:DAYLIGHT
TZOFFSETFROM:-0800
TZOFFSETTO:-0700
TZNAME:PDT
DTSTART:20260308T100000
END:DAYLIGHT
BEGIN:STANDARD
TZOFFSETFROM:-0700
TZOFFSETTO:-0800
TZNAME:PST
DTSTART:20261101T090000
END:STANDARD
BEGIN:DAYLIGHT
TZOFFSETFROM:-0800
TZOFFSETTO:-0700
TZNAME:PDT
DTSTART:20270314T100000
END:DAYLIGHT
BEGIN:STANDARD
TZOFFSETFROM:-0700
TZOFFSETTO:-0800
TZNAME:PST
DTSTART:20271107T090000
END:STANDARD
END:VTIMEZONE
BEGIN:VEVENT
DTSTART;TZID=America/Los_Angeles:20260106T170000
DTEND;TZID=America/Los_Angeles:20260106T190000
DTSTAMP:20260425T160422
CREATED:20250506T164103Z
LAST-MODIFIED:20260216T212824Z
UID:17647-1767718800-1767726000@elks823.org
SUMMARY:Taco Tuesday!
DESCRIPTION:Come to the Lodge for Taco Tuesday!\nFood:  tacos (hard and soft shell)\, quesadillas\, chips\, and taco salad.\nSalsa\, sour cream\, and guacamole sides.
URL:https://elks823.org/event/taco-tuesday-5/2026-01-06/
CATEGORIES:Community,Food,Volunteer
ATTACH;FMTTYPE=image/png:https://elks823.org/wp-content/uploads/2022/04/taco_tuesday.png
END:VEVENT
BEGIN:VEVENT
DTSTART;TZID=America/Los_Angeles:20260106T173000
DTEND;TZID=America/Los_Angeles:20260106T183000
DTSTAMP:20260425T160422
CREATED:20260102T182907Z
LAST-MODIFIED:20260102T182918Z
UID:17845-1767720600-1767724200@elks823.org
SUMMARY:Hoop Shoot Meeting 5:30PM
DESCRIPTION:Come to this meeting to discuss details for the Hoop Shoot that is on January 10th.\nWe need volunteers\, and our Chair Brian Buffington would like to narrow down the details of the event! \n*All are welcome! Come early for Taco Tuesday beginning at 5PM \nLounge opens at 4PM.
URL:https://elks823.org/event/hoop-shoot-meeting/
CATEGORIES:Community,Food,fundraiser,Games,Volunteer
ATTACH;FMTTYPE=image/png:https://elks823.org/wp-content/uploads/2026/01/Hoop-Shoot-2026.png
END:VEVENT
BEGIN:VEVENT
DTSTART;TZID=America/Los_Angeles:20260106T183000
DTEND;TZID=America/Los_Angeles:20260106T193000
DTSTAMP:20260425T160422
CREATED:20250304T214549Z
LAST-MODIFIED:20260331T200711Z
UID:17636-1767724200-1767727800@elks823.org
SUMMARY:Officer Meeting 6:30PM
DESCRIPTION:Officer Meeting/Ritual Practice\n6:30 PM
URL:https://elks823.org/event/officer-meeting-6pm-2025-05-06/2026-01-06/
CATEGORIES:Community
ATTACH;FMTTYPE=image/jpeg:https://elks823.org/wp-content/uploads/2025/03/Officer-Meeting.jpg
END:VEVENT
END:VCALENDAR