BEGIN:VCALENDAR
VERSION:2.0
PRODID:-//Elks Lodge 823 - ECPv6.15.20//NONSGML v1.0//EN
CALSCALE:GREGORIAN
METHOD:PUBLISH
X-ORIGINAL-URL:https://elks823.org
X-WR-CALDESC:Events for Elks Lodge 823
REFRESH-INTERVAL;VALUE=DURATION:PT1H
X-Robots-Tag:noindex
X-PUBLISHED-TTL:PT1H
BEGIN:VTIMEZONE
TZID:America/Los_Angeles
BEGIN:DAYLIGHT
TZOFFSETFROM:-0800
TZOFFSETTO:-0700
TZNAME:PDT
DTSTART:20250309T100000
END:DAYLIGHT
BEGIN:STANDARD
TZOFFSETFROM:-0700
TZOFFSETTO:-0800
TZNAME:PST
DTSTART:20251102T090000
END:STANDARD
BEGIN:DAYLIGHT
TZOFFSETFROM:-0800
TZOFFSETTO:-0700
TZNAME:PDT
DTSTART:20260308T100000
END:DAYLIGHT
BEGIN:STANDARD
TZOFFSETFROM:-0700
TZOFFSETTO:-0800
TZNAME:PST
DTSTART:20261101T090000
END:STANDARD
BEGIN:DAYLIGHT
TZOFFSETFROM:-0800
TZOFFSETTO:-0700
TZNAME:PDT
DTSTART:20270314T100000
END:DAYLIGHT
BEGIN:STANDARD
TZOFFSETFROM:-0700
TZOFFSETTO:-0800
TZNAME:PST
DTSTART:20271107T090000
END:STANDARD
END:VTIMEZONE
BEGIN:VEVENT
DTSTART;TZID=America/Los_Angeles:20260102T190000
DTEND;TZID=America/Los_Angeles:20260102T210000
DTSTAMP:20260424T041800
CREATED:20251125T200149Z
LAST-MODIFIED:20260102T202051Z
UID:17738-1767380400-1767387600@elks823.org
SUMMARY:Elk Town Music 7PM
DESCRIPTION:Come in for a great night of music\, dancing\, and fellowship! Music starts at 7:00 PMFeaturing your favorite hits from our Elk Town Music DJ Requests welcome — help create the fun! \n\nCome early\, wear red for R.E.D. Night\, and show your support for our deployed Service Members. \n\n\nWant to help DJ or share ideas to make this monthly event even better? Contact PER Ron Taylor.
URL:https://elks823.org/event/elk-town-music-7pm-2026-01-02/
CATEGORIES:Charity,Community,Dance,Food,fundraiser,Music,Volunteer
ATTACH;FMTTYPE=image/png:https://elks823.org/wp-content/uploads/2025/11/Elk-Town-Music-8.5-x-11-in.png
END:VEVENT
BEGIN:VEVENT
DTSTART;TZID=America/Los_Angeles:20260103T160000
DTEND;TZID=America/Los_Angeles:20260103T213000
DTSTAMP:20260424T041800
CREATED:20250925T214607Z
LAST-MODIFIED:20260102T182514Z
UID:17841-1767456000-1767475800@elks823.org
SUMMARY:Seahawks Club Kickoff 5:00 PM
DESCRIPTION:The Seahawks Club is back!\nVS. SF 49ers Kickoff 5:00 PM\nLounge opens at 4 PM. \nPotluck – Bring something to share! Meet in the lounge with your fellow Elk Members. \n*You do not need to be a member of the Seahawks Club to come to the lodge and enjoy the game in the lounge with your fellow Elks. Bring a potluck item to share – all are welcome! \n 
URL:https://elks823.org/event/seahawks-club-kickoff-520pm-2025-11-30-2025-12-21-2026-01-03/
CATEGORIES:Charity,Community,Food,fundraiser,Games,Hawks Club,Volunteer
END:VEVENT
BEGIN:VEVENT
DTSTART;TZID=America/Los_Angeles:20260107T180000
DTEND;TZID=America/Los_Angeles:20260107T210000
DTSTAMP:20260424T041800
CREATED:20250304T215218Z
LAST-MODIFIED:20260331T190642Z
UID:17690-1767808800-1767819600@elks823.org
SUMMARY:Bar Card Bingo 6PM
DESCRIPTION:Bar Card Bingo every Wednesday. All are welcome! \nBar Bingo is played with playing cards. It costs $1.00 for three cards. An app randomly picks cards; if you “match\,” you flip over that card. When all three cards (in one row) are flipped\, you have a Bingo!\nLots of members are there to help you play! Come on down\, but be careful…..you might have too much fun! \nSee Blast on Tuesdays or Facebook for food options.\nLounge opens at 4PM
URL:https://elks823.org/event/bar-card-bingo-6pm/2026-01-07/
CATEGORIES:Charity,Community,Games
ATTACH;FMTTYPE=image/jpeg:https://elks823.org/wp-content/uploads/2021/09/BarBingo.jpg
END:VEVENT
BEGIN:VEVENT
DTSTART;TZID=America/Los_Angeles:20260108T170000
DTEND;TZID=America/Los_Angeles:20260108T200000
DTSTAMP:20260424T041800
CREATED:20251111T184829Z
LAST-MODIFIED:20260102T183225Z
UID:17849-1767891600-1767902400@elks823.org
SUMMARY:Winter Rock Painting Party 5PM
DESCRIPTION:Winter Rock Painting Party! \n\nThursday\, January 8 • 5–8 PMIn the Stag Bar\n\n\nCome hang out with fellow Elks and get creative painting rocks with fun Christmas themes!No experience needed — we’ll have supplies ready\, bring your imagination and a smile. \n\n It’s a Potluck! Bring a dish to share while you paint and mingle. Donations accepted for Children’s Therapy.\n\nLet’s relax\, create\, and celebrate the cozy season together.
URL:https://elks823.org/event/autumn-rock-painting-party-5pm-2025-12-11-2026-01-08/
CATEGORIES:Charity,Class,Community,Food,fundraiser
ATTACH;FMTTYPE=image/png:https://elks823.org/wp-content/uploads/2026/01/1-8_Winter-Rock-Painting.png
END:VEVENT
BEGIN:VEVENT
DTSTART;TZID=America/Los_Angeles:20260109T180000
DTEND;TZID=America/Los_Angeles:20260109T210000
DTSTAMP:20260424T041800
CREATED:20250304T220809Z
LAST-MODIFIED:20260102T201630Z
UID:17711-1767981600-1767992400@elks823.org
SUMMARY:Emblem Club Dinner 6PM
DESCRIPTION:Dinner is served 6 – 7:00 PM *Moved to 2nd Friday this month!\nLasagna & cheesy bread\, $20\n(Includes roll with butter\, Salad Bar\, homemade dessert\, and coffee and tea included). \nElk Races in the lounge. 7-9 PM \n*Please make reservations in the office. 360-256-0823 \n*Lounge opens at 4 PM.
URL:https://elks823.org/event/emblem-club-dinner-6pm-4-2025-05-02-2025-07-11-2025-08-01-2025-09-05-2025-11-07-2026-01-02/
CATEGORIES:Charity,Community,Food,fundraiser
ATTACH;FMTTYPE=image/png:https://elks823.org/wp-content/uploads/2025/03/Emblem_Dinner.png
END:VEVENT
BEGIN:VEVENT
DTSTART;TZID=America/Los_Angeles:20260109T190000
DTEND;TZID=America/Los_Angeles:20260109T210000
DTSTAMP:20260424T041800
CREATED:20250304T223815Z
LAST-MODIFIED:20260331T203005Z
UID:17783-1767985200-1767992400@elks823.org
SUMMARY:Elk Races 7PM
DESCRIPTION:We are starting Elk Races on the 2nd and 4th Fridays of the Month. (Unless otherwise listed) \nFor anyone who has not yet participated in Elk Racing\, it’s another low-stakes gambling game. \n\n\n\n\n\n\n\n\nParticipants bet between $1-5 on one or more elks (six total)\nOdds are calculated based on the number of bets per elk; Elk #1 might pay 2/1 ($2 for every $1 bet); Elk #4 might pay 10/1 ($10 for every $1 bet)\nDice are rolled to move the elks progressively along the spots on their lane\nThe First Elk to cross the finish line is the winner\, and all who bet on this elk are paid out based on the odds\n\n*On Friday nights\, the kitchen is closed unless otherwise noted in Blast/Facebook. Members and Guests are allowed to bring food in or have it delivered.
URL:https://elks823.org/event/elk-races-7pm-2/2026-01-09/
CATEGORIES:Charity,Community,fundraiser,Games
ATTACH;FMTTYPE=image/png:https://elks823.org/wp-content/uploads/2024/04/Lounge-Screens-april-may-15.png
END:VEVENT
BEGIN:VEVENT
DTSTART;TZID=America/Los_Angeles:20260110T100000
DTEND;TZID=America/Los_Angeles:20260110T140000
DTSTAMP:20260424T041800
CREATED:20260102T183554Z
LAST-MODIFIED:20260102T183621Z
UID:17857-1768039200-1768053600@elks823.org
SUMMARY:Hoop Shoot 11AM
DESCRIPTION:2026 HOOP SHOOT! A Free-Throw Contest for Kids Ages 8–13\nJoin us for a fun and energetic community event where young athletes can show off their free-throw skills and compete for a chance to advance to district\, state\, and beyond!\n\n Date: Saturday\, January 10th\, 2026 Time: 11:00 AM – 1:30 PM Location: Open House Ministries900 W 12th St\, Vancouver\, WA 98660Cost: FREE for all participants!\n\nWho Can Participate?Boys and girls ages 8–13 (age groups will compete separately).\n\nEvent Timeline:\n10:30 AM – Registration Opens\n11:00 AM – Welcome & Opening Remarks\n11:15 AM – Ages 8–9 Competition\n11:45 AM – Ages 10–11 Competition\n12:15 PM – Ages 12–13 Competition\n12:45 PM – Tie Breakers (if any)\n1:15 PM – Winners Announced\n1:30 PM – Event Ends\n\nWant to Volunteer?We’d love your help! Volunteers are needed for setup\, check-in\, retrieving the ball\, scoring\, and cleanup. Come to our Meeting on January 6th at 5:30 in the Stag Bar to get involved\, or contact Brian Buffington.
URL:https://elks823.org/event/hoop-shoot-11am/
CATEGORIES:Charity,Class,Community,Games,Volunteer
ATTACH;FMTTYPE=image/png:https://elks823.org/wp-content/uploads/2026/01/1-10_Hoop-Shoot-2026.png
END:VEVENT
BEGIN:VEVENT
DTSTART;TZID=America/Los_Angeles:20260113T190000
DTEND;TZID=America/Los_Angeles:20260113T210000
DTSTAMP:20260424T041800
CREATED:20250304T222847Z
LAST-MODIFIED:20260331T201320Z
UID:17773-1768330800-1768338000@elks823.org
SUMMARY:Lodge Meeting 7PM
DESCRIPTION:The lounge opens at 4 PM\, closes during meetings\, then re-opens after the meeting until 10 PM. \nFood: Taco Tuesday! Come down for some tacos\, quesadillas\, taquitos\, chips\, and salsa.
URL:https://elks823.org/event/lodge-meeting-7pm-6/2026-01-13/
CATEGORIES:Charity,Community,fundraiser,Games,Lodge meeting,Volunteer
ATTACH;FMTTYPE=image/png:https://elks823.org/wp-content/uploads/2022/08/Lounge-Screens-april-may-12.png
END:VEVENT
BEGIN:VEVENT
DTSTART;TZID=America/Los_Angeles:20260114T180000
DTEND;TZID=America/Los_Angeles:20260114T210000
DTSTAMP:20260424T041800
CREATED:20250304T215218Z
LAST-MODIFIED:20260331T190642Z
UID:17691-1768413600-1768424400@elks823.org
SUMMARY:Bar Card Bingo 6PM
DESCRIPTION:Bar Card Bingo every Wednesday. All are welcome! \nBar Bingo is played with playing cards. It costs $1.00 for three cards. An app randomly picks cards; if you “match\,” you flip over that card. When all three cards (in one row) are flipped\, you have a Bingo!\nLots of members are there to help you play! Come on down\, but be careful…..you might have too much fun! \nSee Blast on Tuesdays or Facebook for food options.\nLounge opens at 4PM
URL:https://elks823.org/event/bar-card-bingo-6pm/2026-01-14/
CATEGORIES:Charity,Community,Games
ATTACH;FMTTYPE=image/jpeg:https://elks823.org/wp-content/uploads/2021/09/BarBingo.jpg
END:VEVENT
BEGIN:VEVENT
DTSTART;VALUE=DATE:20260115
DTEND;VALUE=DATE:20260119
DTSTAMP:20260424T041800
CREATED:20241125T231342Z
LAST-MODIFIED:20260102T184004Z
UID:17859-1768435200-1768780799@elks823.org
SUMMARY:WSEA Winter Convention
DESCRIPTION:Winter Convention – Seatac\nJanuary 15th – 18th \nWSEA Winter Convention
URL:https://elks823.org/event/wsea-winter-convention-2026-01-15/
CATEGORIES:Charity,Class,Community,Food,fundraiser,Games,Volunteer
ATTACH;FMTTYPE=image/png:https://elks823.org/wp-content/uploads/2021/12/wa_state_elks.png
END:VEVENT
BEGIN:VEVENT
DTSTART;TZID=America/Los_Angeles:20260121T180000
DTEND;TZID=America/Los_Angeles:20260121T210000
DTSTAMP:20260424T041800
CREATED:20250304T215218Z
LAST-MODIFIED:20260331T190642Z
UID:17692-1769018400-1769029200@elks823.org
SUMMARY:Bar Card Bingo 6PM
DESCRIPTION:Bar Card Bingo every Wednesday. All are welcome! \nBar Bingo is played with playing cards. It costs $1.00 for three cards. An app randomly picks cards; if you “match\,” you flip over that card. When all three cards (in one row) are flipped\, you have a Bingo!\nLots of members are there to help you play! Come on down\, but be careful…..you might have too much fun! \nSee Blast on Tuesdays or Facebook for food options.\nLounge opens at 4PM
URL:https://elks823.org/event/bar-card-bingo-6pm/2026-01-21/
CATEGORIES:Charity,Community,Games
ATTACH;FMTTYPE=image/jpeg:https://elks823.org/wp-content/uploads/2021/09/BarBingo.jpg
END:VEVENT
BEGIN:VEVENT
DTSTART;TZID=America/Los_Angeles:20260123T190000
DTEND;TZID=America/Los_Angeles:20260123T210000
DTSTAMP:20260424T041800
CREATED:20250304T223815Z
LAST-MODIFIED:20260331T203005Z
UID:17784-1769194800-1769202000@elks823.org
SUMMARY:Elk Races 7PM
DESCRIPTION:We are starting Elk Races on the 2nd and 4th Fridays of the Month. (Unless otherwise listed) \nFor anyone who has not yet participated in Elk Racing\, it’s another low-stakes gambling game. \n\n\n\n\n\n\n\n\nParticipants bet between $1-5 on one or more elks (six total)\nOdds are calculated based on the number of bets per elk; Elk #1 might pay 2/1 ($2 for every $1 bet); Elk #4 might pay 10/1 ($10 for every $1 bet)\nDice are rolled to move the elks progressively along the spots on their lane\nThe First Elk to cross the finish line is the winner\, and all who bet on this elk are paid out based on the odds\n\n*On Friday nights\, the kitchen is closed unless otherwise noted in Blast/Facebook. Members and Guests are allowed to bring food in or have it delivered.
URL:https://elks823.org/event/elk-races-7pm-2/2026-01-23/
CATEGORIES:Charity,Community,fundraiser,Games
ATTACH;FMTTYPE=image/png:https://elks823.org/wp-content/uploads/2024/04/Lounge-Screens-april-may-15.png
END:VEVENT
BEGIN:VEVENT
DTSTART;TZID=America/Los_Angeles:20260125T090000
DTEND;TZID=America/Los_Angeles:20260125T110000
DTSTAMP:20260424T041800
CREATED:20241126T201040Z
LAST-MODIFIED:20260102T185200Z
UID:17880-1769331600-1769338800@elks823.org
SUMMARY:Race for Warmth
DESCRIPTION:Currently\, we have about 15 or so people\, but always looking for more! \nSunday\, January 25\, for the 12th annual Race for Warmth\, a 5k/10k run/walk or bike ride to support Operation Warm Heart\, a Clark Public Utilities customer-funded program to help limited-income families in crises who need help paying their electric bills. \nEvery dollar of your Race for Warmth registration goes directly to Operation Warm Heart. Over the last ten years\, the race alone has raised nearly $500\,000 for local families. \nThe race will take place on January 25. There will be prizes\, a kids’ run\, and fun for the whole family!\nCheck out this site for more details: https://www.clarkpublicutilities.com/event/race-for-warmth/ \nYou can still register up until the race!
URL:https://elks823.org/event/race-for-warmth-2026-01-25/
CATEGORIES:Charity,Community,Volunteer
ATTACH;FMTTYPE=image/png:https://elks823.org/wp-content/uploads/2026/01/1-25_Raceforwarmth.png
END:VEVENT
BEGIN:VEVENT
DTSTART;TZID=America/Los_Angeles:20260127T190000
DTEND;TZID=America/Los_Angeles:20260127T210000
DTSTAMP:20260424T041800
CREATED:20250304T222847Z
LAST-MODIFIED:20260331T201321Z
UID:17774-1769540400-1769547600@elks823.org
SUMMARY:Lodge Meeting 7PM
DESCRIPTION:The lounge opens at 4 PM\, closes during meetings\, then re-opens after the meeting until 10 PM. \nFood: Taco Tuesday! Come down for some tacos\, quesadillas\, taquitos\, chips\, and salsa.
URL:https://elks823.org/event/lodge-meeting-7pm-6/2026-01-27/
CATEGORIES:Charity,Community,fundraiser,Games,Lodge meeting,Volunteer
ATTACH;FMTTYPE=image/png:https://elks823.org/wp-content/uploads/2022/08/Lounge-Screens-april-may-12.png
END:VEVENT
BEGIN:VEVENT
DTSTART;TZID=America/Los_Angeles:20260128T180000
DTEND;TZID=America/Los_Angeles:20260128T210000
DTSTAMP:20260424T041800
CREATED:20250304T215218Z
LAST-MODIFIED:20260331T190643Z
UID:17693-1769623200-1769634000@elks823.org
SUMMARY:Bar Card Bingo 6PM
DESCRIPTION:Bar Card Bingo every Wednesday. All are welcome! \nBar Bingo is played with playing cards. It costs $1.00 for three cards. An app randomly picks cards; if you “match\,” you flip over that card. When all three cards (in one row) are flipped\, you have a Bingo!\nLots of members are there to help you play! Come on down\, but be careful…..you might have too much fun! \nSee Blast on Tuesdays or Facebook for food options.\nLounge opens at 4PM
URL:https://elks823.org/event/bar-card-bingo-6pm/2026-01-28/
CATEGORIES:Charity,Community,Games
ATTACH;FMTTYPE=image/jpeg:https://elks823.org/wp-content/uploads/2021/09/BarBingo.jpg
END:VEVENT
BEGIN:VEVENT
DTSTART;TZID=America/Los_Angeles:20260131T170000
DTEND;TZID=America/Los_Angeles:20260131T220000
DTSTAMP:20260424T041800
CREATED:20260102T185607Z
LAST-MODIFIED:20260102T185928Z
UID:17884-1769878800-1769896800@elks823.org
SUMMARY:11th Annual PER White Elephant Auction 5PM
DESCRIPTION: 11th Annual PER White Elephant Auction  January 31 Auction begins at 5:00 PM Dining Room at the Lodge\n\nJoin us for one of the most entertaining and anticipated events of the year — the PER White Elephant Auction! Bring your sense of humor\, a wrapped surprise\, and get ready for a fun-filled evening supporting great causes.\n\n How it works:Each person must bring at least one new (unused) item for the auctionWrap items in newspaper or white paper and write the value on the top of the gift\n\n Auction Details:Auction starts at 5:00 PMYou will need to sign up for an auction numberAt the end\, you will pay with cash or check only for auction item payments*Proceeds support PER charities\, scholarships\, and lodge needs\n\n Extra Treats from the Emblem Club:Appetizers available for purchase during the auctionA homemade pie auction\, with proceeds benefiting Emblem Club charities\n\n The Infamous White Elephant:One of the auction items will be the legendary White Elephant — hidden among the treasures! If you win it\, you’ll have the honor (and responsibility ) of caring for it for the entire year\, until it’s auctioned off again at next year’s event.Who knows… You might get the infamous WHITE ELEPHANT!\n\nAfter the auction\, stick around\, relax\, and enjoy the rest of the evening at the Lodge. This is a great way to regift something new that just wasn’t your thing — and have a lot of laughs along the way!\n\n We hope to see you there!
URL:https://elks823.org/event/11th-annual-per-white-elephant-auction-5pm/
CATEGORIES:Charity,Community,Food,fundraiser,Games,Volunteer
ATTACH;FMTTYPE=image/png:https://elks823.org/wp-content/uploads/2026/01/1-31_WhiteElephant_HORIZ.png
END:VEVENT
END:VCALENDAR