BEGIN:VCALENDAR
VERSION:2.0
PRODID:-//Elks Lodge 823 - ECPv6.15.20//NONSGML v1.0//EN
CALSCALE:GREGORIAN
METHOD:PUBLISH
X-WR-CALNAME:Elks Lodge 823
X-ORIGINAL-URL:https://elks823.org
X-WR-CALDESC:Events for Elks Lodge 823
REFRESH-INTERVAL;VALUE=DURATION:PT1H
X-Robots-Tag:noindex
X-PUBLISHED-TTL:PT1H
BEGIN:VTIMEZONE
TZID:America/Los_Angeles
BEGIN:DAYLIGHT
TZOFFSETFROM:-0800
TZOFFSETTO:-0700
TZNAME:PDT
DTSTART:20250309T100000
END:DAYLIGHT
BEGIN:STANDARD
TZOFFSETFROM:-0700
TZOFFSETTO:-0800
TZNAME:PST
DTSTART:20251102T090000
END:STANDARD
BEGIN:DAYLIGHT
TZOFFSETFROM:-0800
TZOFFSETTO:-0700
TZNAME:PDT
DTSTART:20260308T100000
END:DAYLIGHT
BEGIN:STANDARD
TZOFFSETFROM:-0700
TZOFFSETTO:-0800
TZNAME:PST
DTSTART:20261101T090000
END:STANDARD
BEGIN:DAYLIGHT
TZOFFSETFROM:-0800
TZOFFSETTO:-0700
TZNAME:PDT
DTSTART:20270314T100000
END:DAYLIGHT
BEGIN:STANDARD
TZOFFSETFROM:-0700
TZOFFSETTO:-0800
TZNAME:PST
DTSTART:20271107T090000
END:STANDARD
END:VTIMEZONE
BEGIN:VEVENT
DTSTART;TZID=America/Los_Angeles:20260204T180000
DTEND;TZID=America/Los_Angeles:20260204T210000
DTSTAMP:20260424T040143
CREATED:20250304T215218Z
LAST-MODIFIED:20260331T190643Z
UID:17899-1770228000-1770238800@elks823.org
SUMMARY:Bar Card Bingo 6PM
DESCRIPTION:Bar Card Bingo every Wednesday. All are welcome! \nBar Bingo is played with playing cards. It costs $1.00 for three cards. An app randomly picks cards; if you “match\,” you flip over that card. When all three cards (in one row) are flipped\, you have a Bingo!\nLots of members are there to help you play! Come on down\, but be careful…..you might have too much fun! \nSee Blast on Tuesdays or Facebook for food options.\nLounge opens at 4PM
URL:https://elks823.org/event/bar-card-bingo-6pm/2026-02-04/
CATEGORIES:Charity,Community,Games
ATTACH;FMTTYPE=image/jpeg:https://elks823.org/wp-content/uploads/2021/09/BarBingo.jpg
END:VEVENT
BEGIN:VEVENT
DTSTART;TZID=America/Los_Angeles:20260206T180000
DTEND;TZID=America/Los_Angeles:20260206T210000
DTSTAMP:20260424T040143
CREATED:20250304T220809Z
LAST-MODIFIED:20260216T220735Z
UID:17970-1770400800-1770411600@elks823.org
SUMMARY:Emblem Club Dinner 6PM
DESCRIPTION:Dinner is served 6 – 7:00 PM\nChicken Enchiladas\, Black Beans\, Spanish Rice $20\n(Includes roll with butter\, Salad Bar\, homemade dessert\, and coffee and tea included). \nWe will have DJ Ron playing music in the lounge. 7-9 PM All are welcome. You don’t have to be a dancer\, just come and enjoy the music! \n*Please make reservations in the office. 360-256-0823 \n*Lounge opens at 4 PM.
URL:https://elks823.org/event/emblem-club-dinner-6pm-4-2025-05-02-2025-07-11-2025-08-01-2025-09-05-2025-11-07-2025-12-05-2026-02-06/2026-02-06/
CATEGORIES:Charity,Community,Food,fundraiser
ATTACH;FMTTYPE=image/png:https://elks823.org/wp-content/uploads/2025/03/Emblem_Dinner.png
END:VEVENT
BEGIN:VEVENT
DTSTART;TZID=America/Los_Angeles:20260206T190000
DTEND;TZID=America/Los_Angeles:20260206T210000
DTSTAMP:20260424T040143
CREATED:20251125T200149Z
LAST-MODIFIED:20260331T193243Z
UID:17975-1770404400-1770411600@elks823.org
SUMMARY:Elk Town Music 7PM
DESCRIPTION:Emblem Club Dinner starts the night at 6 PM. Then stick around for a great night of music\, dancing\, and fellowship! Music starts at 7:00 PMFeaturing your favorite hits from our Elk Town Music DJ Requests welcome — help create the fun! \n\nCome early\, wear red for R.E.D. Night\, and show your support for our deployed Service Members. \n\nWant to help DJ or share ideas to make this monthly event even better? Contact PER Ron Taylor.
URL:https://elks823.org/event/elk-town-music-7pm/2026-02-06/
CATEGORIES:Charity,Community,Dance,Food,fundraiser,Music,Volunteer
ATTACH;FMTTYPE=image/png:https://elks823.org/wp-content/uploads/2025/11/Elk-Town-Music-8.5-x-11-in.png
END:VEVENT
BEGIN:VEVENT
DTSTART;TZID=America/Los_Angeles:20260207T173000
DTEND;TZID=America/Los_Angeles:20260207T220000
DTSTAMP:20260424T040143
CREATED:20260102T202357Z
LAST-MODIFIED:20260102T202357Z
UID:17978-1770485400-1770501600@elks823.org
SUMMARY:Benefit Bash Live Music 5:30PM
DESCRIPTION:*One Night Only! Vancouver Elks\, featuring Live Music by “The Bitchins.”This is a benefit bash for Parkinson’s Resources. \n\nTime: Doors open at 5:30 PMMusic is 6-10 PMFunk and soul music with a full horn section and kickin’ vocals. Come groove with us! \n\nTickets are $25https://loom.ly/6lcFVpM
URL:https://elks823.org/event/benefit-bash-live-music-530pm/
CATEGORIES:Charity,Community,Dance,fundraiser,Music
ATTACH;FMTTYPE=image/png:https://elks823.org/wp-content/uploads/2026/01/Bitchins-print-newsletter-square.png
END:VEVENT
BEGIN:VEVENT
DTSTART;TZID=America/Los_Angeles:20260211T180000
DTEND;TZID=America/Los_Angeles:20260211T210000
DTSTAMP:20260424T040143
CREATED:20250304T215218Z
LAST-MODIFIED:20260331T190649Z
UID:17900-1770832800-1770843600@elks823.org
SUMMARY:Bar Card Bingo 6PM
DESCRIPTION:Bar Card Bingo every Wednesday. All are welcome! \nBar Bingo is played with playing cards. It costs $1.00 for three cards. An app randomly picks cards; if you “match\,” you flip over that card. When all three cards (in one row) are flipped\, you have a Bingo!\nLots of members are there to help you play! Come on down\, but be careful…..you might have too much fun! \nSee Blast on Tuesdays or Facebook for food options.\nLounge opens at 4PM
URL:https://elks823.org/event/bar-card-bingo-6pm/2026-02-11/
CATEGORIES:Charity,Community,Games
ATTACH;FMTTYPE=image/jpeg:https://elks823.org/wp-content/uploads/2021/09/BarBingo.jpg
END:VEVENT
BEGIN:VEVENT
DTSTART;TZID=America/Los_Angeles:20260212T180000
DTEND;TZID=America/Los_Angeles:20260212T220000
DTSTAMP:20260424T040143
CREATED:20260102T192544Z
LAST-MODIFIED:20260102T192544Z
UID:17933-1770919200-1770933600@elks823.org
SUMMARY:Galentine's Day Party 6PM
DESCRIPTION: Galentine’s 2026: “No Where to Wear It” \n Thursday\, February 12\, 2026 6:00–10:00 PM At the Lodge\n\nGet ready for one of our most beloved annual events! Galentine’s 2026 is your official excuse to finally wear that outfit — the fabulous dress\, bold accessories\, or statement shoes that have been waiting for a special occasion. Guess what? Galentine’s IS that occasion!\n\nGrab your gal-pals (and Malentines\, too!) and join us for a night filled with friendship\, fashion\, and fun. Everyone is welcome\, and our Malentines crew will be on hand helping to make the night unforgettable — including their legendary\, impromptu dance numbers .\n\n This year’s Galentine’s is also a Membership Drive and OPEN TO THE PUBLIC\, so invite friends who may be interested in joining our Elks Family. It’s the perfect way to introduce newcomers to the warmth and fun of our Lodge community.\n\n Tickets• $10 advance (via Eventbrite – coming soon)• $15 at the door\n\n What’s Happening Pop-up vintage clothing shop (find your next treasure!) Purse Auction (bid on something fabulous) Karaoke (channel your inner diva) Dancing all night long Delicious hors d’oeuvres Drink specials all night\n\nDon’t miss this chance to celebrate friendship\, fashion\, and fun. We’ll see you on the dance floor!
URL:https://elks823.org/event/galentines-day-party-6pm/
CATEGORIES:Charity,Community,Dance,Food,fundraiser,Games,Karaoke,Music,Volunteer
ATTACH;FMTTYPE=image/png:https://elks823.org/wp-content/uploads/2026/01/2-12_Galentines.png
END:VEVENT
BEGIN:VEVENT
DTSTART;TZID=America/Los_Angeles:20260213T190000
DTEND;TZID=America/Los_Angeles:20260213T210000
DTSTAMP:20260424T040143
CREATED:20250304T223815Z
LAST-MODIFIED:20260216T220013Z
UID:17903-1771009200-1771016400@elks823.org
SUMMARY:Elk Races 7PM
DESCRIPTION:We are starting Elk Races on the 2nd and 4th Fridays of the Month. (Unless otherwise listed) \nFor anyone who has not yet participated in Elk Racing\, it’s another low-stakes gambling game. \n\n\n\n\n\n\n\n\nParticipants bet between $1-5 on one or more elks (six total)\nOdds are calculated based on the number of bets per elk; Elk #1 might pay 2/1 ($2 for every $1 bet); Elk #4 might pay 10/1 ($10 for every $1 bet)\nDice are rolled to move the elks progressively along the spots on their lane\nThe First Elk to cross the finish line is the winner\, and all who bet on this elk are paid out based on the odds\n\n*On Friday nights\, the kitchen is closed unless otherwise noted in Blast/Facebook. Members and Guests are allowed to bring food in or have it delivered.
URL:https://elks823.org/event/elk-races-7pm-2/2026-02-13/
CATEGORIES:Charity,Community,fundraiser,Games
ATTACH;FMTTYPE=image/png:https://elks823.org/wp-content/uploads/2024/04/Lounge-Screens-april-may-15.png
END:VEVENT
BEGIN:VEVENT
DTSTART;TZID=America/Los_Angeles:20260218T180000
DTEND;TZID=America/Los_Angeles:20260218T210000
DTSTAMP:20260424T040143
CREATED:20250304T215218Z
LAST-MODIFIED:20260331T190656Z
UID:17901-1771437600-1771448400@elks823.org
SUMMARY:Bar Card Bingo 6PM
DESCRIPTION:Bar Card Bingo every Wednesday. All are welcome! \nBar Bingo is played with playing cards. It costs $1.00 for three cards. An app randomly picks cards; if you “match\,” you flip over that card. When all three cards (in one row) are flipped\, you have a Bingo!\nLots of members are there to help you play! Come on down\, but be careful…..you might have too much fun! \nSee Blast on Tuesdays or Facebook for food options.\nLounge opens at 4PM
URL:https://elks823.org/event/bar-card-bingo-6pm/2026-02-18/
CATEGORIES:Charity,Community,Games
ATTACH;FMTTYPE=image/jpeg:https://elks823.org/wp-content/uploads/2021/09/BarBingo.jpg
END:VEVENT
BEGIN:VEVENT
DTSTART;TZID=America/Los_Angeles:20260220T170000
DTEND;TZID=America/Los_Angeles:20260220T210000
DTSTAMP:20260424T040143
CREATED:20250304T230853Z
LAST-MODIFIED:20260318T171546Z
UID:17989-1771606800-1771621200@elks823.org
SUMMARY:Officer Steak Night 5PM\, Live Music by SlimJims
DESCRIPTION:Steak $27 comes with a salad\, baked potato\, and vegetables.\nOr select Fish\, $25: Salmon with a salad\, baked potato\, and vegetables.\n*The steak will be upgraded to Ribeye from Sirloin\, 8-oz portion. \nPlease call the office to make your reservations by Wednesday.\nWhen you call\, please select an open time for dinner.\n*Late RSVPs may not be taken. 360-256-0823 \nLive Music by Slim Jims (in the Lounge) at 7 PM\n*No cover for the band. \n*Steak Night Tips and proceeds go to the Officer Fund to help with Conventions\, Officer uniforms\, and training.
URL:https://elks823.org/event/officer-steak-night-5pm-2025-05-16-2025-07-18-2025-08-15-2025-11-21-2026-02-20/2026-02-20/
CATEGORIES:Charity,Community,Dance,Food,fundraiser,Music,Volunteer
ATTACH;FMTTYPE=image/png:https://elks823.org/wp-content/uploads/2025/03/2-20_Steak-Night.png
END:VEVENT
BEGIN:VEVENT
DTSTART;TZID=America/Los_Angeles:20260221T170000
DTEND;TZID=America/Los_Angeles:20260221T200000
DTSTAMP:20260424T040143
CREATED:20251111T184829Z
LAST-MODIFIED:20260102T183131Z
UID:17850-1771693200-1771704000@elks823.org
SUMMARY:Mardi Gras Rock Painting Party 5PM
DESCRIPTION:Mardi Gras Rock Painting Party! \n\nSaturday\, February 21 • 5–8 PMIn the Stag Bar\n\n\nCome hang out with fellow Elks and get creative painting rocks with fun Christmas themes!No experience needed — we’ll have supplies ready\, bring your imagination and a smile. \n\n It’s a Potluck! Bring a dish to share while you paint and mingle. Donations accepted for Children’s Therapy.\n\nLet’s relax\, create\, and celebrate the cozy season together.
URL:https://elks823.org/event/autumn-rock-painting-party-5pm-2025-12-11-2026-02-21/
CATEGORIES:Charity,Class,Community,Food,fundraiser
ATTACH;FMTTYPE=image/png:https://elks823.org/wp-content/uploads/2025/11/2-21_RockPainting.png
END:VEVENT
BEGIN:VEVENT
DTSTART;TZID=America/Los_Angeles:20260225T180000
DTEND;TZID=America/Los_Angeles:20260225T210000
DTSTAMP:20260424T040143
CREATED:20250304T215218Z
LAST-MODIFIED:20260331T190656Z
UID:17902-1772042400-1772053200@elks823.org
SUMMARY:Bar Card Bingo 6PM
DESCRIPTION:Bar Card Bingo every Wednesday. All are welcome! \nBar Bingo is played with playing cards. It costs $1.00 for three cards. An app randomly picks cards; if you “match\,” you flip over that card. When all three cards (in one row) are flipped\, you have a Bingo!\nLots of members are there to help you play! Come on down\, but be careful…..you might have too much fun! \nSee Blast on Tuesdays or Facebook for food options.\nLounge opens at 4PM
URL:https://elks823.org/event/bar-card-bingo-6pm/2026-02-25/
CATEGORIES:Charity,Community,Games
ATTACH;FMTTYPE=image/jpeg:https://elks823.org/wp-content/uploads/2021/09/BarBingo.jpg
END:VEVENT
BEGIN:VEVENT
DTSTART;TZID=America/Los_Angeles:20260227T190000
DTEND;TZID=America/Los_Angeles:20260227T210000
DTSTAMP:20260424T040143
CREATED:20250304T223815Z
LAST-MODIFIED:20260216T220013Z
UID:17904-1772218800-1772226000@elks823.org
SUMMARY:Elk Races 7PM
DESCRIPTION:We are starting Elk Races on the 2nd and 4th Fridays of the Month. (Unless otherwise listed) \nFor anyone who has not yet participated in Elk Racing\, it’s another low-stakes gambling game. \n\n\n\n\n\n\n\n\nParticipants bet between $1-5 on one or more elks (six total)\nOdds are calculated based on the number of bets per elk; Elk #1 might pay 2/1 ($2 for every $1 bet); Elk #4 might pay 10/1 ($10 for every $1 bet)\nDice are rolled to move the elks progressively along the spots on their lane\nThe First Elk to cross the finish line is the winner\, and all who bet on this elk are paid out based on the odds\n\n*On Friday nights\, the kitchen is closed unless otherwise noted in Blast/Facebook. Members and Guests are allowed to bring food in or have it delivered.
URL:https://elks823.org/event/elk-races-7pm-2/2026-02-27/
CATEGORIES:Charity,Community,fundraiser,Games
ATTACH;FMTTYPE=image/png:https://elks823.org/wp-content/uploads/2024/04/Lounge-Screens-april-may-15.png
END:VEVENT
END:VCALENDAR