BEGIN:VCALENDAR
VERSION:2.0
PRODID:-//Elks Lodge 823 - ECPv6.15.20//NONSGML v1.0//EN
CALSCALE:GREGORIAN
METHOD:PUBLISH
X-WR-CALNAME:Elks Lodge 823
X-ORIGINAL-URL:https://elks823.org
X-WR-CALDESC:Events for Elks Lodge 823
REFRESH-INTERVAL;VALUE=DURATION:PT1H
X-Robots-Tag:noindex
X-PUBLISHED-TTL:PT1H
BEGIN:VTIMEZONE
TZID:America/Los_Angeles
BEGIN:DAYLIGHT
TZOFFSETFROM:-0800
TZOFFSETTO:-0700
TZNAME:PDT
DTSTART:20240310T100000
END:DAYLIGHT
BEGIN:STANDARD
TZOFFSETFROM:-0700
TZOFFSETTO:-0800
TZNAME:PST
DTSTART:20241103T090000
END:STANDARD
BEGIN:DAYLIGHT
TZOFFSETFROM:-0800
TZOFFSETTO:-0700
TZNAME:PDT
DTSTART:20250309T100000
END:DAYLIGHT
BEGIN:STANDARD
TZOFFSETFROM:-0700
TZOFFSETTO:-0800
TZNAME:PST
DTSTART:20251102T090000
END:STANDARD
BEGIN:DAYLIGHT
TZOFFSETFROM:-0800
TZOFFSETTO:-0700
TZNAME:PDT
DTSTART:20260308T100000
END:DAYLIGHT
BEGIN:STANDARD
TZOFFSETFROM:-0700
TZOFFSETTO:-0800
TZNAME:PST
DTSTART:20261101T090000
END:STANDARD
END:VTIMEZONE
BEGIN:VEVENT
DTSTART;TZID=America/Los_Angeles:20251205T180000
DTEND;TZID=America/Los_Angeles:20251205T210000
DTSTAMP:20260424T072349
CREATED:20250304T220809Z
LAST-MODIFIED:20260102T201707Z
UID:17710-1764957600-1764968400@elks823.org
SUMMARY:Emblem Club Dinner 6PM
DESCRIPTION:Dinner is served 6 – 7:00 PM\nPork Loin\, fall veggies\, and oven-roasted potatoes\, $20\n(Includes roll with butter\, Salad Bar\, homemade dessert\, and coffee and tea included). \nWe will have DJ Ron Taylor playing music in the lounge. 7-9 PM All are welcome. You don’t have to be a dancer\, just come and enjoy the music! \n*Please make reservations in the office. 360-256-0823 \n*Lounge opens at 4 PM.
URL:https://elks823.org/event/emblem-club-dinner-6pm-4-2025-05-02-2025-07-11-2025-08-01-2025-09-05-2025-11-07-2025-12-05/2025-12-05/
CATEGORIES:Charity,Community,Food,fundraiser
ATTACH;FMTTYPE=image/png:https://elks823.org/wp-content/uploads/2025/03/Emblem_Dinner.png
END:VEVENT
BEGIN:VEVENT
DTSTART;TZID=America/Los_Angeles:20251205T190000
DTEND;TZID=America/Los_Angeles:20251205T210000
DTSTAMP:20260424T072349
CREATED:20251125T200149Z
LAST-MODIFIED:20260331T193242Z
UID:17734-1764961200-1764968400@elks823.org
SUMMARY:Elk Town Music 7PM
DESCRIPTION:Emblem Club Dinner starts the night at 6 PM. Then stick around for a great night of music\, dancing\, and fellowship! Music starts at 7:00 PMFeaturing your favorite hits from our Elk Town Music DJ Requests welcome — help create the fun! \n\nCome early\, wear red for R.E.D. Night\, and show your support for our deployed Service Members. \n\nWant to help DJ or share ideas to make this monthly event even better? Contact PER Ron Taylor.
URL:https://elks823.org/event/elk-town-music-7pm/2025-12-05/
CATEGORIES:Charity,Community,Dance,Food,fundraiser,Music,Volunteer
ATTACH;FMTTYPE=image/png:https://elks823.org/wp-content/uploads/2025/11/Elk-Town-Music-8.5-x-11-in.png
END:VEVENT
END:VCALENDAR