BEGIN:VCALENDAR
VERSION:2.0
PRODID:-//Elks Lodge 823 - ECPv6.15.20//NONSGML v1.0//EN
CALSCALE:GREGORIAN
METHOD:PUBLISH
X-WR-CALNAME:Elks Lodge 823
X-ORIGINAL-URL:https://elks823.org
X-WR-CALDESC:Events for Elks Lodge 823
REFRESH-INTERVAL;VALUE=DURATION:PT1H
X-Robots-Tag:noindex
X-PUBLISHED-TTL:PT1H
BEGIN:VTIMEZONE
TZID:America/Los_Angeles
BEGIN:DAYLIGHT
TZOFFSETFROM:-0800
TZOFFSETTO:-0700
TZNAME:PDT
DTSTART:20240310T100000
END:DAYLIGHT
BEGIN:STANDARD
TZOFFSETFROM:-0700
TZOFFSETTO:-0800
TZNAME:PST
DTSTART:20241103T090000
END:STANDARD
BEGIN:DAYLIGHT
TZOFFSETFROM:-0800
TZOFFSETTO:-0700
TZNAME:PDT
DTSTART:20250309T100000
END:DAYLIGHT
BEGIN:STANDARD
TZOFFSETFROM:-0700
TZOFFSETTO:-0800
TZNAME:PST
DTSTART:20251102T090000
END:STANDARD
BEGIN:DAYLIGHT
TZOFFSETFROM:-0800
TZOFFSETTO:-0700
TZNAME:PDT
DTSTART:20260308T100000
END:DAYLIGHT
BEGIN:STANDARD
TZOFFSETFROM:-0700
TZOFFSETTO:-0800
TZNAME:PST
DTSTART:20261101T090000
END:STANDARD
END:VTIMEZONE
BEGIN:VEVENT
DTSTART;TZID=America/Los_Angeles:20251206T170000
DTEND;TZID=America/Los_Angeles:20251206T210000
DTSTAMP:20260424T072356
CREATED:20221019T213840Z
LAST-MODIFIED:20251125T201613Z
UID:17748-1765040400-1765054800@elks823.org
SUMMARY:Tom & Jerry Party 5PM
DESCRIPTION:The Vancouver Elks have a long tradition of serving the Tom and Jerry Drink as a competition between the PERs and the Officers of the lodge as to which group serves the best Tom and Jerry. You vote with your dollars as a fundraiser for the lodge. \nTom and Jerry is a traditional Christmastime cocktail in the United States\, sometimes attributed to British writer and professional boxing journalist Pierce Egan in the 1820s. It is a variant of eggnog with brandy and rum added\, served hot\, usually in a mug or a bowl. (Wikipedia) \nWe want to herald in the holiday season by serving you\, our Elks Members and closest friends\, Tom and Jerry! \nA Silent Auction starting at 6 PM will also be part of the fun! We will also have some Christmas crafts and Karaoke!\nCan’t wait to see you there!
URL:https://elks823.org/event/tom-jerry-night-2-2023-12-05-2024-11-02-2025-12-06/
CATEGORIES:Charity,Community,Food,fundraiser,Music
ATTACH;FMTTYPE=image/jpeg:https://elks823.org/wp-content/uploads/2022/10/tomand-Jerry.jpg
END:VEVENT
END:VCALENDAR