BEGIN:VCALENDAR
VERSION:2.0
PRODID:-//Elks Lodge 823 - ECPv6.15.20//NONSGML v1.0//EN
CALSCALE:GREGORIAN
METHOD:PUBLISH
X-WR-CALNAME:Elks Lodge 823
X-ORIGINAL-URL:https://elks823.org
X-WR-CALDESC:Events for Elks Lodge 823
REFRESH-INTERVAL;VALUE=DURATION:PT1H
X-Robots-Tag:noindex
X-PUBLISHED-TTL:PT1H
BEGIN:VTIMEZONE
TZID:America/Los_Angeles
BEGIN:DAYLIGHT
TZOFFSETFROM:-0800
TZOFFSETTO:-0700
TZNAME:PDT
DTSTART:20240310T100000
END:DAYLIGHT
BEGIN:STANDARD
TZOFFSETFROM:-0700
TZOFFSETTO:-0800
TZNAME:PST
DTSTART:20241103T090000
END:STANDARD
BEGIN:DAYLIGHT
TZOFFSETFROM:-0800
TZOFFSETTO:-0700
TZNAME:PDT
DTSTART:20250309T100000
END:DAYLIGHT
BEGIN:STANDARD
TZOFFSETFROM:-0700
TZOFFSETTO:-0800
TZNAME:PST
DTSTART:20251102T090000
END:STANDARD
BEGIN:DAYLIGHT
TZOFFSETFROM:-0800
TZOFFSETTO:-0700
TZNAME:PDT
DTSTART:20260308T100000
END:DAYLIGHT
BEGIN:STANDARD
TZOFFSETFROM:-0700
TZOFFSETTO:-0800
TZNAME:PST
DTSTART:20261101T090000
END:STANDARD
END:VTIMEZONE
BEGIN:VEVENT
DTSTART;TZID=America/Los_Angeles:20251210T180000
DTEND;TZID=America/Los_Angeles:20251210T210000
DTSTAMP:20260424T072507
CREATED:20250304T215218Z
LAST-MODIFIED:20251210T001058Z
UID:17688-1765389600-1765400400@elks823.org
SUMMARY:Dinner & Wine-O Bingo 5:30PM
DESCRIPTION:Join us in a fundraiser for Caroline Bradwell’s WSEA Presidential Year!\n\nYou’re invited to a special fundraising evening in support of South District VP Caroline Bradwell for her Presidential Year in WSEA.\n Date: Wednesday\, December 10\, 2025 Location: Vancouver Elks Lodge #823\nSchedule:\n 5:30–6:00 PM – Cocktails 6:00–7:00 PM – Dinner & Dessert 7:00–9:00 PM – Wine-O Bingo\, Raffles & Door Prizes\n\nEarly Bird Special:$30 until 12/2After 12/2: $35\nGet your tickets in the office or here: https://www.zeffy.com/en-US/ticketing/fundraising-event-for-caroline-bradwell\nEach ticket includes a delicious dinner\, Smoked Pork Steaks (donated by Ben Braden)\, fresh vegetables\, scalloped potatoes\, and dessert\, as well as three games of Wine-O Bingo.Wine-O Bingo MC’d by Jennifer Braden.\n\n*Additional Wine-O games may be sold separately if time permits. \n\n\nThe lounge opens at 4 PM\, so come early\, grab a drink\, and mingle! \n\nEnjoy an evening of wine prizes\, raffle baskets\, and plenty of fun—all while supporting Caroline for her WSEA Presidential year!\n*All proceeds and donations will go to Caroline’s WSEA Presidential Year!
URL:https://elks823.org/event/bar-card-bingo-6pm-2025-12-10/
CATEGORIES:Charity,Community,Food,fundraiser,Games,Volunteer
ATTACH;FMTTYPE=image/png:https://elks823.org/wp-content/uploads/2025/03/Caroline-Fundraiser-Flyer-16x9-1.png
END:VEVENT
END:VCALENDAR