BEGIN:VCALENDAR
VERSION:2.0
PRODID:-//Elks Lodge 823 - ECPv6.15.20//NONSGML v1.0//EN
CALSCALE:GREGORIAN
METHOD:PUBLISH
X-ORIGINAL-URL:https://elks823.org
X-WR-CALDESC:Events for Elks Lodge 823
REFRESH-INTERVAL;VALUE=DURATION:PT1H
X-Robots-Tag:noindex
X-PUBLISHED-TTL:PT1H
BEGIN:VTIMEZONE
TZID:America/Los_Angeles
BEGIN:DAYLIGHT
TZOFFSETFROM:-0800
TZOFFSETTO:-0700
TZNAME:PDT
DTSTART:20240310T100000
END:DAYLIGHT
BEGIN:STANDARD
TZOFFSETFROM:-0700
TZOFFSETTO:-0800
TZNAME:PST
DTSTART:20241103T090000
END:STANDARD
BEGIN:DAYLIGHT
TZOFFSETFROM:-0800
TZOFFSETTO:-0700
TZNAME:PDT
DTSTART:20250309T100000
END:DAYLIGHT
BEGIN:STANDARD
TZOFFSETFROM:-0700
TZOFFSETTO:-0800
TZNAME:PST
DTSTART:20251102T090000
END:STANDARD
BEGIN:DAYLIGHT
TZOFFSETFROM:-0800
TZOFFSETTO:-0700
TZNAME:PDT
DTSTART:20260308T100000
END:DAYLIGHT
BEGIN:STANDARD
TZOFFSETFROM:-0700
TZOFFSETTO:-0800
TZNAME:PST
DTSTART:20261101T090000
END:STANDARD
END:VTIMEZONE
BEGIN:VEVENT
DTSTART;TZID=America/Los_Angeles:20251231T180000
DTEND;TZID=America/Los_Angeles:20251231T230000
DTSTAMP:20260424T054448
CREATED:20251210T003037Z
LAST-MODIFIED:20251210T003037Z
UID:17817-1767204000-1767222000@elks823.org
SUMMARY:New Year's Purple Bubble Ball 6PM
DESCRIPTION:You’re Invited to THE Purple Bubble Ball!Ring in the New Year in style at the Vancouver Elks Lodge #823 as we celebrate together and give back to a great cause.\nJoin us for an enchanting evening filled with great food\, live music\, and meaningful community spirit. \n\nEVENING HIGHLIGHTS• Three-Course Gourmet Dinner by Say Ciao (gluten-free and vegetarian options available – choose that option when selecting your ticket)• Live Music by Vancouver Community Jazz Band• Exciting Raffles & Silent Auction• Champagne Toasts:– 9:00 PM (East Coast Toast)– 11:00 PM (Traditional Elks Toast)– Midnight (West Coast Toast) \n\nTickets: $75 per person: Eventbrite Link(Includes dinner\, live music\, and all champagne toasts) \n\nDress Code: Semi-formal attire — and don’t forget to wear your best purple! \n\nThis is more than just a celebration—it’s an opportunity to make a meaningful difference. The silent auction and raffles will benefit the Washington Elks Therapy Program for Children\, which provides home-based occupational or physical therapy to children from birth to age 21 with developmental delays or physical disabilities. These services are provided at no cost to the family served. \n\nLet’s come together for a magical night of music\, merriment\, and community impact. \n\nGet your tickets by December 19th through Eventbrite or at the Office. 
URL:https://elks823.org/event/new-years-purple-bubble-ball-6pm/
CATEGORIES:Charity,Community,Dance,Food,fundraiser,Music,Volunteer
ATTACH;FMTTYPE=image/png:https://elks823.org/wp-content/uploads/2025/12/New-Years-Party-2025-1.png
END:VEVENT
END:VCALENDAR