BEGIN:VCALENDAR
VERSION:2.0
PRODID:-//Elks Lodge 823 - ECPv6.15.20//NONSGML v1.0//EN
CALSCALE:GREGORIAN
METHOD:PUBLISH
X-WR-CALNAME:Elks Lodge 823
X-ORIGINAL-URL:https://elks823.org
X-WR-CALDESC:Events for Elks Lodge 823
REFRESH-INTERVAL;VALUE=DURATION:PT1H
X-Robots-Tag:noindex
X-PUBLISHED-TTL:PT1H
BEGIN:VTIMEZONE
TZID:America/Los_Angeles
BEGIN:DAYLIGHT
TZOFFSETFROM:-0800
TZOFFSETTO:-0700
TZNAME:PDT
DTSTART:20250309T100000
END:DAYLIGHT
BEGIN:STANDARD
TZOFFSETFROM:-0700
TZOFFSETTO:-0800
TZNAME:PST
DTSTART:20251102T090000
END:STANDARD
BEGIN:DAYLIGHT
TZOFFSETFROM:-0800
TZOFFSETTO:-0700
TZNAME:PDT
DTSTART:20260308T100000
END:DAYLIGHT
BEGIN:STANDARD
TZOFFSETFROM:-0700
TZOFFSETTO:-0800
TZNAME:PST
DTSTART:20261101T090000
END:STANDARD
BEGIN:DAYLIGHT
TZOFFSETFROM:-0800
TZOFFSETTO:-0700
TZNAME:PDT
DTSTART:20270314T100000
END:DAYLIGHT
BEGIN:STANDARD
TZOFFSETFROM:-0700
TZOFFSETTO:-0800
TZNAME:PST
DTSTART:20271107T090000
END:STANDARD
END:VTIMEZONE
BEGIN:VEVENT
DTSTART;TZID=America/Los_Angeles:20260506T180000
DTEND;TZID=America/Los_Angeles:20260506T210000
DTSTAMP:20260423T022400
CREATED:20250304T215725Z
LAST-MODIFIED:20250304T215725Z
UID:18294-1778090400-1778101200@elks823.org
SUMMARY:SlimJims Band 7PM
DESCRIPTION:The dance is from 7 p.m. to 9 p.m. each Wednesday.\nMixing an eclectic variety of popular music with unconventional “B-side” hits. The Slim Jims put their alternative upbeat twist on over five decades of quality American roots music. \nCome early to get a seat\, as early as 6 PM. The lounge offers Bar Bingo from 6-8 PM. \n*Cover is $6 for Elk members and $10 for the general public. \nSee Blast on Tuesdays or Facebook for food options.\nLounge opens at 4 PM
URL:https://elks823.org/event/taska-the-party-band-7pm-2025-07-16/2026-05-06/
CATEGORIES:Community,Dance,Food,Games,Music
ATTACH;FMTTYPE=image/png:https://elks823.org/wp-content/uploads/2025/03/SlimJims.png
END:VEVENT
END:VCALENDAR