BEGIN:VCALENDAR
VERSION:2.0
PRODID:-//Elks Lodge 823 - ECPv6.15.20//NONSGML v1.0//EN
CALSCALE:GREGORIAN
METHOD:PUBLISH
X-WR-CALNAME:Elks Lodge 823
X-ORIGINAL-URL:https://elks823.org
X-WR-CALDESC:Events for Elks Lodge 823
REFRESH-INTERVAL;VALUE=DURATION:PT1H
X-Robots-Tag:noindex
X-PUBLISHED-TTL:PT1H
BEGIN:VTIMEZONE
TZID:America/Los_Angeles
BEGIN:DAYLIGHT
TZOFFSETFROM:-0800
TZOFFSETTO:-0700
TZNAME:PDT
DTSTART:20250309T100000
END:DAYLIGHT
BEGIN:STANDARD
TZOFFSETFROM:-0700
TZOFFSETTO:-0800
TZNAME:PST
DTSTART:20251102T090000
END:STANDARD
BEGIN:DAYLIGHT
TZOFFSETFROM:-0800
TZOFFSETTO:-0700
TZNAME:PDT
DTSTART:20260308T100000
END:DAYLIGHT
BEGIN:STANDARD
TZOFFSETFROM:-0700
TZOFFSETTO:-0800
TZNAME:PST
DTSTART:20261101T090000
END:STANDARD
BEGIN:DAYLIGHT
TZOFFSETFROM:-0800
TZOFFSETTO:-0700
TZNAME:PDT
DTSTART:20270314T100000
END:DAYLIGHT
BEGIN:STANDARD
TZOFFSETFROM:-0700
TZOFFSETTO:-0800
TZNAME:PST
DTSTART:20271107T090000
END:STANDARD
END:VTIMEZONE
BEGIN:VEVENT
DTSTART;TZID=America/Los_Angeles:20260429T190000
DTEND;TZID=America/Los_Angeles:20260429T210000
DTSTAMP:20260422T160737
CREATED:20250304T215725Z
LAST-MODIFIED:20250304T215725Z
UID:18287-1777489200-1777496400@elks823.org
SUMMARY:Taska & the Party Band 7PM
DESCRIPTION:The dance is from 7 p.m. to 9 p.m. each Wednesday.\nEach band member has a passion for the art of music and has made this journey into a career. For this group\, they don’t just bring the music\, they bring the party! \nCome early to get a seat\, as early as 6 PM. The lounge offers Bar Bingo from 6-8PM. \n*Cover is $6 for Elk members and $10 for the general public. \nSee Blast on Tuesdays or Facebook for food options.\nLounge opens at 4 PM
URL:https://elks823.org/event/taska-the-party-band-7pm/2026-04-29/
CATEGORIES:Community,Dance,Food,Games,Music
ATTACH;FMTTYPE=image/png:https://elks823.org/wp-content/uploads/2025/02/wednesdays.png
END:VEVENT
BEGIN:VEVENT
DTSTART;TZID=America/Los_Angeles:20260502T140000
DTEND;TZID=America/Los_Angeles:20260502T180000
DTSTAMP:20260422T160737
CREATED:20240326T210148Z
LAST-MODIFIED:20260331T210459Z
UID:18361-1777730400-1777744800@elks823.org
SUMMARY:Kentucky Derby 2PM Potluck
DESCRIPTION:🌹🏇 Kentucky Derby Party – Don’t Miss the Run for the Roses! 🏇🌹 \nMembers & guests\, grab your hats and join us for an afternoon of fun\, food\, and racing excitement! \n🗓 May 2nd\n🕑 Party starts at 2PM (Race begins at 3:45PM) \nWe’re celebrating Derby style with a potluck\, so bring your favorite dish to share! Enjoy:\n✨ Festive raffles\n👒 A fabulous hat contest (dress to impress!)\n🍹 Special Derby-inspired drinks\n🎉 Fun prizes and great company \nWhether you’re here for the race\, the fashion\, or the food—this is one event you won’t want to miss! \nCome early\, stay for the race\, and let’s make it a winning day!
URL:https://elks823.org/event/kentucky-derby-130pm-2025-05-03-2026-05-02/
CATEGORIES:Charity,Community,Food,fundraiser,Games
ATTACH;FMTTYPE=image/png:https://elks823.org/wp-content/uploads/2024/03/May2-Derby.png
END:VEVENT
BEGIN:VEVENT
DTSTART;TZID=America/Los_Angeles:20260506T180000
DTEND;TZID=America/Los_Angeles:20260506T210000
DTSTAMP:20260422T160737
CREATED:20250304T215218Z
LAST-MODIFIED:20250304T215218Z
UID:18256-1778090400-1778101200@elks823.org
SUMMARY:Bar Card Bingo 6PM
DESCRIPTION:Bar Card Bingo every Wednesday. All are welcome! \nBar Bingo is played with playing cards. It costs $1.00 for three cards. An app randomly picks cards; if you “match\,” you flip over that card. When all three cards (in one row) are flipped\, you have a Bingo!\nLots of members are there to help you play! Come on down\, but be careful…..you might have too much fun! \nSee Blast on Tuesdays or Facebook for food options.\nLounge opens at 4PM
URL:https://elks823.org/event/bar-card-bingo-6pm/2026-05-06/
CATEGORIES:Charity,Community,Games
ATTACH;FMTTYPE=image/jpeg:https://elks823.org/wp-content/uploads/2021/09/BarBingo.jpg
END:VEVENT
BEGIN:VEVENT
DTSTART;TZID=America/Los_Angeles:20260506T180000
DTEND;TZID=America/Los_Angeles:20260506T210000
DTSTAMP:20260422T160737
CREATED:20250304T215725Z
LAST-MODIFIED:20250304T215725Z
UID:18294-1778090400-1778101200@elks823.org
SUMMARY:SlimJims Band 7PM
DESCRIPTION:The dance is from 7 p.m. to 9 p.m. each Wednesday.\nMixing an eclectic variety of popular music with unconventional “B-side” hits. The Slim Jims put their alternative upbeat twist on over five decades of quality American roots music. \nCome early to get a seat\, as early as 6 PM. The lounge offers Bar Bingo from 6-8 PM. \n*Cover is $6 for Elk members and $10 for the general public. \nSee Blast on Tuesdays or Facebook for food options.\nLounge opens at 4 PM
URL:https://elks823.org/event/taska-the-party-band-7pm-2025-07-16/2026-05-06/
CATEGORIES:Community,Dance,Food,Games,Music
ATTACH;FMTTYPE=image/png:https://elks823.org/wp-content/uploads/2025/03/SlimJims.png
END:VEVENT
BEGIN:VEVENT
DTSTART;TZID=America/Los_Angeles:20260507T180000
DTEND;TZID=America/Los_Angeles:20260507T210000
DTSTAMP:20260422T160737
CREATED:20260216T223034Z
LAST-MODIFIED:20260216T223034Z
UID:18249-1778176800-1778187600@elks823.org
SUMMARY:BINGO 6:30PM
DESCRIPTION:Real Bingo on the 1st & 3rd Thursdays of the month!\nPacket sales begin at 6 PM\, Game starts at 6:30 PM! NEW Pricing: $15 for a packet of 8 games. \n\n\n\n*This event is open to Elks members and their guests! The lounge opens at 4 PM\, and Bingo starts at 6 PM.\n\n\nCheck the Blast or Facebook for food available in the week.
URL:https://elks823.org/event/bingo-630pm-3-2026-04-02/2026-05-07/
CATEGORIES:Community,Food,Games
ATTACH;FMTTYPE=image/png:https://elks823.org/wp-content/uploads/2026/02/BINGO-1.png
END:VEVENT
BEGIN:VEVENT
DTSTART;TZID=America/Los_Angeles:20260508T190000
DTEND;TZID=America/Los_Angeles:20260508T210000
DTSTAMP:20260422T160737
CREATED:20250304T223815Z
LAST-MODIFIED:20250304T223815Z
UID:18336-1778266800-1778274000@elks823.org
SUMMARY:Elk Races 7PM
DESCRIPTION:We are starting Elk Races on the 2nd and 4th Fridays of the Month. (Unless otherwise listed) \nFor anyone who has not yet participated in Elk Racing\, it’s another low-stakes gambling game. \n\n\n\n\n\n\n\n\nParticipants bet between $1-5 on one or more elks (six total)\nOdds are calculated based on the number of bets per elk; Elk #1 might pay 2/1 ($2 for every $1 bet); Elk #4 might pay 10/1 ($10 for every $1 bet)\nDice are rolled to move the elks progressively along the spots on their lane\nThe First Elk to cross the finish line is the winner\, and all who bet on this elk are paid out based on the odds\n\n*On Friday nights\, the kitchen is closed unless otherwise noted in Blast/Facebook. Members and Guests are allowed to bring food in or have it delivered.
URL:https://elks823.org/event/elk-races-7pm-2/2026-05-08/
CATEGORIES:Charity,Community,fundraiser,Games
ATTACH;FMTTYPE=image/png:https://elks823.org/wp-content/uploads/2024/04/Lounge-Screens-april-may-15.png
END:VEVENT
BEGIN:VEVENT
DTSTART;TZID=America/Los_Angeles:20260510T100000
DTEND;TZID=America/Los_Angeles:20260510T133000
DTSTAMP:20260422T160737
CREATED:20240326T212533Z
LAST-MODIFIED:20260421T191044Z
UID:18366-1778407200-1778419800@elks823.org
SUMMARY:Mother's Day Ritual & Brunch
DESCRIPTION:Price $25 per person\n$5 (Children under 12) \nMake your reservations through Zeffy here: https://www.zeffy.com/en-US/ticketing/mothers-day-ritual-and-brunch\nOr the Office by phone(credit card) or in person at the lodge office. 360-256-0823.\nPaid reservations requested. \nThis is a Mother’s Day Ritual and Brunch to follow. Please plan on arriving on time to hear the kind words of the Ritual for all Moms!|\nBrunch items: scrambled eggs\, bacon/sausage\, roasted potatoes\, assorted quiches\, pastries\, fresh fruit\, yogurt\, salads and of course champagne! \nWalk-ins first come first serve. Limited seating\, dining room.
URL:https://elks823.org/event/mothers-day-brunch-ritual-10am-2025-05-11-2026-05-10/
CATEGORIES:Charity,Community,Food,Games,Volunteer
ATTACH;FMTTYPE=image/png:https://elks823.org/wp-content/uploads/2024/03/Mothers-Day.png
END:VEVENT
BEGIN:VEVENT
DTSTART;TZID=America/Los_Angeles:20260512T190000
DTEND;TZID=America/Los_Angeles:20260512T210000
DTSTAMP:20260422T160737
CREATED:20250304T222847Z
LAST-MODIFIED:20250304T222847Z
UID:18322-1778612400-1778619600@elks823.org
SUMMARY:Lodge Meeting 7PM
DESCRIPTION:The lounge opens at 4 PM\, closes during meetings\, then re-opens after the meeting until 10 PM. \nFood: Taco Tuesday! Come down for some tacos\, quesadillas\, taquitos\, chips\, and salsa.
URL:https://elks823.org/event/lodge-meeting-7pm-6/2026-05-12/
CATEGORIES:Charity,Community,fundraiser,Games,Lodge meeting,Volunteer
ATTACH;FMTTYPE=image/png:https://elks823.org/wp-content/uploads/2022/08/Lounge-Screens-april-may-12.png
END:VEVENT
BEGIN:VEVENT
DTSTART;TZID=America/Los_Angeles:20260513T180000
DTEND;TZID=America/Los_Angeles:20260513T210000
DTSTAMP:20260422T160737
CREATED:20250304T215218Z
LAST-MODIFIED:20250304T215218Z
UID:18257-1778695200-1778706000@elks823.org
SUMMARY:Bar Card Bingo 6PM
DESCRIPTION:Bar Card Bingo every Wednesday. All are welcome! \nBar Bingo is played with playing cards. It costs $1.00 for three cards. An app randomly picks cards; if you “match\,” you flip over that card. When all three cards (in one row) are flipped\, you have a Bingo!\nLots of members are there to help you play! Come on down\, but be careful…..you might have too much fun! \nSee Blast on Tuesdays or Facebook for food options.\nLounge opens at 4PM
URL:https://elks823.org/event/bar-card-bingo-6pm/2026-05-13/
CATEGORIES:Charity,Community,Games
ATTACH;FMTTYPE=image/jpeg:https://elks823.org/wp-content/uploads/2021/09/BarBingo.jpg
END:VEVENT
BEGIN:VEVENT
DTSTART;TZID=America/Los_Angeles:20260513T190000
DTEND;TZID=America/Los_Angeles:20260513T210000
DTSTAMP:20260422T160737
CREATED:20250304T215725Z
LAST-MODIFIED:20250304T215725Z
UID:18288-1778698800-1778706000@elks823.org
SUMMARY:Taska & the Party Band 7PM
DESCRIPTION:The dance is from 7 p.m. to 9 p.m. each Wednesday.\nEach band member has a passion for the art of music and has made this journey into a career. For this group\, they don’t just bring the music\, they bring the party! \nCome early to get a seat\, as early as 6 PM. The lounge offers Bar Bingo from 6-8PM. \n*Cover is $6 for Elk members and $10 for the general public. \nSee Blast on Tuesdays or Facebook for food options.\nLounge opens at 4 PM
URL:https://elks823.org/event/taska-the-party-band-7pm/2026-05-13/
CATEGORIES:Community,Dance,Food,Games,Music
ATTACH;FMTTYPE=image/png:https://elks823.org/wp-content/uploads/2025/02/wednesdays.png
END:VEVENT
BEGIN:VEVENT
DTSTART;TZID=America/Los_Angeles:20260520T180000
DTEND;TZID=America/Los_Angeles:20260520T210000
DTSTAMP:20260422T160737
CREATED:20250304T215218Z
LAST-MODIFIED:20250304T215218Z
UID:18258-1779300000-1779310800@elks823.org
SUMMARY:Bar Card Bingo 6PM
DESCRIPTION:Bar Card Bingo every Wednesday. All are welcome! \nBar Bingo is played with playing cards. It costs $1.00 for three cards. An app randomly picks cards; if you “match\,” you flip over that card. When all three cards (in one row) are flipped\, you have a Bingo!\nLots of members are there to help you play! Come on down\, but be careful…..you might have too much fun! \nSee Blast on Tuesdays or Facebook for food options.\nLounge opens at 4PM
URL:https://elks823.org/event/bar-card-bingo-6pm/2026-05-20/
CATEGORIES:Charity,Community,Games
ATTACH;FMTTYPE=image/jpeg:https://elks823.org/wp-content/uploads/2021/09/BarBingo.jpg
END:VEVENT
BEGIN:VEVENT
DTSTART;TZID=America/Los_Angeles:20260520T180000
DTEND;TZID=America/Los_Angeles:20260520T210000
DTSTAMP:20260422T160737
CREATED:20250304T215725Z
LAST-MODIFIED:20250304T215725Z
UID:18295-1779300000-1779310800@elks823.org
SUMMARY:SlimJims Band 7PM
DESCRIPTION:The dance is from 7 p.m. to 9 p.m. each Wednesday.\nMixing an eclectic variety of popular music with unconventional “B-side” hits. The Slim Jims put their alternative upbeat twist on over five decades of quality American roots music. \nCome early to get a seat\, as early as 6 PM. The lounge offers Bar Bingo from 6-8 PM. \n*Cover is $6 for Elk members and $10 for the general public. \nSee Blast on Tuesdays or Facebook for food options.\nLounge opens at 4 PM
URL:https://elks823.org/event/taska-the-party-band-7pm-2025-07-16/2026-05-20/
CATEGORIES:Community,Dance,Food,Games,Music
ATTACH;FMTTYPE=image/png:https://elks823.org/wp-content/uploads/2025/03/SlimJims.png
END:VEVENT
BEGIN:VEVENT
DTSTART;TZID=America/Los_Angeles:20260521T180000
DTEND;TZID=America/Los_Angeles:20260521T210000
DTSTAMP:20260422T160737
CREATED:20260216T223034Z
LAST-MODIFIED:20260216T223034Z
UID:18250-1779386400-1779397200@elks823.org
SUMMARY:BINGO 6:30PM
DESCRIPTION:Real Bingo on the 1st & 3rd Thursdays of the month!\nPacket sales begin at 6 PM\, Game starts at 6:30 PM! NEW Pricing: $15 for a packet of 8 games. \n\n\n\n*This event is open to Elks members and their guests! The lounge opens at 4 PM\, and Bingo starts at 6 PM.\n\n\nCheck the Blast or Facebook for food available in the week.
URL:https://elks823.org/event/bingo-630pm-3-2026-04-02/2026-05-21/
CATEGORIES:Community,Food,Games
ATTACH;FMTTYPE=image/png:https://elks823.org/wp-content/uploads/2026/02/BINGO-1.png
END:VEVENT
BEGIN:VEVENT
DTSTART;TZID=America/Los_Angeles:20260522T190000
DTEND;TZID=America/Los_Angeles:20260522T210000
DTSTAMP:20260422T160737
CREATED:20250304T223815Z
LAST-MODIFIED:20250304T223815Z
UID:18337-1779476400-1779483600@elks823.org
SUMMARY:Elk Races 7PM
DESCRIPTION:We are starting Elk Races on the 2nd and 4th Fridays of the Month. (Unless otherwise listed) \nFor anyone who has not yet participated in Elk Racing\, it’s another low-stakes gambling game. \n\n\n\n\n\n\n\n\nParticipants bet between $1-5 on one or more elks (six total)\nOdds are calculated based on the number of bets per elk; Elk #1 might pay 2/1 ($2 for every $1 bet); Elk #4 might pay 10/1 ($10 for every $1 bet)\nDice are rolled to move the elks progressively along the spots on their lane\nThe First Elk to cross the finish line is the winner\, and all who bet on this elk are paid out based on the odds\n\n*On Friday nights\, the kitchen is closed unless otherwise noted in Blast/Facebook. Members and Guests are allowed to bring food in or have it delivered.
URL:https://elks823.org/event/elk-races-7pm-2/2026-05-22/
CATEGORIES:Charity,Community,fundraiser,Games
ATTACH;FMTTYPE=image/png:https://elks823.org/wp-content/uploads/2024/04/Lounge-Screens-april-may-15.png
END:VEVENT
BEGIN:VEVENT
DTSTART;TZID=America/Los_Angeles:20260526T190000
DTEND;TZID=America/Los_Angeles:20260526T210000
DTSTAMP:20260422T160737
CREATED:20250304T222847Z
LAST-MODIFIED:20250304T222847Z
UID:18323-1779822000-1779829200@elks823.org
SUMMARY:Lodge Meeting 7PM
DESCRIPTION:The lounge opens at 4 PM\, closes during meetings\, then re-opens after the meeting until 10 PM. \nFood: Taco Tuesday! Come down for some tacos\, quesadillas\, taquitos\, chips\, and salsa.
URL:https://elks823.org/event/lodge-meeting-7pm-6/2026-05-26/
CATEGORIES:Charity,Community,fundraiser,Games,Lodge meeting,Volunteer
ATTACH;FMTTYPE=image/png:https://elks823.org/wp-content/uploads/2022/08/Lounge-Screens-april-may-12.png
END:VEVENT
BEGIN:VEVENT
DTSTART;TZID=America/Los_Angeles:20260527T180000
DTEND;TZID=America/Los_Angeles:20260527T210000
DTSTAMP:20260422T160737
CREATED:20250304T215218Z
LAST-MODIFIED:20250304T215218Z
UID:18259-1779904800-1779915600@elks823.org
SUMMARY:Bar Card Bingo 6PM
DESCRIPTION:Bar Card Bingo every Wednesday. All are welcome! \nBar Bingo is played with playing cards. It costs $1.00 for three cards. An app randomly picks cards; if you “match\,” you flip over that card. When all three cards (in one row) are flipped\, you have a Bingo!\nLots of members are there to help you play! Come on down\, but be careful…..you might have too much fun! \nSee Blast on Tuesdays or Facebook for food options.\nLounge opens at 4PM
URL:https://elks823.org/event/bar-card-bingo-6pm/2026-05-27/
CATEGORIES:Charity,Community,Games
ATTACH;FMTTYPE=image/jpeg:https://elks823.org/wp-content/uploads/2021/09/BarBingo.jpg
END:VEVENT
BEGIN:VEVENT
DTSTART;TZID=America/Los_Angeles:20260527T190000
DTEND;TZID=America/Los_Angeles:20260527T210000
DTSTAMP:20260422T160737
CREATED:20250304T215725Z
LAST-MODIFIED:20250304T215725Z
UID:18289-1779908400-1779915600@elks823.org
SUMMARY:Taska & the Party Band 7PM
DESCRIPTION:The dance is from 7 p.m. to 9 p.m. each Wednesday.\nEach band member has a passion for the art of music and has made this journey into a career. For this group\, they don’t just bring the music\, they bring the party! \nCome early to get a seat\, as early as 6 PM. The lounge offers Bar Bingo from 6-8PM. \n*Cover is $6 for Elk members and $10 for the general public. \nSee Blast on Tuesdays or Facebook for food options.\nLounge opens at 4 PM
URL:https://elks823.org/event/taska-the-party-band-7pm/2026-05-27/
CATEGORIES:Community,Dance,Food,Games,Music
ATTACH;FMTTYPE=image/png:https://elks823.org/wp-content/uploads/2025/02/wednesdays.png
END:VEVENT
BEGIN:VEVENT
DTSTART;TZID=America/Los_Angeles:20260528T180000
DTEND;TZID=America/Los_Angeles:20260528T200000
DTSTAMP:20260422T160737
CREATED:20260102T184539Z
LAST-MODIFIED:20260421T193749Z
UID:18339-1779991200-1779998400@elks823.org
SUMMARY:Cribbage Night 6PM
DESCRIPTION: Cribbage Night at the Lodge  Thursday\, May 28th 6:00 PM In the lounge\n\nJoin us for Cribbage Night\, held on the 4th Thursday of every month! Whether you’re a seasoned cribbage player or have always wanted to learn\, everyone is welcome to come down and join the fun.\nFood available for purchase. 5-7PM\n\nEnjoy a great evening of cards\, food\, and fellowship.\nBring a friend\, grab a board\, and we’ll see you there!
URL:https://elks823.org/event/cribbage-night-6pm-2026-05-28/
CATEGORIES:Community,Food,Games
ATTACH;FMTTYPE=image/png:https://elks823.org/wp-content/uploads/2026/01/Cribbage-Mar-Apr-May-1.png
END:VEVENT
END:VCALENDAR