BEGIN:VCALENDAR
VERSION:2.0
PRODID:-//Elks Lodge 823 - ECPv6.15.20//NONSGML v1.0//EN
CALSCALE:GREGORIAN
METHOD:PUBLISH
X-WR-CALNAME:Elks Lodge 823
X-ORIGINAL-URL:https://elks823.org
X-WR-CALDESC:Events for Elks Lodge 823
REFRESH-INTERVAL;VALUE=DURATION:PT1H
X-Robots-Tag:noindex
X-PUBLISHED-TTL:PT1H
BEGIN:VTIMEZONE
TZID:America/Los_Angeles
BEGIN:DAYLIGHT
TZOFFSETFROM:-0800
TZOFFSETTO:-0700
TZNAME:PDT
DTSTART:20240310T100000
END:DAYLIGHT
BEGIN:STANDARD
TZOFFSETFROM:-0700
TZOFFSETTO:-0800
TZNAME:PST
DTSTART:20241103T090000
END:STANDARD
BEGIN:DAYLIGHT
TZOFFSETFROM:-0800
TZOFFSETTO:-0700
TZNAME:PDT
DTSTART:20250309T100000
END:DAYLIGHT
BEGIN:STANDARD
TZOFFSETFROM:-0700
TZOFFSETTO:-0800
TZNAME:PST
DTSTART:20251102T090000
END:STANDARD
BEGIN:DAYLIGHT
TZOFFSETFROM:-0800
TZOFFSETTO:-0700
TZNAME:PDT
DTSTART:20260308T100000
END:DAYLIGHT
BEGIN:STANDARD
TZOFFSETFROM:-0700
TZOFFSETTO:-0800
TZNAME:PST
DTSTART:20261101T090000
END:STANDARD
END:VTIMEZONE
BEGIN:VEVENT
DTSTART;TZID=America/Los_Angeles:20250909T190000
DTEND;TZID=America/Los_Angeles:20250909T210000
DTSTAMP:20260424T070406
CREATED:20250304T222847Z
LAST-MODIFIED:20260331T201309Z
UID:17032-1757444400-1757451600@elks823.org
SUMMARY:Lodge Meeting 7PM
DESCRIPTION:The lounge opens at 4 PM\, closes during meetings\, then re-opens after the meeting until 10 PM. \nFood: Taco Tuesday! Come down for some tacos\, quesadillas\, taquitos\, chips\, and salsa.
URL:https://elks823.org/event/lodge-meeting-7pm-6/2025-09-09/
CATEGORIES:Charity,Community,fundraiser,Games,Lodge meeting,Volunteer
ATTACH;FMTTYPE=image/png:https://elks823.org/wp-content/uploads/2022/08/Lounge-Screens-april-may-12.png
END:VEVENT
BEGIN:VEVENT
DTSTART;TZID=America/Los_Angeles:20250909T173000
DTEND;TZID=America/Los_Angeles:20250909T183000
DTSTAMP:20260424T070406
CREATED:20240326T193927Z
LAST-MODIFIED:20260216T220551Z
UID:17034-1757439000-1757442600@elks823.org
SUMMARY:Activities Meeting 5:30 PM
DESCRIPTION:Our Activities Meeting will be on the 2nd Tuesday of the Month at 5:30 PM\, before the Lodge Meeting. \nThis meeting is to coordinate activities for all the Committees and Officer functions.\nAll Lodge Officers/Trustees and Committee Chairs should plan on attending. All Committee Members can also attend\, or anyone wanting to be on a committee can attend. \n*In the Stag Bar\, unless there’s an event in there\, then the Dining Room.
URL:https://elks823.org/event/activities-meeting-6pm-2025-04-15/2025-09-09/
CATEGORIES:Community,Food,fundraiser,Volunteer
ATTACH;FMTTYPE=image/png:https://elks823.org/wp-content/uploads/2025/03/ACTIVITIES-Meeting.png
END:VEVENT
BEGIN:VEVENT
DTSTART;TZID=America/Los_Angeles:20250909T170000
DTEND;TZID=America/Los_Angeles:20250909T190000
DTSTAMP:20260424T070406
CREATED:20250506T164103Z
LAST-MODIFIED:20260331T201025Z
UID:16977-1757437200-1757444400@elks823.org
SUMMARY:Taco Tuesday!
DESCRIPTION:Come to the Lodge for Taco Tuesday!\nFood:  tacos (hard and soft shell)\, quesadillas\, chips\, and taco salad.\nSalsa\, sour cream\, and guacamole sides.
URL:https://elks823.org/event/taco-tuesday-5/2025-09-09/
CATEGORIES:Community,Food,Volunteer
ATTACH;FMTTYPE=image/png:https://elks823.org/wp-content/uploads/2022/04/taco_tuesday.png
END:VEVENT
BEGIN:VEVENT
DTSTART;TZID=America/Los_Angeles:20250907T120000
DTEND;TZID=America/Los_Angeles:20250907T150000
DTSTAMP:20260424T070406
CREATED:20250804T214649Z
LAST-MODIFIED:20250804T215204Z
UID:17006-1757246400-1757257200@elks823.org
SUMMARY:Seahawk Club Kickoff 1:05PM
DESCRIPTION:The Seahawks Club is back! $35 for the New Season!\nVS. SF 49ers\, Kickoff 1:05 PM \nPotluck 12 -3 PM\, bring your favorite dish\, and meet in the lounge with your fellow Elk Members. \nHawks Club membership is $35 and can be paid in the Lounge or the Office. These funds pay for our subscription to Red Zone and other costs of running the Hawks Club. \nWhen the Seahawks score a touchdown\, members will receive a ticket for a free drink (Soft drink\, a beer\, box wine\, or well drink only). Due to state rules\, a maximum of 5 free drink tickets will be issued to each member per game. Drink tickets must be used during the game timeline: 1 hour before\, during\, and 1 hour after or before the kickoff of the next Hawks Club meet-up. Drink tickets have no value during regular lodge hours.\nWhen the opposing team scores\, everyone is requested to deposit .50¢ in the Hawks Club Bank.\nNon-members are encouraged to participate with us. \nFor more details\, contact Diane Nelson or MJ Benner. \nCheck out the Seahawks’ 2025 Schedule here:\nhttps://www.seahawks.com/schedule/
URL:https://elks823.org/event/seahawk-club-kickoff-105pm/2025-09-07/
CATEGORIES:Charity,Community,Food,fundraiser,Games,Hawks Club,Volunteer
ATTACH;FMTTYPE=image/jpeg:https://elks823.org/wp-content/uploads/2024/08/Seahawks35.jpg
END:VEVENT
BEGIN:VEVENT
DTSTART;TZID=America/Los_Angeles:20250904T173000
DTEND;TZID=America/Los_Angeles:20250904T190000
DTSTAMP:20260424T070406
CREATED:20250824T154747Z
LAST-MODIFIED:20250824T154747Z
UID:17156-1757007000-1757012400@elks823.org
SUMMARY:Elktoberfest Volunteer Orientation and Training 5:30PM
DESCRIPTION:Elktoberfest Volunteers AKA Best People On Earth (BPOE)\, join us in the Stag Bar to get up-to-date information on the position you volunteered for and chat with other volunteers you will be working with. \nIf you have not yet volunteered\, this is your chance to see what still needs to be filled! \nOR don’t wait and call the Lodge Office Tuesday through Friday from 10 – 2 at (360) 256-0823 to see which positions are still open.
URL:https://elks823.org/event/elktoberfest-volunteer-orientation-and-training-530pm/
CATEGORIES:Charity,Class,Community,Volunteer
ATTACH;FMTTYPE=image/png:https://elks823.org/wp-content/uploads/2025/08/Elktoberfest_Sept4Volunteer.png
END:VEVENT
BEGIN:VEVENT
DTSTART;TZID=America/Los_Angeles:20250902T170000
DTEND;TZID=America/Los_Angeles:20250902T190000
DTSTAMP:20260424T070407
CREATED:20250506T164103Z
LAST-MODIFIED:20260331T201025Z
UID:16976-1756832400-1756839600@elks823.org
SUMMARY:Taco Tuesday!
DESCRIPTION:Come to the Lodge for Taco Tuesday!\nFood:  tacos (hard and soft shell)\, quesadillas\, chips\, and taco salad.\nSalsa\, sour cream\, and guacamole sides.
URL:https://elks823.org/event/taco-tuesday-5/2025-09-02/
CATEGORIES:Community,Food,Volunteer
ATTACH;FMTTYPE=image/png:https://elks823.org/wp-content/uploads/2022/04/taco_tuesday.png
END:VEVENT
BEGIN:VEVENT
DTSTART;TZID=America/Los_Angeles:20250826T190000
DTEND;TZID=America/Los_Angeles:20250826T210000
DTSTAMP:20260424T070407
CREATED:20250304T222847Z
LAST-MODIFIED:20260331T201308Z
UID:17031-1756234800-1756242000@elks823.org
SUMMARY:Lodge Meeting 7PM
DESCRIPTION:The lounge opens at 4 PM\, closes during meetings\, then re-opens after the meeting until 10 PM. \nFood: Taco Tuesday! Come down for some tacos\, quesadillas\, taquitos\, chips\, and salsa.
URL:https://elks823.org/event/lodge-meeting-7pm-6/2025-08-26/
CATEGORIES:Charity,Community,fundraiser,Games,Lodge meeting,Volunteer
ATTACH;FMTTYPE=image/png:https://elks823.org/wp-content/uploads/2022/08/Lounge-Screens-april-may-12.png
END:VEVENT
BEGIN:VEVENT
DTSTART;TZID=America/Los_Angeles:20250826T170000
DTEND;TZID=America/Los_Angeles:20250826T190000
DTSTAMP:20260424T070407
CREATED:20250506T164103Z
LAST-MODIFIED:20260331T201024Z
UID:16815-1756227600-1756234800@elks823.org
SUMMARY:Taco Tuesday!
DESCRIPTION:Come to the Lodge for Taco Tuesday!\nFood:  tacos (hard and soft shell)\, quesadillas\, chips\, and taco salad.\nSalsa\, sour cream\, and guacamole sides.
URL:https://elks823.org/event/taco-tuesday-5/2025-08-26/
CATEGORIES:Community,Food,Volunteer
ATTACH;FMTTYPE=image/png:https://elks823.org/wp-content/uploads/2022/04/taco_tuesday.png
END:VEVENT
BEGIN:VEVENT
DTSTART;TZID=America/Los_Angeles:20250824T130000
DTEND;TZID=America/Los_Angeles:20250824T170000
DTSTAMP:20260424T070407
CREATED:20230717T174541Z
LAST-MODIFIED:20250824T153713Z
UID:16901-1756040400-1756054800@elks823.org
SUMMARY:Elks Summer Picnic 1- 5PM
DESCRIPTION:Annual Elks Family Picnic – August 24\, 1–5 PM – We moved inside due to the heat! \n \n\n\n\n\nJoin us this afternoon for our Annual Picnic – we’ve moved indoors to keep cool!\n\n\n Free Lunch for Members\n Guests $5\n Live Music by Robby Mayer\n Bar Open with Volunteer Bartender Darci\n Games & activities in the Stag Bar \n\n\n\nCome enjoy great food\, music\, and fellowship with your Elk family.\nSee you there!
URL:https://elks823.org/event/elks-summer-picnic-2024-07-28-2025-08-24/
CATEGORIES:Community,Food,Games,Music,Volunteer
ATTACH;FMTTYPE=image/jpeg:https://elks823.org/wp-content/uploads/2025/08/Picnic_Inside.jpg
END:VEVENT
BEGIN:VEVENT
DTSTART;TZID=America/Los_Angeles:20250819T173000
DTEND;TZID=America/Los_Angeles:20250819T183000
DTSTAMP:20260424T070407
CREATED:20250506T165917Z
LAST-MODIFIED:20250804T220201Z
UID:16890-1755624600-1755628200@elks823.org
SUMMARY:New Member Orientation 5:30PM
DESCRIPTION:This month\, Orientation is moving to Tuesday\, August 19th\, beginning at 5:30 PM\, and Initiation will be following\, starting at 7 PM.\nStag Bar unless other room noted. \nCome early for Taco Tuesday beginning at 5 PM!
URL:https://elks823.org/event/new-member-orientation-5pm-2025-08-19/2025-08-19/
CATEGORIES:Class,Volunteer
ATTACH;FMTTYPE=image/png:https://elks823.org/wp-content/uploads/2025/05/Orientation_Aug19.png
END:VEVENT
BEGIN:VEVENT
DTSTART;TZID=America/Los_Angeles:20250819T170000
DTEND;TZID=America/Los_Angeles:20250819T190000
DTSTAMP:20260424T070407
CREATED:20250506T164103Z
LAST-MODIFIED:20260331T201024Z
UID:16814-1755622800-1755630000@elks823.org
SUMMARY:Taco Tuesday!
DESCRIPTION:Come to the Lodge for Taco Tuesday!\nFood:  tacos (hard and soft shell)\, quesadillas\, chips\, and taco salad.\nSalsa\, sour cream\, and guacamole sides.
URL:https://elks823.org/event/taco-tuesday-5/2025-08-19/
CATEGORIES:Community,Food,Volunteer
ATTACH;FMTTYPE=image/png:https://elks823.org/wp-content/uploads/2022/04/taco_tuesday.png
END:VEVENT
BEGIN:VEVENT
DTSTART;TZID=America/Los_Angeles:20250815T170000
DTEND;TZID=America/Los_Angeles:20250815T210000
DTSTAMP:20260424T070407
CREATED:20250304T230853Z
LAST-MODIFIED:20250925T211116Z
UID:16881-1755277200-1755291600@elks823.org
SUMMARY:Officer Steak Night 5PM\, Live Music by Last Flight Out
DESCRIPTION:Steak $27 comes with a salad\, baked potato\, and vegetables.\nOr select Fish\, $25: Salmon with a salad\, baked potato\, and vegetables.\n*The steak will be upgraded to Ribeye from Sirloin\, 8oz portion. Hence the pricing change. \nPlease call the office to make your reservations\, by the Wednesday before.\nWhen you call\, please select an open time for dinner.\n*Late RSVPs may not be taken. 360-256-0823 \nLive Music by Last Flight Out (in the Lounge) at 7 PM\n*No cover for the band. \n*Steak Night Tips and proceeds go to the Officer Fund to help with Conventions\, Officer uniforms\, and training.
URL:https://elks823.org/event/officer-steak-night-5pm-2025-05-16-2025-07-18-2025-08-15/2025-08-15/
CATEGORIES:Charity,Community,Dance,Food,fundraiser,Music,Volunteer
ATTACH;FMTTYPE=image/png:https://elks823.org/wp-content/uploads/2025/08/Aug15-Steak_Night.png
END:VEVENT
BEGIN:VEVENT
DTSTART;TZID=America/Los_Angeles:20250812T190000
DTEND;TZID=America/Los_Angeles:20250812T210000
DTSTAMP:20260424T070407
CREATED:20250304T222847Z
LAST-MODIFIED:20260331T201307Z
UID:17030-1755025200-1755032400@elks823.org
SUMMARY:Lodge Meeting 7PM
DESCRIPTION:The lounge opens at 4 PM\, closes during meetings\, then re-opens after the meeting until 10 PM. \nFood: Taco Tuesday! Come down for some tacos\, quesadillas\, taquitos\, chips\, and salsa.
URL:https://elks823.org/event/lodge-meeting-7pm-6/2025-08-12/
CATEGORIES:Charity,Community,fundraiser,Games,Lodge meeting,Volunteer
ATTACH;FMTTYPE=image/png:https://elks823.org/wp-content/uploads/2022/08/Lounge-Screens-april-may-12.png
END:VEVENT
BEGIN:VEVENT
DTSTART;TZID=America/Los_Angeles:20250812T173000
DTEND;TZID=America/Los_Angeles:20250812T183000
DTSTAMP:20260424T070407
CREATED:20240326T193927Z
LAST-MODIFIED:20260216T220551Z
UID:16868-1755019800-1755023400@elks823.org
SUMMARY:Activities Meeting 5:30 PM
DESCRIPTION:Our Activities Meeting will be on the 2nd Tuesday of the Month at 5:30 PM\, before the Lodge Meeting. \nThis meeting is to coordinate activities for all the Committees and Officer functions.\nAll Lodge Officers/Trustees and Committee Chairs should plan on attending. All Committee Members can also attend\, or anyone wanting to be on a committee can attend. \n*In the Stag Bar\, unless there’s an event in there\, then the Dining Room.
URL:https://elks823.org/event/activities-meeting-6pm-2025-04-15/2025-08-12/
CATEGORIES:Community,Food,fundraiser,Volunteer
ATTACH;FMTTYPE=image/png:https://elks823.org/wp-content/uploads/2025/03/ACTIVITIES-Meeting.png
END:VEVENT
BEGIN:VEVENT
DTSTART;TZID=America/Los_Angeles:20250812T170000
DTEND;TZID=America/Los_Angeles:20250812T190000
DTSTAMP:20260424T070407
CREATED:20250506T164103Z
LAST-MODIFIED:20260331T201024Z
UID:16813-1755018000-1755025200@elks823.org
SUMMARY:Taco Tuesday!
DESCRIPTION:Come to the Lodge for Taco Tuesday!\nFood:  tacos (hard and soft shell)\, quesadillas\, chips\, and taco salad.\nSalsa\, sour cream\, and guacamole sides.
URL:https://elks823.org/event/taco-tuesday-5/2025-08-12/
CATEGORIES:Community,Food,Volunteer
ATTACH;FMTTYPE=image/png:https://elks823.org/wp-content/uploads/2022/04/taco_tuesday.png
END:VEVENT
BEGIN:VEVENT
DTSTART;TZID=America/Los_Angeles:20250809T180000
DTEND;TZID=America/Los_Angeles:20250809T210000
DTSTAMP:20260424T070407
CREATED:20250304T224624Z
LAST-MODIFIED:20260216T212715Z
UID:16878-1754762400-1754773200@elks823.org
SUMMARY:Karaoke 6PM
DESCRIPTION:Are you a singer?  Come on down\, we want to hear you sing!!\nNot a singer?  THAT’S OK!  Come on down and listen to our Elk Members\, friends\, and family sing. \n*On Saturday nights our Kitchen is closed. Members and guests can bring food in or have it delivered.
URL:https://elks823.org/event/karaoke-6pm-3/2025-08-09/
CATEGORIES:Dance,fundraiser,Karaoke,Music,Volunteer
ATTACH;FMTTYPE=image/png:https://elks823.org/wp-content/uploads/2024/03/karaoke.png
END:VEVENT
BEGIN:VEVENT
DTSTART;TZID=America/Los_Angeles:20250805T170000
DTEND;TZID=America/Los_Angeles:20250805T200000
DTSTAMP:20260424T070407
CREATED:20240711T223855Z
LAST-MODIFIED:20250708T175501Z
UID:16859-1754413200-1754424000@elks823.org
SUMMARY:National Night Out
DESCRIPTION:Tuesday\, Aug 5th – National Night Out\nNational Night Out is an annual community-building campaign that promotes police-community partnerships and neighborhood camaraderie. \nLeRoy Haagen Memorial Community Park\nNE 9th and NE 136th\n5-8 PM \n*Contact ER Stephen Hansen for more information. This is an event for our Officers and Members to be out in the community.
URL:https://elks823.org/event/national-night-out-3-2025-08-05/
CATEGORIES:Charity,Community,fundraiser,Games,Volunteer
ATTACH;FMTTYPE=image/png:https://elks823.org/wp-content/uploads/2024/07/National-Night-Out-Aug-5-2025.png
END:VEVENT
BEGIN:VEVENT
DTSTART;TZID=America/Los_Angeles:20250805T170000
DTEND;TZID=America/Los_Angeles:20250805T190000
DTSTAMP:20260424T070407
CREATED:20250506T164103Z
LAST-MODIFIED:20260331T201023Z
UID:16812-1754413200-1754420400@elks823.org
SUMMARY:Taco Tuesday!
DESCRIPTION:Come to the Lodge for Taco Tuesday!\nFood:  tacos (hard and soft shell)\, quesadillas\, chips\, and taco salad.\nSalsa\, sour cream\, and guacamole sides.
URL:https://elks823.org/event/taco-tuesday-5/2025-08-05/
CATEGORIES:Community,Food,Volunteer
ATTACH;FMTTYPE=image/png:https://elks823.org/wp-content/uploads/2022/04/taco_tuesday.png
END:VEVENT
BEGIN:VEVENT
DTSTART;TZID=America/Los_Angeles:20250729T170000
DTEND;TZID=America/Los_Angeles:20250729T190000
DTSTAMP:20260424T070407
CREATED:20250506T164103Z
LAST-MODIFIED:20260331T201020Z
UID:16582-1753808400-1753815600@elks823.org
SUMMARY:Taco Tuesday!
DESCRIPTION:Come to the Lodge for Taco Tuesday!\nFood:  tacos (hard and soft shell)\, quesadillas\, chips\, and taco salad.\nSalsa\, sour cream\, and guacamole sides.
URL:https://elks823.org/event/taco-tuesday-5/2025-07-29/
CATEGORIES:Community,Food,Volunteer
ATTACH;FMTTYPE=image/png:https://elks823.org/wp-content/uploads/2022/04/taco_tuesday.png
END:VEVENT
BEGIN:VEVENT
DTSTART;TZID=America/Los_Angeles:20250722T190000
DTEND;TZID=America/Los_Angeles:20250722T210000
DTSTAMP:20260424T070407
CREATED:20250304T222847Z
LAST-MODIFIED:20260331T201307Z
UID:17029-1753210800-1753218000@elks823.org
SUMMARY:Lodge Meeting 7PM
DESCRIPTION:The lounge opens at 4 PM\, closes during meetings\, then re-opens after the meeting until 10 PM. \nFood: Taco Tuesday! Come down for some tacos\, quesadillas\, taquitos\, chips\, and salsa.
URL:https://elks823.org/event/lodge-meeting-7pm-6/2025-07-22/
CATEGORIES:Charity,Community,fundraiser,Games,Lodge meeting,Volunteer
ATTACH;FMTTYPE=image/png:https://elks823.org/wp-content/uploads/2022/08/Lounge-Screens-april-may-12.png
END:VEVENT
BEGIN:VEVENT
DTSTART;TZID=America/Los_Angeles:20250722T170000
DTEND;TZID=America/Los_Angeles:20250722T190000
DTSTAMP:20260424T070407
CREATED:20250506T164103Z
LAST-MODIFIED:20260331T201020Z
UID:16581-1753203600-1753210800@elks823.org
SUMMARY:Taco Tuesday!
DESCRIPTION:Come to the Lodge for Taco Tuesday!\nFood:  tacos (hard and soft shell)\, quesadillas\, chips\, and taco salad.\nSalsa\, sour cream\, and guacamole sides.
URL:https://elks823.org/event/taco-tuesday-5/2025-07-22/
CATEGORIES:Community,Food,Volunteer
ATTACH;FMTTYPE=image/png:https://elks823.org/wp-content/uploads/2022/04/taco_tuesday.png
END:VEVENT
BEGIN:VEVENT
DTSTART;TZID=America/Los_Angeles:20250718T170000
DTEND;TZID=America/Los_Angeles:20250718T210000
DTSTAMP:20260424T070407
CREATED:20250304T230853Z
LAST-MODIFIED:20250715T171441Z
UID:16638-1752858000-1752872400@elks823.org
SUMMARY:Officer Steak Night 5PM\, Live Music by Slim Jims
DESCRIPTION:Steak $27 comes with a salad\, baked potato\, and vegetables.\nOr select Fish\, $25: Salmon with a salad\, baked potato\, and vegetables.\n*The steak will be upgraded to Ribeye from Sirloin\, 8oz portion. Hence the pricing change. \nPlease call the office to make your reservations\, by the Wednesday before.\nWhen you call\, please select an open time for dinner.\n*Late RSVPs may not be taken. 360-256-0823 \nLive Music by Slim Jims(in the Lounge) at 7 PM\n*No cover for the band. \n*Steak Night Tips and proceeds go to the Officer Fund to help with Conventions\, Officer uniforms\, and training.
URL:https://elks823.org/event/officer-steak-night-5pm-2025-05-16-2025-07-18/2025-07-18/
CATEGORIES:Charity,Community,Dance,Food,fundraiser,Music,Volunteer
ATTACH;FMTTYPE=image/png:https://elks823.org/wp-content/uploads/2025/07/Steak_Night_July18.png
END:VEVENT
BEGIN:VEVENT
DTSTART;TZID=America/Los_Angeles:20250715T170000
DTEND;TZID=America/Los_Angeles:20250715T190000
DTSTAMP:20260424T070407
CREATED:20250506T164103Z
LAST-MODIFIED:20260331T201020Z
UID:16580-1752598800-1752606000@elks823.org
SUMMARY:Taco Tuesday!
DESCRIPTION:Come to the Lodge for Taco Tuesday!\nFood:  tacos (hard and soft shell)\, quesadillas\, chips\, and taco salad.\nSalsa\, sour cream\, and guacamole sides.
URL:https://elks823.org/event/taco-tuesday-5/2025-07-15/
CATEGORIES:Community,Food,Volunteer
ATTACH;FMTTYPE=image/png:https://elks823.org/wp-content/uploads/2022/04/taco_tuesday.png
END:VEVENT
BEGIN:VEVENT
DTSTART;TZID=America/Los_Angeles:20250712T180000
DTEND;TZID=America/Los_Angeles:20250712T210000
DTSTAMP:20260424T070407
CREATED:20250304T224624Z
LAST-MODIFIED:20260216T212714Z
UID:16584-1752343200-1752354000@elks823.org
SUMMARY:Karaoke 6PM
DESCRIPTION:Are you a singer?  Come on down\, we want to hear you sing!!\nNot a singer?  THAT’S OK!  Come on down and listen to our Elk Members\, friends\, and family sing. \n*On Saturday nights our Kitchen is closed. Members and guests can bring food in or have it delivered.
URL:https://elks823.org/event/karaoke-6pm-3/2025-07-12/
CATEGORIES:Dance,fundraiser,Karaoke,Music,Volunteer
ATTACH;FMTTYPE=image/png:https://elks823.org/wp-content/uploads/2024/03/karaoke.png
END:VEVENT
BEGIN:VEVENT
DTSTART;TZID=America/Los_Angeles:20250712T170000
DTEND;TZID=America/Los_Angeles:20250712T180000
DTSTAMP:20260424T070407
CREATED:20250506T165917Z
LAST-MODIFIED:20250520T170727Z
UID:16609-1752339600-1752343200@elks823.org
SUMMARY:New Member Orientation 5PM
DESCRIPTION:Orientation begins at 5 PM\, and Initiation will be at the following Lodge Meeting. Stag Bar unless other room noted. \nKaraoke starts at 6 PM
URL:https://elks823.org/event/new-member-orientation-5pm-2025-07-12/2025-07-12/
CATEGORIES:Class,Karaoke,Volunteer
ATTACH;FMTTYPE=image/png:https://elks823.org/wp-content/uploads/2024/02/new-member-orientation.png
END:VEVENT
BEGIN:VEVENT
DTSTART;TZID=America/Los_Angeles:20250712T100000
DTEND;TZID=America/Los_Angeles:20250712T150000
DTSTAMP:20260424T070407
CREATED:20240528T175406Z
LAST-MODIFIED:20250520T183350Z
UID:16681-1752314400-1752332400@elks823.org
SUMMARY:Vintage Car Show! - Open to the Public! 10AM
DESCRIPTION:9:00 AM – Gate and Registration Opens\n10:00 AM – Car Show Starts\n10:30 AM – Raffle Prize Sales Start\n– Door Prizes Give Away Starts\n11:00 AM – Outside Food and Soft Drinks\n11:30 AM – Registration Closes\n1:30 PM   – Turn in All Balloting : Spectators get their ballots form Car Club members or Reservations table. People that entered their car have a complete set of ballots in their goodie bag.\n2:30 PM – Award Trophies \nThree Trophies Awarded: Men’s Choice\, Women’s Choice\, People’s Choice \nFor more information\, contact Frank Marini at:  fam36@comcast.net\nCheck out more info here!
URL:https://elks823.org/event/car-show-open-to-the-public-10am-2025-07-12/
CATEGORIES:Car Show,Charity,Community,fundraiser,Volunteer
ATTACH;FMTTYPE=image/png:https://elks823.org/wp-content/uploads/2025/05/Car-Show-Banner-1.png
END:VEVENT
BEGIN:VEVENT
DTSTART;TZID=America/Los_Angeles:20250708T190000
DTEND;TZID=America/Los_Angeles:20250708T210000
DTSTAMP:20260424T070407
CREATED:20250304T222847Z
LAST-MODIFIED:20260331T201256Z
UID:17028-1752001200-1752008400@elks823.org
SUMMARY:Lodge Meeting 7PM
DESCRIPTION:The lounge opens at 4 PM\, closes during meetings\, then re-opens after the meeting until 10 PM. \nFood: Taco Tuesday! Come down for some tacos\, quesadillas\, taquitos\, chips\, and salsa.
URL:https://elks823.org/event/lodge-meeting-7pm-6/2025-07-08/
CATEGORIES:Charity,Community,fundraiser,Games,Lodge meeting,Volunteer
ATTACH;FMTTYPE=image/png:https://elks823.org/wp-content/uploads/2022/08/Lounge-Screens-april-may-12.png
END:VEVENT
BEGIN:VEVENT
DTSTART;TZID=America/Los_Angeles:20250708T173000
DTEND;TZID=America/Los_Angeles:20250708T183000
DTSTAMP:20260424T070407
CREATED:20240326T193927Z
LAST-MODIFIED:20260216T220550Z
UID:16600-1751995800-1751999400@elks823.org
SUMMARY:Activities Meeting 5:30 PM
DESCRIPTION:Our Activities Meeting will be on the 2nd Tuesday of the Month at 5:30 PM\, before the Lodge Meeting. \nThis meeting is to coordinate activities for all the Committees and Officer functions.\nAll Lodge Officers/Trustees and Committee Chairs should plan on attending. All Committee Members can also attend\, or anyone wanting to be on a committee can attend. \n*In the Stag Bar\, unless there’s an event in there\, then the Dining Room.
URL:https://elks823.org/event/activities-meeting-6pm-2025-04-15/2025-07-08/
CATEGORIES:Community,Food,fundraiser,Volunteer
ATTACH;FMTTYPE=image/png:https://elks823.org/wp-content/uploads/2025/03/ACTIVITIES-Meeting.png
END:VEVENT
BEGIN:VEVENT
DTSTART;TZID=America/Los_Angeles:20250708T170000
DTEND;TZID=America/Los_Angeles:20250708T190000
DTSTAMP:20260424T070407
CREATED:20250506T164103Z
LAST-MODIFIED:20260331T201019Z
UID:16579-1751994000-1752001200@elks823.org
SUMMARY:Taco Tuesday!
DESCRIPTION:Come to the Lodge for Taco Tuesday!\nFood:  tacos (hard and soft shell)\, quesadillas\, chips\, and taco salad.\nSalsa\, sour cream\, and guacamole sides.
URL:https://elks823.org/event/taco-tuesday-5/2025-07-08/
CATEGORIES:Community,Food,Volunteer
ATTACH;FMTTYPE=image/png:https://elks823.org/wp-content/uploads/2022/04/taco_tuesday.png
END:VEVENT
BEGIN:VEVENT
DTSTART;TZID=America/Los_Angeles:20250701T170000
DTEND;TZID=America/Los_Angeles:20250701T190000
DTSTAMP:20260424T070407
CREATED:20250506T164103Z
LAST-MODIFIED:20260331T201019Z
UID:16578-1751389200-1751396400@elks823.org
SUMMARY:Taco Tuesday!
DESCRIPTION:Come to the Lodge for Taco Tuesday!\nFood:  tacos (hard and soft shell)\, quesadillas\, chips\, and taco salad.\nSalsa\, sour cream\, and guacamole sides.
URL:https://elks823.org/event/taco-tuesday-5/2025-07-01/
CATEGORIES:Community,Food,Volunteer
ATTACH;FMTTYPE=image/png:https://elks823.org/wp-content/uploads/2022/04/taco_tuesday.png
END:VEVENT
END:VCALENDAR