BEGIN:VCALENDAR
VERSION:2.0
PRODID:-//Elks Lodge 823 - ECPv6.15.20//NONSGML v1.0//EN
CALSCALE:GREGORIAN
METHOD:PUBLISH
X-WR-CALNAME:Elks Lodge 823
X-ORIGINAL-URL:https://elks823.org
X-WR-CALDESC:Events for Elks Lodge 823
REFRESH-INTERVAL;VALUE=DURATION:PT1H
X-Robots-Tag:noindex
X-PUBLISHED-TTL:PT1H
BEGIN:VTIMEZONE
TZID:America/Los_Angeles
BEGIN:DAYLIGHT
TZOFFSETFROM:-0800
TZOFFSETTO:-0700
TZNAME:PDT
DTSTART:20250309T100000
END:DAYLIGHT
BEGIN:STANDARD
TZOFFSETFROM:-0700
TZOFFSETTO:-0800
TZNAME:PST
DTSTART:20251102T090000
END:STANDARD
BEGIN:DAYLIGHT
TZOFFSETFROM:-0800
TZOFFSETTO:-0700
TZNAME:PDT
DTSTART:20260308T100000
END:DAYLIGHT
BEGIN:STANDARD
TZOFFSETFROM:-0700
TZOFFSETTO:-0800
TZNAME:PST
DTSTART:20261101T090000
END:STANDARD
BEGIN:DAYLIGHT
TZOFFSETFROM:-0800
TZOFFSETTO:-0700
TZNAME:PDT
DTSTART:20270314T100000
END:DAYLIGHT
BEGIN:STANDARD
TZOFFSETFROM:-0700
TZOFFSETTO:-0800
TZNAME:PST
DTSTART:20271107T090000
END:STANDARD
END:VTIMEZONE
BEGIN:VEVENT
DTSTART;TZID=America/Los_Angeles:20260331T170000
DTEND;TZID=America/Los_Angeles:20260331T190000
DTSTAMP:20260423T134252
CREATED:20250506T164103Z
LAST-MODIFIED:20260216T212838Z
UID:18056-1774976400-1774983600@elks823.org
SUMMARY:Taco Tuesday!
DESCRIPTION:Come to the Lodge for Taco Tuesday!\nFood:  tacos (hard and soft shell)\, quesadillas\, chips\, and taco salad.\nSalsa\, sour cream\, and guacamole sides.
URL:https://elks823.org/event/taco-tuesday-5/2026-03-31/
CATEGORIES:Community,Food,Volunteer
ATTACH;FMTTYPE=image/png:https://elks823.org/wp-content/uploads/2022/04/taco_tuesday.png
END:VEVENT
BEGIN:VEVENT
DTSTART;TZID=America/Los_Angeles:20260328T090000
DTEND;TZID=America/Los_Angeles:20260328T120000
DTSTAMP:20260423T134252
CREATED:20260216T230148Z
LAST-MODIFIED:20260216T230148Z
UID:18183-1774688400-1774699200@elks823.org
SUMMARY:Yard Clean-up 9AM
DESCRIPTION:March 28\, 2026\, Start Time 9:00 AM \nThe Easter Egg Hunt is on April 4th this year. It is open to the public. First impressions count; help us make our Lodge look beautiful and happy.
URL:https://elks823.org/event/yard-clean-up-9am-2/
CATEGORIES:Community,Volunteer
ATTACH;FMTTYPE=image/png:https://elks823.org/wp-content/uploads/2023/06/unnamed-1.png
END:VEVENT
BEGIN:VEVENT
DTSTART;TZID=America/Los_Angeles:20260327T180000
DTEND;TZID=America/Los_Angeles:20260327T210000
DTSTAMP:20260423T134252
CREATED:20260122T000741Z
LAST-MODIFIED:20260210T235927Z
UID:18021-1774634400-1774645200@elks823.org
SUMMARY:ER Farewell Dinner
DESCRIPTION:Please join us as we honor Exalted Ruler Stephen Hansen with an evening of dinner\, awards\, and appreciation!\nFriday\, March 27\, 2026\nDinner 6:30 PM. • Program 7:00 PM \nMenu & Cost: TBD \nRSVP to the office by March 21st!
URL:https://elks823.org/event/er-farewell-dinner-3/
CATEGORIES:Charity,Community,Music,Volunteer
ATTACH;FMTTYPE=image/png:https://elks823.org/wp-content/uploads/2026/01/Save-the-date_Farewell-1.png
END:VEVENT
BEGIN:VEVENT
DTSTART;TZID=America/Los_Angeles:20260324T190000
DTEND;TZID=America/Los_Angeles:20260324T210000
DTSTAMP:20260423T134252
CREATED:20250304T222847Z
LAST-MODIFIED:20260331T201323Z
UID:18114-1774378800-1774386000@elks823.org
SUMMARY:Lodge Meeting 7PM
DESCRIPTION:The lounge opens at 4 PM\, closes during meetings\, then re-opens after the meeting until 10 PM. \nFood: Taco Tuesday! Come down for some tacos\, quesadillas\, taquitos\, chips\, and salsa.
URL:https://elks823.org/event/lodge-meeting-7pm-6/2026-03-24/
CATEGORIES:Charity,Community,fundraiser,Games,Lodge meeting,Volunteer
ATTACH;FMTTYPE=image/png:https://elks823.org/wp-content/uploads/2022/08/Lounge-Screens-april-may-12.png
END:VEVENT
BEGIN:VEVENT
DTSTART;TZID=America/Los_Angeles:20260324T170000
DTEND;TZID=America/Los_Angeles:20260324T190000
DTSTAMP:20260423T134252
CREATED:20250506T164103Z
LAST-MODIFIED:20260216T212833Z
UID:18055-1774371600-1774378800@elks823.org
SUMMARY:Taco Tuesday!
DESCRIPTION:Come to the Lodge for Taco Tuesday!\nFood:  tacos (hard and soft shell)\, quesadillas\, chips\, and taco salad.\nSalsa\, sour cream\, and guacamole sides.
URL:https://elks823.org/event/taco-tuesday-5/2026-03-24/
CATEGORIES:Community,Food,Volunteer
ATTACH;FMTTYPE=image/png:https://elks823.org/wp-content/uploads/2022/04/taco_tuesday.png
END:VEVENT
BEGIN:VEVENT
DTSTART;TZID=America/Los_Angeles:20260320T170000
DTEND;TZID=America/Los_Angeles:20260320T210000
DTSTAMP:20260423T134252
CREATED:20250304T230853Z
LAST-MODIFIED:20260331T204614Z
UID:18219-1774026000-1774040400@elks823.org
SUMMARY:Officer Steak Night 5PM\, Live Music by Smoke Show Band
DESCRIPTION:Steak $27 comes with a salad\, baked potato\, and vegetables.\nOr select Fish\, $25: Salmon with a salad\, baked potato\, and vegetables.\n*The steak will be upgraded to Ribeye from Sirloin\, 8-oz portion. \nPlease call the office to make your reservations by Wednesday.\nWhen you call\, please select a time that suits you for dinner.\n*Late RSVPs may not be taken. 360-256-0823 \nLive Music by Smoke Show Band (in the Lounge) at 7 PM\n*No cover for the band. \n*Steak Night Tips and proceeds go to the Officer Fund to help with Conventions\, Officer uniforms\, and training.
URL:https://elks823.org/event/officer-steak-night-5pm-2025-05-16-2025-07-18-2025-08-15-2025-11-21-2026-02-20-2026-03-20/2026-03-20/
CATEGORIES:Charity,Community,Dance,Food,Music,Volunteer
ATTACH;FMTTYPE=image/png:https://elks823.org/wp-content/uploads/2026/03/Steak_Night_March.png
END:VEVENT
BEGIN:VEVENT
DTSTART;TZID=America/Los_Angeles:20260317T170000
DTEND;TZID=America/Los_Angeles:20260317T190000
DTSTAMP:20260423T134252
CREATED:20250506T164103Z
LAST-MODIFIED:20260216T212832Z
UID:18054-1773766800-1773774000@elks823.org
SUMMARY:Taco Tuesday!
DESCRIPTION:Come to the Lodge for Taco Tuesday!\nFood:  tacos (hard and soft shell)\, quesadillas\, chips\, and taco salad.\nSalsa\, sour cream\, and guacamole sides.
URL:https://elks823.org/event/taco-tuesday-5/2026-03-17/
CATEGORIES:Community,Food,Volunteer
ATTACH;FMTTYPE=image/png:https://elks823.org/wp-content/uploads/2022/04/taco_tuesday.png
END:VEVENT
BEGIN:VEVENT
DTSTART;TZID=America/Los_Angeles:20260310T190000
DTEND;TZID=America/Los_Angeles:20260310T210000
DTSTAMP:20260423T134252
CREATED:20250304T222847Z
LAST-MODIFIED:20260331T201322Z
UID:18113-1773169200-1773176400@elks823.org
SUMMARY:Lodge Meeting 7PM
DESCRIPTION:The lounge opens at 4 PM\, closes during meetings\, then re-opens after the meeting until 10 PM. \nFood: Taco Tuesday! Come down for some tacos\, quesadillas\, taquitos\, chips\, and salsa.
URL:https://elks823.org/event/lodge-meeting-7pm-6/2026-03-10/
CATEGORIES:Charity,Community,fundraiser,Games,Lodge meeting,Volunteer
ATTACH;FMTTYPE=image/png:https://elks823.org/wp-content/uploads/2022/08/Lounge-Screens-april-may-12.png
END:VEVENT
BEGIN:VEVENT
DTSTART;TZID=America/Los_Angeles:20260310T173000
DTEND;TZID=America/Los_Angeles:20260310T183000
DTSTAMP:20260423T134252
CREATED:20240326T193927Z
LAST-MODIFIED:20240326T193927Z
UID:18161-1773163800-1773167400@elks823.org
SUMMARY:Activities Meeting 5:30 PM
DESCRIPTION:Our Activities Meeting will be on the 2nd Tuesday of the Month at 5:30 PM\, before the Lodge Meeting. \nThis meeting is to coordinate activities for all the Committees and Officer functions.\nAll Lodge Officers/Trustees and Committee Chairs should plan on attending. All Committee Members can also attend\, or anyone wanting to be on a committee can attend. \n*In the Stag Bar\, unless there’s an event in there\, then the Dining Room.
URL:https://elks823.org/event/activities-meeting-6pm-2025-04-15/2026-03-10/
CATEGORIES:Community,Food,fundraiser,Volunteer
ATTACH;FMTTYPE=image/png:https://elks823.org/wp-content/uploads/2025/03/ACTIVITIES-Meeting.png
END:VEVENT
BEGIN:VEVENT
DTSTART;TZID=America/Los_Angeles:20260310T170000
DTEND;TZID=America/Los_Angeles:20260310T190000
DTSTAMP:20260423T134252
CREATED:20250506T164103Z
LAST-MODIFIED:20260216T212831Z
UID:18053-1773162000-1773169200@elks823.org
SUMMARY:Taco Tuesday!
DESCRIPTION:Come to the Lodge for Taco Tuesday!\nFood:  tacos (hard and soft shell)\, quesadillas\, chips\, and taco salad.\nSalsa\, sour cream\, and guacamole sides.
URL:https://elks823.org/event/taco-tuesday-5/2026-03-10/
CATEGORIES:Community,Food,Volunteer
ATTACH;FMTTYPE=image/png:https://elks823.org/wp-content/uploads/2022/04/taco_tuesday.png
END:VEVENT
BEGIN:VEVENT
DTSTART;TZID=America/Los_Angeles:20260306T190000
DTEND;TZID=America/Los_Angeles:20260306T210000
DTSTAMP:20260423T134253
CREATED:20251125T200149Z
LAST-MODIFIED:20260331T193243Z
UID:18165-1772823600-1772830800@elks823.org
SUMMARY:Elk Town Music 7PM
DESCRIPTION:Emblem Club Dinner starts the night at 6 PM. Then stick around for a great night of music\, dancing\, and fellowship! Music starts at 7:00 PMFeaturing your favorite hits from our Elk Town Music DJ Requests welcome — help create the fun! \n\nCome early\, wear red for R.E.D. Night\, and show your support for our deployed Service Members. \n\nWant to help DJ or share ideas to make this monthly event even better? Contact PER Ron Taylor.
URL:https://elks823.org/event/elk-town-music-7pm/2026-03-06/
CATEGORIES:Charity,Community,Dance,Food,fundraiser,Music,Volunteer
ATTACH;FMTTYPE=image/png:https://elks823.org/wp-content/uploads/2025/11/Elk-Town-Music-8.5-x-11-in.png
END:VEVENT
BEGIN:VEVENT
DTSTART;TZID=America/Los_Angeles:20260303T170000
DTEND;TZID=America/Los_Angeles:20260303T190000
DTSTAMP:20260423T134253
CREATED:20250506T164103Z
LAST-MODIFIED:20260216T212831Z
UID:18052-1772557200-1772564400@elks823.org
SUMMARY:Taco Tuesday!
DESCRIPTION:Come to the Lodge for Taco Tuesday!\nFood:  tacos (hard and soft shell)\, quesadillas\, chips\, and taco salad.\nSalsa\, sour cream\, and guacamole sides.
URL:https://elks823.org/event/taco-tuesday-5/2026-03-03/
CATEGORIES:Community,Food,Volunteer
ATTACH;FMTTYPE=image/png:https://elks823.org/wp-content/uploads/2022/04/taco_tuesday.png
END:VEVENT
BEGIN:VEVENT
DTSTART;TZID=America/Los_Angeles:20260224T170000
DTEND;TZID=America/Los_Angeles:20260224T190000
DTSTAMP:20260423T134253
CREATED:20250506T164103Z
LAST-MODIFIED:20260216T212830Z
UID:17889-1771952400-1771959600@elks823.org
SUMMARY:Taco Tuesday!
DESCRIPTION:Come to the Lodge for Taco Tuesday!\nFood:  tacos (hard and soft shell)\, quesadillas\, chips\, and taco salad.\nSalsa\, sour cream\, and guacamole sides.
URL:https://elks823.org/event/taco-tuesday-5/2026-02-24/
CATEGORIES:Community,Food,Volunteer
ATTACH;FMTTYPE=image/png:https://elks823.org/wp-content/uploads/2022/04/taco_tuesday.png
END:VEVENT
BEGIN:VEVENT
DTSTART;TZID=America/Los_Angeles:20260220T170000
DTEND;TZID=America/Los_Angeles:20260220T210000
DTSTAMP:20260423T134253
CREATED:20250304T230853Z
LAST-MODIFIED:20260318T171546Z
UID:17989-1771606800-1771621200@elks823.org
SUMMARY:Officer Steak Night 5PM\, Live Music by SlimJims
DESCRIPTION:Steak $27 comes with a salad\, baked potato\, and vegetables.\nOr select Fish\, $25: Salmon with a salad\, baked potato\, and vegetables.\n*The steak will be upgraded to Ribeye from Sirloin\, 8-oz portion. \nPlease call the office to make your reservations by Wednesday.\nWhen you call\, please select an open time for dinner.\n*Late RSVPs may not be taken. 360-256-0823 \nLive Music by Slim Jims (in the Lounge) at 7 PM\n*No cover for the band. \n*Steak Night Tips and proceeds go to the Officer Fund to help with Conventions\, Officer uniforms\, and training.
URL:https://elks823.org/event/officer-steak-night-5pm-2025-05-16-2025-07-18-2025-08-15-2025-11-21-2026-02-20/2026-02-20/
CATEGORIES:Charity,Community,Dance,Food,fundraiser,Music,Volunteer
ATTACH;FMTTYPE=image/png:https://elks823.org/wp-content/uploads/2025/03/2-20_Steak-Night.png
END:VEVENT
BEGIN:VEVENT
DTSTART;TZID=America/Los_Angeles:20260217T170000
DTEND;TZID=America/Los_Angeles:20260217T190000
DTSTAMP:20260423T134253
CREATED:20250506T164103Z
LAST-MODIFIED:20260216T212830Z
UID:17888-1771347600-1771354800@elks823.org
SUMMARY:Taco Tuesday!
DESCRIPTION:Come to the Lodge for Taco Tuesday!\nFood:  tacos (hard and soft shell)\, quesadillas\, chips\, and taco salad.\nSalsa\, sour cream\, and guacamole sides.
URL:https://elks823.org/event/taco-tuesday-5/2026-02-17/
CATEGORIES:Community,Food,Volunteer
ATTACH;FMTTYPE=image/png:https://elks823.org/wp-content/uploads/2022/04/taco_tuesday.png
END:VEVENT
BEGIN:VEVENT
DTSTART;TZID=America/Los_Angeles:20260214T180000
DTEND;TZID=America/Los_Angeles:20260214T210000
DTSTAMP:20260423T134253
CREATED:20250304T224624Z
LAST-MODIFIED:20260216T212716Z
UID:17981-1771092000-1771102800@elks823.org
SUMMARY:Karaoke 6PM
DESCRIPTION:Are you a singer?  Come on down\, we want to hear you sing!!\nNot a singer?  THAT’S OK!  Come on down and listen to our Elk Members\, friends\, and family sing. \n*On Saturday nights our Kitchen is closed. Members and guests can bring food in or have it delivered.
URL:https://elks823.org/event/karaoke-6pm-3/2026-02-14/
CATEGORIES:Dance,fundraiser,Karaoke,Music,Volunteer
ATTACH;FMTTYPE=image/png:https://elks823.org/wp-content/uploads/2024/03/karaoke.png
END:VEVENT
BEGIN:VEVENT
DTSTART;TZID=America/Los_Angeles:20260212T180000
DTEND;TZID=America/Los_Angeles:20260212T220000
DTSTAMP:20260423T134253
CREATED:20260102T192544Z
LAST-MODIFIED:20260102T192544Z
UID:17933-1770919200-1770933600@elks823.org
SUMMARY:Galentine's Day Party 6PM
DESCRIPTION: Galentine’s 2026: “No Where to Wear It” \n Thursday\, February 12\, 2026 6:00–10:00 PM At the Lodge\n\nGet ready for one of our most beloved annual events! Galentine’s 2026 is your official excuse to finally wear that outfit — the fabulous dress\, bold accessories\, or statement shoes that have been waiting for a special occasion. Guess what? Galentine’s IS that occasion!\n\nGrab your gal-pals (and Malentines\, too!) and join us for a night filled with friendship\, fashion\, and fun. Everyone is welcome\, and our Malentines crew will be on hand helping to make the night unforgettable — including their legendary\, impromptu dance numbers .\n\n This year’s Galentine’s is also a Membership Drive and OPEN TO THE PUBLIC\, so invite friends who may be interested in joining our Elks Family. It’s the perfect way to introduce newcomers to the warmth and fun of our Lodge community.\n\n Tickets• $10 advance (via Eventbrite – coming soon)• $15 at the door\n\n What’s Happening Pop-up vintage clothing shop (find your next treasure!) Purse Auction (bid on something fabulous) Karaoke (channel your inner diva) Dancing all night long Delicious hors d’oeuvres Drink specials all night\n\nDon’t miss this chance to celebrate friendship\, fashion\, and fun. We’ll see you on the dance floor!
URL:https://elks823.org/event/galentines-day-party-6pm/
CATEGORIES:Charity,Community,Dance,Food,fundraiser,Games,Karaoke,Music,Volunteer
ATTACH;FMTTYPE=image/png:https://elks823.org/wp-content/uploads/2026/01/2-12_Galentines.png
END:VEVENT
BEGIN:VEVENT
DTSTART;TZID=America/Los_Angeles:20260210T173000
DTEND;TZID=America/Los_Angeles:20260210T183000
DTSTAMP:20260423T134253
CREATED:20240326T193927Z
LAST-MODIFIED:20260216T220603Z
UID:17939-1770744600-1770748200@elks823.org
SUMMARY:Activities Meeting 5:30 PM
DESCRIPTION:Our Activities Meeting will be on the 2nd Tuesday of the Month at 5:30 PM\, before the Lodge Meeting. \nThis meeting is to coordinate activities for all the Committees and Officer functions.\nAll Lodge Officers/Trustees and Committee Chairs should plan on attending. All Committee Members can also attend\, or anyone wanting to be on a committee can attend. \n*In the Stag Bar\, unless there’s an event in there\, then the Dining Room.
URL:https://elks823.org/event/activities-meeting-6pm-2025-04-15/2026-02-10/
CATEGORIES:Community,Food,fundraiser,Volunteer
ATTACH;FMTTYPE=image/png:https://elks823.org/wp-content/uploads/2025/03/ACTIVITIES-Meeting.png
END:VEVENT
BEGIN:VEVENT
DTSTART;TZID=America/Los_Angeles:20260210T170000
DTEND;TZID=America/Los_Angeles:20260210T190000
DTSTAMP:20260423T134253
CREATED:20250506T164103Z
LAST-MODIFIED:20260216T212830Z
UID:17887-1770742800-1770750000@elks823.org
SUMMARY:Taco Tuesday!
DESCRIPTION:Come to the Lodge for Taco Tuesday!\nFood:  tacos (hard and soft shell)\, quesadillas\, chips\, and taco salad.\nSalsa\, sour cream\, and guacamole sides.
URL:https://elks823.org/event/taco-tuesday-5/2026-02-10/
CATEGORIES:Community,Food,Volunteer
ATTACH;FMTTYPE=image/png:https://elks823.org/wp-content/uploads/2022/04/taco_tuesday.png
END:VEVENT
BEGIN:VEVENT
DTSTART;TZID=America/Los_Angeles:20260206T190000
DTEND;TZID=America/Los_Angeles:20260206T210000
DTSTAMP:20260423T134253
CREATED:20251125T200149Z
LAST-MODIFIED:20260331T193243Z
UID:17975-1770404400-1770411600@elks823.org
SUMMARY:Elk Town Music 7PM
DESCRIPTION:Emblem Club Dinner starts the night at 6 PM. Then stick around for a great night of music\, dancing\, and fellowship! Music starts at 7:00 PMFeaturing your favorite hits from our Elk Town Music DJ Requests welcome — help create the fun! \n\nCome early\, wear red for R.E.D. Night\, and show your support for our deployed Service Members. \n\nWant to help DJ or share ideas to make this monthly event even better? Contact PER Ron Taylor.
URL:https://elks823.org/event/elk-town-music-7pm/2026-02-06/
CATEGORIES:Charity,Community,Dance,Food,fundraiser,Music,Volunteer
ATTACH;FMTTYPE=image/png:https://elks823.org/wp-content/uploads/2025/11/Elk-Town-Music-8.5-x-11-in.png
END:VEVENT
BEGIN:VEVENT
DTSTART;TZID=America/Los_Angeles:20260203T170000
DTEND;TZID=America/Los_Angeles:20260203T190000
DTSTAMP:20260423T134253
CREATED:20250506T164103Z
LAST-MODIFIED:20260216T212829Z
UID:17886-1770138000-1770145200@elks823.org
SUMMARY:Taco Tuesday!
DESCRIPTION:Come to the Lodge for Taco Tuesday!\nFood:  tacos (hard and soft shell)\, quesadillas\, chips\, and taco salad.\nSalsa\, sour cream\, and guacamole sides.
URL:https://elks823.org/event/taco-tuesday-5/2026-02-03/
CATEGORIES:Community,Food,Volunteer
ATTACH;FMTTYPE=image/png:https://elks823.org/wp-content/uploads/2022/04/taco_tuesday.png
END:VEVENT
BEGIN:VEVENT
DTSTART;TZID=America/Los_Angeles:20260131T170000
DTEND;TZID=America/Los_Angeles:20260131T220000
DTSTAMP:20260423T134253
CREATED:20260102T185607Z
LAST-MODIFIED:20260102T185928Z
UID:17884-1769878800-1769896800@elks823.org
SUMMARY:11th Annual PER White Elephant Auction 5PM
DESCRIPTION: 11th Annual PER White Elephant Auction  January 31 Auction begins at 5:00 PM Dining Room at the Lodge\n\nJoin us for one of the most entertaining and anticipated events of the year — the PER White Elephant Auction! Bring your sense of humor\, a wrapped surprise\, and get ready for a fun-filled evening supporting great causes.\n\n How it works:Each person must bring at least one new (unused) item for the auctionWrap items in newspaper or white paper and write the value on the top of the gift\n\n Auction Details:Auction starts at 5:00 PMYou will need to sign up for an auction numberAt the end\, you will pay with cash or check only for auction item payments*Proceeds support PER charities\, scholarships\, and lodge needs\n\n Extra Treats from the Emblem Club:Appetizers available for purchase during the auctionA homemade pie auction\, with proceeds benefiting Emblem Club charities\n\n The Infamous White Elephant:One of the auction items will be the legendary White Elephant — hidden among the treasures! If you win it\, you’ll have the honor (and responsibility ) of caring for it for the entire year\, until it’s auctioned off again at next year’s event.Who knows… You might get the infamous WHITE ELEPHANT!\n\nAfter the auction\, stick around\, relax\, and enjoy the rest of the evening at the Lodge. This is a great way to regift something new that just wasn’t your thing — and have a lot of laughs along the way!\n\n We hope to see you there!
URL:https://elks823.org/event/11th-annual-per-white-elephant-auction-5pm/
CATEGORIES:Charity,Community,Food,fundraiser,Games,Volunteer
ATTACH;FMTTYPE=image/png:https://elks823.org/wp-content/uploads/2026/01/1-31_WhiteElephant_HORIZ.png
END:VEVENT
BEGIN:VEVENT
DTSTART;TZID=America/Los_Angeles:20260127T190000
DTEND;TZID=America/Los_Angeles:20260127T210000
DTSTAMP:20260423T134253
CREATED:20250304T222847Z
LAST-MODIFIED:20260331T201321Z
UID:17774-1769540400-1769547600@elks823.org
SUMMARY:Lodge Meeting 7PM
DESCRIPTION:The lounge opens at 4 PM\, closes during meetings\, then re-opens after the meeting until 10 PM. \nFood: Taco Tuesday! Come down for some tacos\, quesadillas\, taquitos\, chips\, and salsa.
URL:https://elks823.org/event/lodge-meeting-7pm-6/2026-01-27/
CATEGORIES:Charity,Community,fundraiser,Games,Lodge meeting,Volunteer
ATTACH;FMTTYPE=image/png:https://elks823.org/wp-content/uploads/2022/08/Lounge-Screens-april-may-12.png
END:VEVENT
BEGIN:VEVENT
DTSTART;TZID=America/Los_Angeles:20260127T170000
DTEND;TZID=America/Los_Angeles:20260127T190000
DTSTAMP:20260423T134253
CREATED:20250506T164103Z
LAST-MODIFIED:20260216T212829Z
UID:17650-1769533200-1769540400@elks823.org
SUMMARY:Taco Tuesday!
DESCRIPTION:Come to the Lodge for Taco Tuesday!\nFood:  tacos (hard and soft shell)\, quesadillas\, chips\, and taco salad.\nSalsa\, sour cream\, and guacamole sides.
URL:https://elks823.org/event/taco-tuesday-5/2026-01-27/
CATEGORIES:Community,Food,Volunteer
ATTACH;FMTTYPE=image/png:https://elks823.org/wp-content/uploads/2022/04/taco_tuesday.png
END:VEVENT
BEGIN:VEVENT
DTSTART;TZID=America/Los_Angeles:20260125T090000
DTEND;TZID=America/Los_Angeles:20260125T110000
DTSTAMP:20260423T134253
CREATED:20241126T201040Z
LAST-MODIFIED:20260102T185200Z
UID:17880-1769331600-1769338800@elks823.org
SUMMARY:Race for Warmth
DESCRIPTION:Currently\, we have about 15 or so people\, but always looking for more! \nSunday\, January 25\, for the 12th annual Race for Warmth\, a 5k/10k run/walk or bike ride to support Operation Warm Heart\, a Clark Public Utilities customer-funded program to help limited-income families in crises who need help paying their electric bills. \nEvery dollar of your Race for Warmth registration goes directly to Operation Warm Heart. Over the last ten years\, the race alone has raised nearly $500\,000 for local families. \nThe race will take place on January 25. There will be prizes\, a kids’ run\, and fun for the whole family!\nCheck out this site for more details: https://www.clarkpublicutilities.com/event/race-for-warmth/ \nYou can still register up until the race!
URL:https://elks823.org/event/race-for-warmth-2026-01-25/
CATEGORIES:Charity,Community,Volunteer
ATTACH;FMTTYPE=image/png:https://elks823.org/wp-content/uploads/2026/01/1-25_Raceforwarmth.png
END:VEVENT
BEGIN:VEVENT
DTSTART;TZID=America/Los_Angeles:20260120T173000
DTEND;TZID=America/Los_Angeles:20260120T183000
DTSTAMP:20260423T134253
CREATED:20250506T165917Z
LAST-MODIFIED:20260102T184318Z
UID:17867-1768930200-1768933800@elks823.org
SUMMARY:New Member Orientation 5:30PM
DESCRIPTION:This month\, Orientation is moving to Tuesday\, November 18th\, beginning at 5:30 PM\, and Initiation will follow\, starting at 7 PM.\nStag Bar unless other room noted. \nCome early for Taco Tuesday beginning at 5 PM!
URL:https://elks823.org/event/new-member-orientation-5pm-2025-08-19-2025-09-16-2025-11-18-2026-01-20/
CATEGORIES:Class,Volunteer
END:VEVENT
BEGIN:VEVENT
DTSTART;TZID=America/Los_Angeles:20260120T170000
DTEND;TZID=America/Los_Angeles:20260120T190000
DTSTAMP:20260423T134253
CREATED:20250506T164103Z
LAST-MODIFIED:20260216T212828Z
UID:17649-1768928400-1768935600@elks823.org
SUMMARY:Taco Tuesday!
DESCRIPTION:Come to the Lodge for Taco Tuesday!\nFood:  tacos (hard and soft shell)\, quesadillas\, chips\, and taco salad.\nSalsa\, sour cream\, and guacamole sides.
URL:https://elks823.org/event/taco-tuesday-5/2026-01-20/
CATEGORIES:Community,Food,Volunteer
ATTACH;FMTTYPE=image/png:https://elks823.org/wp-content/uploads/2022/04/taco_tuesday.png
END:VEVENT
BEGIN:VEVENT
DTSTART;VALUE=DATE:20260115
DTEND;VALUE=DATE:20260119
DTSTAMP:20260423T134253
CREATED:20241125T231342Z
LAST-MODIFIED:20260102T184004Z
UID:17859-1768435200-1768780799@elks823.org
SUMMARY:WSEA Winter Convention
DESCRIPTION:Winter Convention – Seatac\nJanuary 15th – 18th \nWSEA Winter Convention
URL:https://elks823.org/event/wsea-winter-convention-2026-01-15/
CATEGORIES:Charity,Class,Community,Food,fundraiser,Games,Volunteer
ATTACH;FMTTYPE=image/png:https://elks823.org/wp-content/uploads/2021/12/wa_state_elks.png
END:VEVENT
BEGIN:VEVENT
DTSTART;TZID=America/Los_Angeles:20260113T190000
DTEND;TZID=America/Los_Angeles:20260113T210000
DTSTAMP:20260423T134253
CREATED:20250304T222847Z
LAST-MODIFIED:20260331T201320Z
UID:17773-1768330800-1768338000@elks823.org
SUMMARY:Lodge Meeting 7PM
DESCRIPTION:The lounge opens at 4 PM\, closes during meetings\, then re-opens after the meeting until 10 PM. \nFood: Taco Tuesday! Come down for some tacos\, quesadillas\, taquitos\, chips\, and salsa.
URL:https://elks823.org/event/lodge-meeting-7pm-6/2026-01-13/
CATEGORIES:Charity,Community,fundraiser,Games,Lodge meeting,Volunteer
ATTACH;FMTTYPE=image/png:https://elks823.org/wp-content/uploads/2022/08/Lounge-Screens-april-may-12.png
END:VEVENT
BEGIN:VEVENT
DTSTART;TZID=America/Los_Angeles:20260113T173000
DTEND;TZID=America/Los_Angeles:20260113T183000
DTSTAMP:20260423T134253
CREATED:20240326T193927Z
LAST-MODIFIED:20260216T220553Z
UID:17726-1768325400-1768329000@elks823.org
SUMMARY:Activities Meeting 5:30 PM
DESCRIPTION:Our Activities Meeting will be on the 2nd Tuesday of the Month at 5:30 PM\, before the Lodge Meeting. \nThis meeting is to coordinate activities for all the Committees and Officer functions.\nAll Lodge Officers/Trustees and Committee Chairs should plan on attending. All Committee Members can also attend\, or anyone wanting to be on a committee can attend. \n*In the Stag Bar\, unless there’s an event in there\, then the Dining Room.
URL:https://elks823.org/event/activities-meeting-6pm-2025-04-15/2026-01-13/
CATEGORIES:Community,Food,fundraiser,Volunteer
ATTACH;FMTTYPE=image/png:https://elks823.org/wp-content/uploads/2025/03/ACTIVITIES-Meeting.png
END:VEVENT
END:VCALENDAR