BEGIN:VCALENDAR
VERSION:2.0
PRODID:-//Elks Lodge 823 - ECPv6.15.20//NONSGML v1.0//EN
CALSCALE:GREGORIAN
METHOD:PUBLISH
X-ORIGINAL-URL:https://elks823.org
X-WR-CALDESC:Events for Elks Lodge 823
REFRESH-INTERVAL;VALUE=DURATION:PT1H
X-Robots-Tag:noindex
X-PUBLISHED-TTL:PT1H
BEGIN:VTIMEZONE
TZID:America/Los_Angeles
BEGIN:DAYLIGHT
TZOFFSETFROM:-0800
TZOFFSETTO:-0700
TZNAME:PDT
DTSTART:20250309T100000
END:DAYLIGHT
BEGIN:STANDARD
TZOFFSETFROM:-0700
TZOFFSETTO:-0800
TZNAME:PST
DTSTART:20251102T090000
END:STANDARD
BEGIN:DAYLIGHT
TZOFFSETFROM:-0800
TZOFFSETTO:-0700
TZNAME:PDT
DTSTART:20260308T100000
END:DAYLIGHT
BEGIN:STANDARD
TZOFFSETFROM:-0700
TZOFFSETTO:-0800
TZNAME:PST
DTSTART:20261101T090000
END:STANDARD
BEGIN:DAYLIGHT
TZOFFSETFROM:-0800
TZOFFSETTO:-0700
TZNAME:PDT
DTSTART:20270314T100000
END:DAYLIGHT
BEGIN:STANDARD
TZOFFSETFROM:-0700
TZOFFSETTO:-0800
TZNAME:PST
DTSTART:20271107T090000
END:STANDARD
END:VTIMEZONE
BEGIN:VEVENT
DTSTART;TZID=America/Los_Angeles:20260407T170000
DTEND;TZID=America/Los_Angeles:20260407T190000
DTSTAMP:20260423T210128
CREATED:20250506T164103Z
LAST-MODIFIED:20250506T164103Z
UID:18312-1775581200-1775588400@elks823.org
SUMMARY:Taco Tuesday!
DESCRIPTION:Come to the Lodge for Taco Tuesday!\nFood:  tacos (hard and soft shell)\, quesadillas\, chips\, and taco salad.\nSalsa\, sour cream\, and guacamole sides.
URL:https://elks823.org/event/taco-tuesday-5/2026-04-07/
CATEGORIES:Community,Food,Volunteer
ATTACH;FMTTYPE=image/png:https://elks823.org/wp-content/uploads/2022/04/taco_tuesday.png
END:VEVENT
BEGIN:VEVENT
DTSTART;TZID=America/Los_Angeles:20260411T170000
DTEND;TZID=America/Los_Angeles:20260411T230000
DTSTAMP:20260423T210128
CREATED:20260331T195105Z
LAST-MODIFIED:20260331T195105Z
UID:18282-1775926800-1775948400@elks823.org
SUMMARY:Officer Inaugural Ball "Starlight Soiree"
DESCRIPTION:Saturday\, April 11\, 2026 | Festivities begin at 5:00 PM \nJoin us for an unforgettable evening of elegance\, celebration\, and tradition as we gather to honor and install our new officers. The Starlight Soirée is a night to celebrate leadership\, fellowship\, and the bright future ahead — all while honoring the foundation that brought us here. \n🎟 Tickets: $25Available through Zeffy or at the Lodge office/bar. \n🌟 Evening Schedule\n5:00 PM – CocktailsMix\, mingle\, and begin the evening with friends. \n5:45 PM – Officer & Dignitary IntroductionsCelebrate and recognize our incoming leadership and honored guests. \n6:00 PM – Dinner Service (immediately following introductions)Enjoy a delicious Italian-inspired dinner featuring: \n\nBeef Lasagna\nChicken Parmesan\nItalian Vegetable Medley\nFresh Salad & Bread\nTiramisu for dessert\n\nGluten-free and vegetarian options available. \n🎶 6:00–8:00 PM – Live Music in the BallroomThe Vancouver Community Jazz Band small combo will provide the perfect soundtrack during dinner and keep the dance floor lively afterward. \n🎉 8:00–11:00 PM – After Dinner Party in the LoungeKeep the celebration going with Lip Bomb\, brought to you by your new Exalted Ruler. Dance\, celebrate\, and enjoy a high-energy after party with your fellow members. \nWhether you come for the camaraderie\, the cuisine\, the music\, or the tradition\, the Starlight Soirée promises an evening filled with sparkle\, connection\, and pride. \nWe look forward to celebrating with you under the stars. ✨
URL:https://elks823.org/event/officer-inaugural-ball-starlight-soiree/
CATEGORIES:Community,Dance,Food,Music,Volunteer
ATTACH;FMTTYPE=image/png:https://elks823.org/wp-content/uploads/2026/03/4-11_Inaugural-Ball.png
END:VEVENT
BEGIN:VEVENT
DTSTART;TZID=America/Los_Angeles:20260414T170000
DTEND;TZID=America/Los_Angeles:20260414T190000
DTSTAMP:20260423T210128
CREATED:20250506T164103Z
LAST-MODIFIED:20250506T164103Z
UID:18313-1776186000-1776193200@elks823.org
SUMMARY:Taco Tuesday!
DESCRIPTION:Come to the Lodge for Taco Tuesday!\nFood:  tacos (hard and soft shell)\, quesadillas\, chips\, and taco salad.\nSalsa\, sour cream\, and guacamole sides.
URL:https://elks823.org/event/taco-tuesday-5/2026-04-14/
CATEGORIES:Community,Food,Volunteer
ATTACH;FMTTYPE=image/png:https://elks823.org/wp-content/uploads/2022/04/taco_tuesday.png
END:VEVENT
BEGIN:VEVENT
DTSTART;TZID=America/Los_Angeles:20260414T190000
DTEND;TZID=America/Los_Angeles:20260414T210000
DTSTAMP:20260423T210128
CREATED:20250304T222847Z
LAST-MODIFIED:20250304T222847Z
UID:18320-1776193200-1776200400@elks823.org
SUMMARY:Lodge Meeting 7PM
DESCRIPTION:The lounge opens at 4 PM\, closes during meetings\, then re-opens after the meeting until 10 PM. \nFood: Taco Tuesday! Come down for some tacos\, quesadillas\, taquitos\, chips\, and salsa.
URL:https://elks823.org/event/lodge-meeting-7pm-6/2026-04-14/
CATEGORIES:Charity,Community,fundraiser,Games,Lodge meeting,Volunteer
ATTACH;FMTTYPE=image/png:https://elks823.org/wp-content/uploads/2022/08/Lounge-Screens-april-may-12.png
END:VEVENT
BEGIN:VEVENT
DTSTART;TZID=America/Los_Angeles:20260417T170000
DTEND;TZID=America/Los_Angeles:20260417T210000
DTSTAMP:20260423T210128
CREATED:20250304T230853Z
LAST-MODIFIED:20260421T190125Z
UID:18351-1776445200-1776459600@elks823.org
SUMMARY:Live Music by Pacific Rhythm
DESCRIPTION:Officer Steak Night is canceled due to Officers either at a Training or under the weather.\nPER Annie will be cooking from 5-7PM. \nLive Music by Pacific Rhythm (in the Lounge) at 7 PM\n*No cover for the band. \n 
URL:https://elks823.org/event/officer-steak-night-5pm-2025-05-16-2025-07-18-2025-08-15-2025-11-21-2026-02-20-2026-03-20-2026-04-17/
CATEGORIES:Charity,Community,Dance,Food,Music,Volunteer
ATTACH;FMTTYPE=image/png:https://elks823.org/wp-content/uploads/2025/03/4-17_SteakNight.png
END:VEVENT
BEGIN:VEVENT
DTSTART;TZID=America/Los_Angeles:20260421T170000
DTEND;TZID=America/Los_Angeles:20260421T190000
DTSTAMP:20260423T210128
CREATED:20250506T164103Z
LAST-MODIFIED:20250506T164103Z
UID:18314-1776790800-1776798000@elks823.org
SUMMARY:Taco Tuesday!
DESCRIPTION:Come to the Lodge for Taco Tuesday!\nFood:  tacos (hard and soft shell)\, quesadillas\, chips\, and taco salad.\nSalsa\, sour cream\, and guacamole sides.
URL:https://elks823.org/event/taco-tuesday-5/2026-04-21/
CATEGORIES:Community,Food,Volunteer
ATTACH;FMTTYPE=image/png:https://elks823.org/wp-content/uploads/2022/04/taco_tuesday.png
END:VEVENT
BEGIN:VEVENT
DTSTART;TZID=America/Los_Angeles:20260428T170000
DTEND;TZID=America/Los_Angeles:20260428T190000
DTSTAMP:20260423T210128
CREATED:20250506T164103Z
LAST-MODIFIED:20250506T164103Z
UID:18315-1777395600-1777402800@elks823.org
SUMMARY:Taco Tuesday!
DESCRIPTION:Come to the Lodge for Taco Tuesday!\nFood:  tacos (hard and soft shell)\, quesadillas\, chips\, and taco salad.\nSalsa\, sour cream\, and guacamole sides.
URL:https://elks823.org/event/taco-tuesday-5/2026-04-28/
CATEGORIES:Community,Food,Volunteer
ATTACH;FMTTYPE=image/png:https://elks823.org/wp-content/uploads/2022/04/taco_tuesday.png
END:VEVENT
BEGIN:VEVENT
DTSTART;TZID=America/Los_Angeles:20260428T190000
DTEND;TZID=America/Los_Angeles:20260428T210000
DTSTAMP:20260423T210128
CREATED:20250304T222847Z
LAST-MODIFIED:20250304T222847Z
UID:18321-1777402800-1777410000@elks823.org
SUMMARY:Lodge Meeting 7PM
DESCRIPTION:The lounge opens at 4 PM\, closes during meetings\, then re-opens after the meeting until 10 PM. \nFood: Taco Tuesday! Come down for some tacos\, quesadillas\, taquitos\, chips\, and salsa.
URL:https://elks823.org/event/lodge-meeting-7pm-6/2026-04-28/
CATEGORIES:Charity,Community,fundraiser,Games,Lodge meeting,Volunteer
ATTACH;FMTTYPE=image/png:https://elks823.org/wp-content/uploads/2022/08/Lounge-Screens-april-may-12.png
END:VEVENT
BEGIN:VEVENT
DTSTART;TZID=America/Los_Angeles:20260501T190000
DTEND;TZID=America/Los_Angeles:20260501T210000
DTSTAMP:20260423T210128
CREATED:20251125T200149Z
LAST-MODIFIED:20251125T200149Z
UID:18277-1777662000-1777669200@elks823.org
SUMMARY:Elk Town Music 7PM
DESCRIPTION:Emblem Club Dinner starts the night at 6 PM. Then stick around for a great night of music\, dancing\, and fellowship! Music starts at 7:00 PMFeaturing your favorite hits from our Elk Town Music DJ Requests welcome — help create the fun! \n\nCome early\, wear red for R.E.D. Night\, and show your support for our deployed Service Members. \n\nWant to help DJ or share ideas to make this monthly event even better? Contact PER Ron Taylor.
URL:https://elks823.org/event/elk-town-music-7pm/2026-05-01/
CATEGORIES:Charity,Community,Dance,Food,fundraiser,Music,Volunteer
ATTACH;FMTTYPE=image/png:https://elks823.org/wp-content/uploads/2025/11/Elk-Town-Music-8.5-x-11-in.png
END:VEVENT
BEGIN:VEVENT
DTSTART;TZID=America/Los_Angeles:20260502T100000
DTEND;TZID=America/Los_Angeles:20260502T160000
DTSTAMP:20260423T210128
CREATED:20250804T220726Z
LAST-MODIFIED:20260421T191247Z
UID:18435-1777716000-1777737600@elks823.org
SUMMARY:DD Clinic
DESCRIPTION:DD Clinic at Raymond Lodge. \nOfficers Required for Attendance: ER\, Leading Knight\, Secretary\, and COB.\nOther members may attend as well.
URL:https://elks823.org/event/dd-clinic-6-2026-05-02/
CATEGORIES:Class,Volunteer
END:VEVENT
BEGIN:VEVENT
DTSTART;TZID=America/Los_Angeles:20260503T100000
DTEND;TZID=America/Los_Angeles:20260503T160000
DTSTAMP:20260423T210128
CREATED:20250804T220726Z
LAST-MODIFIED:20260421T191322Z
UID:18436-1777802400-1777824000@elks823.org
SUMMARY:DD Clinic
DESCRIPTION:DD Clinic at Raymond Lodge. \nOfficers Required for Attendance: ER\, Leading Knight\, Secretary\, and COB.\nOther members may attend as well.
URL:https://elks823.org/event/dd-clinic-6-2026-05-03/
CATEGORIES:Class,Volunteer
END:VEVENT
BEGIN:VEVENT
DTSTART;TZID=America/Los_Angeles:20260505T170000
DTEND;TZID=America/Los_Angeles:20260505T190000
DTSTAMP:20260423T210128
CREATED:20250506T164103Z
LAST-MODIFIED:20250506T164103Z
UID:18316-1778000400-1778007600@elks823.org
SUMMARY:Taco Tuesday!
DESCRIPTION:Come to the Lodge for Taco Tuesday!\nFood:  tacos (hard and soft shell)\, quesadillas\, chips\, and taco salad.\nSalsa\, sour cream\, and guacamole sides.
URL:https://elks823.org/event/taco-tuesday-5/2026-05-05/
CATEGORIES:Community,Food,Volunteer
ATTACH;FMTTYPE=image/png:https://elks823.org/wp-content/uploads/2022/04/taco_tuesday.png
END:VEVENT
BEGIN:VEVENT
DTSTART;TZID=America/Los_Angeles:20260510T100000
DTEND;TZID=America/Los_Angeles:20260510T133000
DTSTAMP:20260423T210128
CREATED:20240326T212533Z
LAST-MODIFIED:20260421T191044Z
UID:18366-1778407200-1778419800@elks823.org
SUMMARY:Mother's Day Ritual & Brunch
DESCRIPTION:Price $25 per person\n$5 (Children under 12) \nMake your reservations through Zeffy here: https://www.zeffy.com/en-US/ticketing/mothers-day-ritual-and-brunch\nOr the Office by phone(credit card) or in person at the lodge office. 360-256-0823.\nPaid reservations requested. \nThis is a Mother’s Day Ritual and Brunch to follow. Please plan on arriving on time to hear the kind words of the Ritual for all Moms!|\nBrunch items: scrambled eggs\, bacon/sausage\, roasted potatoes\, assorted quiches\, pastries\, fresh fruit\, yogurt\, salads and of course champagne! \nWalk-ins first come first serve. Limited seating\, dining room.
URL:https://elks823.org/event/mothers-day-brunch-ritual-10am-2025-05-11-2026-05-10/
CATEGORIES:Charity,Community,Food,Games,Volunteer
ATTACH;FMTTYPE=image/png:https://elks823.org/wp-content/uploads/2024/03/Mothers-Day.png
END:VEVENT
BEGIN:VEVENT
DTSTART;TZID=America/Los_Angeles:20260512T170000
DTEND;TZID=America/Los_Angeles:20260512T190000
DTSTAMP:20260423T210128
CREATED:20250506T164103Z
LAST-MODIFIED:20250506T164103Z
UID:18317-1778605200-1778612400@elks823.org
SUMMARY:Taco Tuesday!
DESCRIPTION:Come to the Lodge for Taco Tuesday!\nFood:  tacos (hard and soft shell)\, quesadillas\, chips\, and taco salad.\nSalsa\, sour cream\, and guacamole sides.
URL:https://elks823.org/event/taco-tuesday-5/2026-05-12/
CATEGORIES:Community,Food,Volunteer
ATTACH;FMTTYPE=image/png:https://elks823.org/wp-content/uploads/2022/04/taco_tuesday.png
END:VEVENT
BEGIN:VEVENT
DTSTART;TZID=America/Los_Angeles:20260512T190000
DTEND;TZID=America/Los_Angeles:20260512T210000
DTSTAMP:20260423T210128
CREATED:20250304T222847Z
LAST-MODIFIED:20250304T222847Z
UID:18322-1778612400-1778619600@elks823.org
SUMMARY:Lodge Meeting 7PM
DESCRIPTION:The lounge opens at 4 PM\, closes during meetings\, then re-opens after the meeting until 10 PM. \nFood: Taco Tuesday! Come down for some tacos\, quesadillas\, taquitos\, chips\, and salsa.
URL:https://elks823.org/event/lodge-meeting-7pm-6/2026-05-12/
CATEGORIES:Charity,Community,fundraiser,Games,Lodge meeting,Volunteer
ATTACH;FMTTYPE=image/png:https://elks823.org/wp-content/uploads/2022/08/Lounge-Screens-april-may-12.png
END:VEVENT
BEGIN:VEVENT
DTSTART;TZID=America/Los_Angeles:20260515T170000
DTEND;TZID=America/Los_Angeles:20260515T210000
DTSTAMP:20260423T210128
CREATED:20250304T230853Z
LAST-MODIFIED:20260331T205332Z
UID:18352-1778864400-1778878800@elks823.org
SUMMARY:Officer Steak Night 5PM\, Live Music by Robby Mayer
DESCRIPTION:Steak $27 comes with a salad\, baked potato\, and vegetables.\nOr select Fish\, $25: Salmon with a salad\, baked potato\, and vegetables.\n*The steak will be upgraded to Ribeye from Sirloin\, 8-oz portion. \nPlease call the office to make your reservations by Wednesday.\nWhen you call\, please select a time that suits you for dinner.\n*Late RSVPs may not be taken. 360-256-0823 \nLive Music by Robby Mayer (in the Lounge) at 7 PM\n*No cover for the band. \n*Steak Night Tips and proceeds go to the Officer Fund to help with Conventions\, Officer uniforms\, and training.
URL:https://elks823.org/event/officer-steak-night-5pm-2025-05-16-2025-07-18-2025-08-15-2025-11-21-2026-02-20-2026-03-20-2026-05-15/
CATEGORIES:Charity,Community,Dance,Food,Music,Volunteer
ATTACH;FMTTYPE=image/png:https://elks823.org/wp-content/uploads/2025/03/SteakNight-May15.png
END:VEVENT
BEGIN:VEVENT
DTSTART;TZID=America/Los_Angeles:20260519T170000
DTEND;TZID=America/Los_Angeles:20260519T190000
DTSTAMP:20260423T210128
CREATED:20250506T164103Z
LAST-MODIFIED:20250506T164103Z
UID:18318-1779210000-1779217200@elks823.org
SUMMARY:Taco Tuesday!
DESCRIPTION:Come to the Lodge for Taco Tuesday!\nFood:  tacos (hard and soft shell)\, quesadillas\, chips\, and taco salad.\nSalsa\, sour cream\, and guacamole sides.
URL:https://elks823.org/event/taco-tuesday-5/2026-05-19/
CATEGORIES:Community,Food,Volunteer
ATTACH;FMTTYPE=image/png:https://elks823.org/wp-content/uploads/2022/04/taco_tuesday.png
END:VEVENT
BEGIN:VEVENT
DTSTART;TZID=America/Los_Angeles:20260526T170000
DTEND;TZID=America/Los_Angeles:20260526T190000
DTSTAMP:20260423T210128
CREATED:20250506T164103Z
LAST-MODIFIED:20250506T164103Z
UID:18319-1779814800-1779822000@elks823.org
SUMMARY:Taco Tuesday!
DESCRIPTION:Come to the Lodge for Taco Tuesday!\nFood:  tacos (hard and soft shell)\, quesadillas\, chips\, and taco salad.\nSalsa\, sour cream\, and guacamole sides.
URL:https://elks823.org/event/taco-tuesday-5/2026-05-26/
CATEGORIES:Community,Food,Volunteer
ATTACH;FMTTYPE=image/png:https://elks823.org/wp-content/uploads/2022/04/taco_tuesday.png
END:VEVENT
BEGIN:VEVENT
DTSTART;TZID=America/Los_Angeles:20260526T190000
DTEND;TZID=America/Los_Angeles:20260526T210000
DTSTAMP:20260423T210128
CREATED:20250304T222847Z
LAST-MODIFIED:20250304T222847Z
UID:18323-1779822000-1779829200@elks823.org
SUMMARY:Lodge Meeting 7PM
DESCRIPTION:The lounge opens at 4 PM\, closes during meetings\, then re-opens after the meeting until 10 PM. \nFood: Taco Tuesday! Come down for some tacos\, quesadillas\, taquitos\, chips\, and salsa.
URL:https://elks823.org/event/lodge-meeting-7pm-6/2026-05-26/
CATEGORIES:Charity,Community,fundraiser,Games,Lodge meeting,Volunteer
ATTACH;FMTTYPE=image/png:https://elks823.org/wp-content/uploads/2022/08/Lounge-Screens-april-may-12.png
END:VEVENT
END:VCALENDAR