BEGIN:VCALENDAR
VERSION:2.0
PRODID:-//Elks Lodge 823 - ECPv6.15.20//NONSGML v1.0//EN
CALSCALE:GREGORIAN
METHOD:PUBLISH
X-WR-CALNAME:Elks Lodge 823
X-ORIGINAL-URL:https://elks823.org
X-WR-CALDESC:Events for Elks Lodge 823
REFRESH-INTERVAL;VALUE=DURATION:PT1H
X-Robots-Tag:noindex
X-PUBLISHED-TTL:PT1H
BEGIN:VTIMEZONE
TZID:America/Los_Angeles
BEGIN:DAYLIGHT
TZOFFSETFROM:-0800
TZOFFSETTO:-0700
TZNAME:PDT
DTSTART:20240310T100000
END:DAYLIGHT
BEGIN:STANDARD
TZOFFSETFROM:-0700
TZOFFSETTO:-0800
TZNAME:PST
DTSTART:20241103T090000
END:STANDARD
BEGIN:DAYLIGHT
TZOFFSETFROM:-0800
TZOFFSETTO:-0700
TZNAME:PDT
DTSTART:20250309T100000
END:DAYLIGHT
BEGIN:STANDARD
TZOFFSETFROM:-0700
TZOFFSETTO:-0800
TZNAME:PST
DTSTART:20251102T090000
END:STANDARD
BEGIN:DAYLIGHT
TZOFFSETFROM:-0800
TZOFFSETTO:-0700
TZNAME:PDT
DTSTART:20260308T100000
END:DAYLIGHT
BEGIN:STANDARD
TZOFFSETFROM:-0700
TZOFFSETTO:-0800
TZNAME:PST
DTSTART:20261101T090000
END:STANDARD
END:VTIMEZONE
BEGIN:VEVENT
DTSTART;TZID=America/Los_Angeles:20251028T190000
DTEND;TZID=America/Los_Angeles:20251028T210000
DTSTAMP:20260424T021236
CREATED:20250304T222847Z
LAST-MODIFIED:20260331T201311Z
UID:17377-1761678000-1761685200@elks823.org
SUMMARY:Lodge Meeting 7PM
DESCRIPTION:The lounge opens at 4 PM\, closes during meetings\, then re-opens after the meeting until 10 PM. \nFood: Taco Tuesday! Come down for some tacos\, quesadillas\, taquitos\, chips\, and salsa.
URL:https://elks823.org/event/lodge-meeting-7pm-6/2025-10-28/
CATEGORIES:Charity,Community,fundraiser,Games,Lodge meeting,Volunteer
ATTACH;FMTTYPE=image/png:https://elks823.org/wp-content/uploads/2022/08/Lounge-Screens-april-may-12.png
END:VEVENT
BEGIN:VEVENT
DTSTART;TZID=America/Los_Angeles:20251028T170000
DTEND;TZID=America/Los_Angeles:20251028T190000
DTSTAMP:20260424T021236
CREATED:20250506T164103Z
LAST-MODIFIED:20260331T201033Z
UID:17416-1761670800-1761678000@elks823.org
SUMMARY:Taco Tuesday!
DESCRIPTION:Come to the Lodge for Taco Tuesday!\nFood:  tacos (hard and soft shell)\, quesadillas\, chips\, and taco salad.\nSalsa\, sour cream\, and guacamole sides.
URL:https://elks823.org/event/taco-tuesday-5/2025-10-28/
CATEGORIES:Community,Food,Volunteer
ATTACH;FMTTYPE=image/png:https://elks823.org/wp-content/uploads/2022/04/taco_tuesday.png
END:VEVENT
BEGIN:VEVENT
DTSTART;TZID=America/Los_Angeles:20251023T183000
DTEND;TZID=America/Los_Angeles:20251023T193000
DTSTAMP:20260424T021236
CREATED:20251021T230519Z
LAST-MODIFIED:20251021T230519Z
UID:17558-1761244200-1761247800@elks823.org
SUMMARY:Elktoberfest Volunteer Night
DESCRIPTION:Come in and celebrate what a success Elktoberfest was this year! Grab a brat and get together with fellow Volunteers! \nBring your suggestions for how to improve next year!
URL:https://elks823.org/event/elktoberfest-volunteer-night/
CATEGORIES:Charity,Community,Food,Volunteer
ATTACH;FMTTYPE=image/png:https://elks823.org/wp-content/uploads/2025/10/Elktoberfest-Volunteer-2.png
END:VEVENT
BEGIN:VEVENT
DTSTART;TZID=America/Los_Angeles:20251023T180000
DTEND;TZID=America/Los_Angeles:20251023T190000
DTSTAMP:20260424T021236
CREATED:20250715T171038Z
LAST-MODIFIED:20251005T195013Z
UID:17531-1761242400-1761246000@elks823.org
SUMMARY:G.A.M.E. Committee Meeting 6PM
DESCRIPTION:🎲 Love the Fun? Be Part of the Team That Makes It Happen! 🎤🎉 \nFrom Bingo and Karaoke to Queen of Hearts and Elk Races\, some of the best memories at our lodge come from events brought to life by the G.A.M.E. Committee — that’s Gaming And Member Entertainment! \nThey’re the crew behind the laughter\, the prizes\, and those unforgettable nights that keep us coming back for more. \n💥 Now’s your chance to join in on the action!🗓 G.A.M.E. Committee Meeting: Thursday\, October 23rd at 6:00 PM📍 Stag Bar \nWhether you’re ready to jump in and volunteer or just curious about how it all works\, come see what the excitement’s about.Let’s keep the good times rolling — together! 🎉
URL:https://elks823.org/event/g-a-m-e-committee-meeting-6pm-2025-10-23/
CATEGORIES:Class,Community,fundraiser,Games,Volunteer
ATTACH;FMTTYPE=image/png:https://elks823.org/wp-content/uploads/2025/07/G.A.M.E.-Committee-Meeting_Oct.png
END:VEVENT
BEGIN:VEVENT
DTSTART;TZID=America/Los_Angeles:20251021T173000
DTEND;TZID=America/Los_Angeles:20251021T183000
DTSTAMP:20260424T021236
CREATED:20250506T165917Z
LAST-MODIFIED:20250925T220159Z
UID:17484-1761067800-1761071400@elks823.org
SUMMARY:New Member Orientation 5:30PM
DESCRIPTION:This month\, Orientation is moving to Tuesday\, October 21st\, beginning at 5:30 PM\, and Initiation will follow\, starting at 7 PM.\nStag Bar unless other room noted. \nCome early for Taco Tuesday beginning at 5 PM!
URL:https://elks823.org/event/new-member-orientation-5pm-2025-08-19-2025-09-16-2025-10-21/
CATEGORIES:Class,Volunteer
END:VEVENT
BEGIN:VEVENT
DTSTART;TZID=America/Los_Angeles:20251021T170000
DTEND;TZID=America/Los_Angeles:20251021T190000
DTSTAMP:20260424T021236
CREATED:20250506T164103Z
LAST-MODIFIED:20260331T201032Z
UID:17415-1761066000-1761073200@elks823.org
SUMMARY:Taco Tuesday!
DESCRIPTION:Come to the Lodge for Taco Tuesday!\nFood:  tacos (hard and soft shell)\, quesadillas\, chips\, and taco salad.\nSalsa\, sour cream\, and guacamole sides.
URL:https://elks823.org/event/taco-tuesday-5/2025-10-21/
CATEGORIES:Community,Food,Volunteer
ATTACH;FMTTYPE=image/png:https://elks823.org/wp-content/uploads/2022/04/taco_tuesday.png
END:VEVENT
BEGIN:VEVENT
DTSTART;TZID=America/Los_Angeles:20251020T180000
DTEND;TZID=America/Los_Angeles:20251020T220000
DTSTAMP:20260424T021236
CREATED:20250804T214649Z
LAST-MODIFIED:20250925T205540Z
UID:17438-1760983200-1760997600@elks823.org
SUMMARY:Seahawk Club Kickoff 7:00PM
DESCRIPTION:The Seahawks Club is back! $35 for the New Season!\nVS. Houston Texans\, Kickoff 7:00 PM \nPotluck 6 -9 PM\, bring your favorite dish\, and meet in the lounge with your fellow Elk Members. \nHawks Club membership is $35 and can be paid in the Lounge or the Office. These funds pay for our subscription to Red Zone and other costs of running the Hawks Club. \nWhen the Seahawks score a touchdown\, members will receive a ticket for a free drink (Soft drink\, a beer\, box wine\, or well drink only). Due to state rules\, a maximum of 5 free drink tickets will be issued to each member per game. Drink tickets must be used during the game timeline: 1 hour before\, during\, and 1 hour after or before the kickoff of the next Hawks Club meet-up. Drink tickets have no value during regular lodge hours.\nWhen the opposing team scores\, everyone is requested to deposit .50¢ in the Hawks Club Bank.\nNon-members are encouraged to participate with us. \nFor more details\, contact Diane Nelson or MJ Benner. \nCheck out the Seahawks’ 2025 Schedule here:\nhttps://www.seahawks.com/schedule/
URL:https://elks823.org/event/seahawk-club-kickoff-105pm-2025-09-21-2025-10-19/
CATEGORIES:Charity,Community,Food,fundraiser,Games,Hawks Club,Volunteer
ATTACH;FMTTYPE=image/png:https://elks823.org/wp-content/uploads/2025/09/Oct-20_Seahawks.png
END:VEVENT
BEGIN:VEVENT
DTSTART;TZID=America/Los_Angeles:20251017T170000
DTEND;TZID=America/Los_Angeles:20251017T210000
DTSTAMP:20260424T021236
CREATED:20250304T230853Z
LAST-MODIFIED:20250925T211858Z
UID:17457-1760720400-1760734800@elks823.org
SUMMARY:Officer Steak Night 5PM\, Live Music by Unusual Aspects
DESCRIPTION:Steak $27 comes with a salad\, baked potato\, and vegetables.\nOr select Fish\, $25: Salmon with a salad\, baked potato\, and vegetables.\n*The steak will be upgraded to Ribeye from Sirloin\, 8oz portion. Hence the pricing change. \nPlease call the office to make your reservations by Wednesday\, 10/14.\nWhen you call\, please select an open time for dinner.\n*Late RSVPs may not be taken. 360-256-0823 \nLive Music by Unusual Aspects (in the Lounge) at 7 PM\n*No cover for the band. \n*Steak Night Tips and proceeds go to the Officer Fund to help with Conventions\, Officer uniforms\, and training.
URL:https://elks823.org/event/officer-steak-night-5pm-2025-05-16-2025-07-18-2025-08-15-2025-10-17/
CATEGORIES:Charity,Community,Dance,Food,fundraiser,Music,Volunteer
ATTACH;FMTTYPE=image/jpeg:https://elks823.org/wp-content/uploads/2022/11/Steak_night.jpeg
END:VEVENT
BEGIN:VEVENT
DTSTART;TZID=America/Los_Angeles:20251014T190000
DTEND;TZID=America/Los_Angeles:20251014T210000
DTSTAMP:20260424T021236
CREATED:20250304T222847Z
LAST-MODIFIED:20260331T201310Z
UID:17376-1760468400-1760475600@elks823.org
SUMMARY:Lodge Meeting 7PM
DESCRIPTION:The lounge opens at 4 PM\, closes during meetings\, then re-opens after the meeting until 10 PM. \nFood: Taco Tuesday! Come down for some tacos\, quesadillas\, taquitos\, chips\, and salsa.
URL:https://elks823.org/event/lodge-meeting-7pm-6/2025-10-14/
CATEGORIES:Charity,Community,fundraiser,Games,Lodge meeting,Volunteer
ATTACH;FMTTYPE=image/png:https://elks823.org/wp-content/uploads/2022/08/Lounge-Screens-april-may-12.png
END:VEVENT
BEGIN:VEVENT
DTSTART;TZID=America/Los_Angeles:20251014T173000
DTEND;TZID=America/Los_Angeles:20251014T183000
DTSTAMP:20260424T021236
CREATED:20240326T193927Z
LAST-MODIFIED:20260216T220552Z
UID:17401-1760463000-1760466600@elks823.org
SUMMARY:Activities Meeting 5:30 PM
DESCRIPTION:Our Activities Meeting will be on the 2nd Tuesday of the Month at 5:30 PM\, before the Lodge Meeting. \nThis meeting is to coordinate activities for all the Committees and Officer functions.\nAll Lodge Officers/Trustees and Committee Chairs should plan on attending. All Committee Members can also attend\, or anyone wanting to be on a committee can attend. \n*In the Stag Bar\, unless there’s an event in there\, then the Dining Room.
URL:https://elks823.org/event/activities-meeting-6pm-2025-04-15/2025-10-14/
CATEGORIES:Community,Food,fundraiser,Volunteer
ATTACH;FMTTYPE=image/png:https://elks823.org/wp-content/uploads/2025/03/ACTIVITIES-Meeting.png
END:VEVENT
BEGIN:VEVENT
DTSTART;TZID=America/Los_Angeles:20251014T170000
DTEND;TZID=America/Los_Angeles:20251014T190000
DTSTAMP:20260424T021236
CREATED:20250506T164103Z
LAST-MODIFIED:20260331T201032Z
UID:17414-1760461200-1760468400@elks823.org
SUMMARY:Taco Tuesday!
DESCRIPTION:Come to the Lodge for Taco Tuesday!\nFood:  tacos (hard and soft shell)\, quesadillas\, chips\, and taco salad.\nSalsa\, sour cream\, and guacamole sides.
URL:https://elks823.org/event/taco-tuesday-5/2025-10-14/
CATEGORIES:Community,Food,Volunteer
ATTACH;FMTTYPE=image/png:https://elks823.org/wp-content/uploads/2022/04/taco_tuesday.png
END:VEVENT
BEGIN:VEVENT
DTSTART;TZID=America/Los_Angeles:20251012T090000
DTEND;TZID=America/Los_Angeles:20251012T130000
DTSTAMP:20260424T021236
CREATED:20250804T214649Z
LAST-MODIFIED:20251005T185328Z
UID:17437-1760259600-1760274000@elks823.org
SUMMARY:Seahawk Club Kickoff 10:00 AM - Breakfast $10
DESCRIPTION:The Seahawks Club is back! $35 for the New Season!\nAt Jacksonville Jaguars\, Kickoff 10:00 AM \nBreakfast will also include fresh fruit for $103 Breakfast Items to choose from:\n1.) Ham scramble breakfast burrito2.) Homemade biscuits and gravy3.) Tator-Tot breakfast casserole \n*You do not need to be in the Seahawks Club to come in for breakfast!\nHawks Club membership is $35 and can be paid in the Lounge or the Office. These funds pay for our subscription to Red Zone and other costs of running the Hawks Club. \nWhen the Seahawks score a touchdown\, members will receive a ticket for a free drink (Soft drink\, a beer\, box wine\, or well drink only). Due to state rules\, a maximum of 5 free drink tickets will be issued to each member per game. Drink tickets must be used during the game timeline: 1 hour before\, during\, and 1 hour after or before the kickoff of the next Hawks Club meet-up. Drink tickets have no value during regular lodge hours.\nWhen the opposing team scores\, everyone is requested to deposit .50¢ in the Hawks Club Bank.\nNon-members are encouraged to participate with us. \nFor more details\, contact Diane Nelson or MJ Benner. \nCheck out the Seahawks’ 2025 Schedule here:\nhttps://www.seahawks.com/schedule/
URL:https://elks823.org/event/seahawk-club-kickoff-105pm-2025-09-21-2025-10-12/
CATEGORIES:Charity,Community,Food,fundraiser,Games,Hawks Club,Volunteer
ATTACH;FMTTYPE=image/png:https://elks823.org/wp-content/uploads/2025/08/SEAHAWKS-CLUB.png
END:VEVENT
BEGIN:VEVENT
DTSTART;TZID=America/Los_Angeles:20251011T180000
DTEND;TZID=America/Los_Angeles:20251011T210000
DTSTAMP:20260424T021236
CREATED:20250304T224624Z
LAST-MODIFIED:20260216T212716Z
UID:17432-1760205600-1760216400@elks823.org
SUMMARY:Karaoke 6PM
DESCRIPTION:Are you a singer?  Come on down\, we want to hear you sing!!\nNot a singer?  THAT’S OK!  Come on down and listen to our Elk Members\, friends\, and family sing. \n*On Saturday nights our Kitchen is closed. Members and guests can bring food in or have it delivered.
URL:https://elks823.org/event/karaoke-6pm-3/2025-10-11/
CATEGORIES:Dance,fundraiser,Karaoke,Music,Volunteer
ATTACH;FMTTYPE=image/png:https://elks823.org/wp-content/uploads/2024/03/karaoke.png
END:VEVENT
BEGIN:VEVENT
DTSTART;TZID=America/Los_Angeles:20251007T170000
DTEND;TZID=America/Los_Angeles:20251007T190000
DTSTAMP:20260424T021236
CREATED:20250506T164103Z
LAST-MODIFIED:20260331T201026Z
UID:17413-1759856400-1759863600@elks823.org
SUMMARY:Taco Tuesday!
DESCRIPTION:Come to the Lodge for Taco Tuesday!\nFood:  tacos (hard and soft shell)\, quesadillas\, chips\, and taco salad.\nSalsa\, sour cream\, and guacamole sides.
URL:https://elks823.org/event/taco-tuesday-5/2025-10-07/
CATEGORIES:Community,Food,Volunteer
ATTACH;FMTTYPE=image/png:https://elks823.org/wp-content/uploads/2022/04/taco_tuesday.png
END:VEVENT
BEGIN:VEVENT
DTSTART;TZID=America/Los_Angeles:20251005T120000
DTEND;TZID=America/Los_Angeles:20251005T160000
DTSTAMP:20260424T021236
CREATED:20250804T214649Z
LAST-MODIFIED:20250925T205010Z
UID:17436-1759665600-1759680000@elks823.org
SUMMARY:Seahawk Club Kickoff 1:05PM
DESCRIPTION:The Seahawks Club is back! $35 for the New Season!\nVS. Tampa Bay Buccaneers\, Kickoff 1:05 PM \nPotluck 12 -4 PM\, bring your favorite dish\, and meet in the lounge with your fellow Elk Members. \nHawks Club membership is $35 and can be paid in the Lounge or the Office. These funds pay for our subscription to Red Zone and other costs of running the Hawks Club. \nWhen the Seahawks score a touchdown\, members will receive a ticket for a free drink (Soft drink\, a beer\, box wine\, or well drink only). Due to state rules\, a maximum of 5 free drink tickets will be issued to each member per game. Drink tickets must be used during the game timeline: 1 hour before\, during\, and 1 hour after or before the kickoff of the next Hawks Club meet-up. Drink tickets have no value during regular lodge hours.\nWhen the opposing team scores\, everyone is requested to deposit .50¢ in the Hawks Club Bank.\nNon-members are encouraged to participate with us. \nFor more details\, contact Diane Nelson or MJ Benner. \nCheck out the Seahawks’ 2025 Schedule here:\nhttps://www.seahawks.com/schedule/
URL:https://elks823.org/event/seahawk-club-kickoff-105pm-2025-09-21-2025-10-05/
CATEGORIES:Charity,Community,Food,fundraiser,Games,Hawks Club,Volunteer
ATTACH;FMTTYPE=image/png:https://elks823.org/wp-content/uploads/2025/09/Oct-5_Seahawks.png
END:VEVENT
BEGIN:VEVENT
DTSTART;TZID=America/Los_Angeles:20250930T170000
DTEND;TZID=America/Los_Angeles:20250930T190000
DTSTAMP:20260424T021236
CREATED:20250506T164103Z
LAST-MODIFIED:20260331T201026Z
UID:16980-1759251600-1759258800@elks823.org
SUMMARY:Taco Tuesday!
DESCRIPTION:Come to the Lodge for Taco Tuesday!\nFood:  tacos (hard and soft shell)\, quesadillas\, chips\, and taco salad.\nSalsa\, sour cream\, and guacamole sides.
URL:https://elks823.org/event/taco-tuesday-5/2025-09-30/
CATEGORIES:Community,Food,Volunteer
ATTACH;FMTTYPE=image/png:https://elks823.org/wp-content/uploads/2022/04/taco_tuesday.png
END:VEVENT
BEGIN:VEVENT
DTSTART;TZID=America/Los_Angeles:20250925T160000
DTEND;TZID=America/Los_Angeles:20250925T210000
DTSTAMP:20260424T021236
CREATED:20250804T214649Z
LAST-MODIFIED:20250804T215318Z
UID:17016-1758816000-1758834000@elks823.org
SUMMARY:Seahawk Club Kickoff 5:15PM
DESCRIPTION:The Seahawks Club is back! $35 for the New Season!\nAt Arizona Cardinals\, Kickoff 5:15 PM \nPotluck 4 – 8 PM\, bring your favorite dish\, and meet in the lounge with your fellow Elk Members. \nHawks Club membership is $35 and can be paid in the Lounge or the Office. These funds pay for our subscription to Red Zone and other costs of running the Hawks Club. \nWhen the Seahawks score a touchdown\, members will receive a ticket for a free drink (Soft drink\, a beer\, box wine\, or well drink only). Due to state rules\, a maximum of 5 free drink tickets will be issued to each member per game. Drink tickets must be used during the game timeline: 1 hour before\, during\, and 1 hour after or before the kickoff of the next Hawks Club meet-up. Drink tickets have no value during regular lodge hours.\nWhen the opposing team scores\, everyone is requested to deposit .50¢ in the Hawks Club Bank.\nNon-members are encouraged to participate with us. \nFor more details\, contact Diane Nelson or MJ Benner. \nCheck out the Seahawks’ 2025 Schedule here:\nhttps://www.seahawks.com/schedule/
URL:https://elks823.org/event/seahawk-club-kickoff-105pm-2025-09-25/
CATEGORIES:Charity,Community,Food,fundraiser,Games,Hawks Club,Volunteer
ATTACH;FMTTYPE=image/jpeg:https://elks823.org/wp-content/uploads/2024/08/Seahawks35.jpg
END:VEVENT
BEGIN:VEVENT
DTSTART;TZID=America/Los_Angeles:20250923T190000
DTEND;TZID=America/Los_Angeles:20250923T210000
DTSTAMP:20260424T021236
CREATED:20250304T222847Z
LAST-MODIFIED:20260331T201310Z
UID:17033-1758654000-1758661200@elks823.org
SUMMARY:Lodge Meeting 7PM
DESCRIPTION:The lounge opens at 4 PM\, closes during meetings\, then re-opens after the meeting until 10 PM. \nFood: Taco Tuesday! Come down for some tacos\, quesadillas\, taquitos\, chips\, and salsa.
URL:https://elks823.org/event/lodge-meeting-7pm-6/2025-09-23/
CATEGORIES:Charity,Community,fundraiser,Games,Lodge meeting,Volunteer
ATTACH;FMTTYPE=image/png:https://elks823.org/wp-content/uploads/2022/08/Lounge-Screens-april-may-12.png
END:VEVENT
BEGIN:VEVENT
DTSTART;TZID=America/Los_Angeles:20250923T170000
DTEND;TZID=America/Los_Angeles:20250923T190000
DTSTAMP:20260424T021236
CREATED:20250506T164103Z
LAST-MODIFIED:20260331T201026Z
UID:16979-1758646800-1758654000@elks823.org
SUMMARY:Taco Tuesday!
DESCRIPTION:Come to the Lodge for Taco Tuesday!\nFood:  tacos (hard and soft shell)\, quesadillas\, chips\, and taco salad.\nSalsa\, sour cream\, and guacamole sides.
URL:https://elks823.org/event/taco-tuesday-5/2025-09-23/
CATEGORIES:Community,Food,Volunteer
ATTACH;FMTTYPE=image/png:https://elks823.org/wp-content/uploads/2022/04/taco_tuesday.png
END:VEVENT
BEGIN:VEVENT
DTSTART;TZID=America/Los_Angeles:20250921T120000
DTEND;TZID=America/Los_Angeles:20250921T150000
DTSTAMP:20260424T021236
CREATED:20250804T214649Z
LAST-MODIFIED:20250925T204748Z
UID:17010-1758456000-1758466800@elks823.org
SUMMARY:Seahawk Club Kickoff 1:05PM
DESCRIPTION:The Seahawks Club is back! $35 for the New Season!\nVS. New Orleans Saints\, Kickoff 1:05 PM \nPotluck 12 -3 PM\, bring your favorite dish\, and meet in the lounge with your fellow Elk Members. \nHawks Club membership is $35 and can be paid in the Lounge or the Office. These funds pay for our subscription to Red Zone and other costs of running the Hawks Club. \nWhen the Seahawks score a touchdown\, members will receive a ticket for a free drink (Soft drink\, a beer\, box wine\, or well drink only). Due to state rules\, a maximum of 5 free drink tickets will be issued to each member per game. Drink tickets must be used during the game timeline: 1 hour before\, during\, and 1 hour after or before the kickoff of the next Hawks Club meet-up. Drink tickets have no value during regular lodge hours.\nWhen the opposing team scores\, everyone is requested to deposit .50¢ in the Hawks Club Bank.\nNon-members are encouraged to participate with us. \nFor more details\, contact Diane Nelson or MJ Benner. \nCheck out the Seahawks’ 2025 Schedule here:\nhttps://www.seahawks.com/schedule/
URL:https://elks823.org/event/seahawk-club-kickoff-105pm-2025-09-21/2025-09-21/
CATEGORIES:Charity,Community,Food,fundraiser,Games,Hawks Club,Volunteer
ATTACH;FMTTYPE=image/jpeg:https://elks823.org/wp-content/uploads/2024/08/Seahawks35.jpg
END:VEVENT
BEGIN:VEVENT
DTSTART;TZID=America/Los_Angeles:20250920T140000
DTEND;TZID=America/Los_Angeles:20250920T210000
DTSTAMP:20260424T021236
CREATED:20230717T181810Z
LAST-MODIFIED:20250918T200958Z
UID:17067-1758376800-1758402000@elks823.org
SUMMARY:6th Annual Elktoberfest 2-9 PM $10
DESCRIPTION:Once again\, we are having our Elktoberfest in the backyard at the lodge.\nFriday\, Sept 19th\, 4-10 PM & Saturday\, Sept 20th\, 2-9 PM\n$10 for entry to beer\, brats & bands. \nFriday\, Sept. 19th: Public Membership Drive\nMusic Lineup:\n4 – 6 PM Robby Mayer – 60’s to Present\n7 – 9 PM Lip Bomb – high energy\, 70’s\, 80’s\, and 90’s music \nSaturday\, Sept. 20th\nMusic Lineup:\n3 – 6 PM: Same Old Schmidt Band – German Polka Tunes\n7-9 PM: One Eyed Kats – Blues\, R&B\, Funk \nEnjoy local craft beer\, traditional German Fare\, and lively local bands!
URL:https://elks823.org/event/4th-annual-elktoberfest-2024-09-20-2025-09-19-2025-09-20/
CATEGORIES:Charity,Community,Dance,Food,fundraiser,Games,Music,Volunteer
ATTACH;FMTTYPE=image/png:https://elks823.org/wp-content/uploads/2023/07/Elktoberfest_Slider.png
END:VEVENT
BEGIN:VEVENT
DTSTART;TZID=America/Los_Angeles:20250919T160000
DTEND;TZID=America/Los_Angeles:20250919T220000
DTSTAMP:20260424T021236
CREATED:20230717T181810Z
LAST-MODIFIED:20250918T200605Z
UID:17060-1758297600-1758319200@elks823.org
SUMMARY:6th Annual Elktoberfest 4-10 PM $10
DESCRIPTION:Once again\, we are having our Elktoberfest in the backyard at the lodge.\nFriday\, Sept 19th\, 4-10 PM & Saturday\, Sept 20th\, 2-9 PM\n$10 for entry to beer\, brats & bands. \nFriday\, Sept. 19th: Public Membership Drive\nMusic Lineup:\n4 – 6 PM Robby Mayer – 60’s to Present\n7-9 PM Lip Bomb – high energy\, 70’s\, 80’s\, and 90’s music \nSaturday\, Sept. 20th\nMusic Lineup:\n3 – 6 PM: Same Old Schmidt Band – German Polka Tunes\n7-9 PM: One Eyed Kats – Blues\, R&B\, Funk \nEnjoy local craft beer\, traditional German Fare\, and lively local bands!
URL:https://elks823.org/event/4th-annual-elktoberfest-2024-09-20-2025-09-19/2025-09-19/
CATEGORIES:Charity,Community,Dance,Food,fundraiser,Games,Music,Volunteer
ATTACH;FMTTYPE=image/png:https://elks823.org/wp-content/uploads/2023/07/Elktoberfest_Slider.png
END:VEVENT
BEGIN:VEVENT
DTSTART;TZID=America/Los_Angeles:20250919T090000
DTEND;TZID=America/Los_Angeles:20250919T120000
DTSTAMP:20260424T021236
CREATED:20250824T155139Z
LAST-MODIFIED:20250824T161058Z
UID:17162-1758272400-1758283200@elks823.org
SUMMARY:Elktoberfest Set Up Party 9AM
DESCRIPTION:Come on out and help finish setting up The Big Back Yard for Elktoberfest. We will start at 9 am and keep working until it gets done\, and then head home to get our fest gear on to come back when the festivities begin. Come over whenever you can\, even if you can only stay for an hour or so. Everything helps!
URL:https://elks823.org/event/elktoberfest-set-up-party-12pm-2025-09-19/
CATEGORIES:Community,Volunteer
ATTACH;FMTTYPE=image/png:https://elks823.org/wp-content/uploads/2025/08/Setup9AM.png
END:VEVENT
BEGIN:VEVENT
DTSTART;TZID=America/Los_Angeles:20250918T120000
DTEND;TZID=America/Los_Angeles:20250918T190000
DTSTAMP:20260424T021236
CREATED:20250824T155139Z
LAST-MODIFIED:20250824T155220Z
UID:17159-1758196800-1758222000@elks823.org
SUMMARY:Elktoberfest Set Up Party 12PM
DESCRIPTION:Come on out and help set up The Big Back Yard for Elktoberfest. We will start at noon and continue working until it is completed. Come over whenever you can\, even if you can only stay for an hour or so. Everything helps!
URL:https://elks823.org/event/elktoberfest-set-up-party-12pm/2025-09-18/
CATEGORIES:Community,Volunteer
ATTACH;FMTTYPE=image/png:https://elks823.org/wp-content/uploads/2025/08/SetupParty.png
END:VEVENT
BEGIN:VEVENT
DTSTART;TZID=America/Los_Angeles:20250916T173000
DTEND;TZID=America/Los_Angeles:20250916T183000
DTSTAMP:20260424T021236
CREATED:20250506T165917Z
LAST-MODIFIED:20250925T222247Z
UID:17049-1758043800-1758047400@elks823.org
SUMMARY:New Member Orientation 5:30PM
DESCRIPTION:This month\, Orientation is moving to Tuesday\, September 16th\, beginning at 5:30 PM\, and Initiation will follow\, starting at 7 PM.\nStag Bar unless other room noted. \nCome early for Taco Tuesday beginning at 5 PM!
URL:https://elks823.org/event/new-member-orientation-5pm-2025-08-19-2025-09-16/
CATEGORIES:Class,Volunteer
ATTACH;FMTTYPE=image/png:https://elks823.org/wp-content/uploads/2025/05/Sept-16Orientation.png
END:VEVENT
BEGIN:VEVENT
DTSTART;TZID=America/Los_Angeles:20250916T170000
DTEND;TZID=America/Los_Angeles:20250916T190000
DTSTAMP:20260424T021236
CREATED:20250506T164103Z
LAST-MODIFIED:20260331T201025Z
UID:16978-1758042000-1758049200@elks823.org
SUMMARY:Taco Tuesday!
DESCRIPTION:Come to the Lodge for Taco Tuesday!\nFood:  tacos (hard and soft shell)\, quesadillas\, chips\, and taco salad.\nSalsa\, sour cream\, and guacamole sides.
URL:https://elks823.org/event/taco-tuesday-5/2025-09-16/
CATEGORIES:Community,Food,Volunteer
ATTACH;FMTTYPE=image/png:https://elks823.org/wp-content/uploads/2022/04/taco_tuesday.png
END:VEVENT
BEGIN:VEVENT
DTSTART;TZID=America/Los_Angeles:20250914T100000
DTEND;TZID=America/Los_Angeles:20250914T160000
DTSTAMP:20260424T021236
CREATED:20250804T220726Z
LAST-MODIFIED:20260421T191205Z
UID:17056-1757844000-1757865600@elks823.org
SUMMARY:DD Clinic
DESCRIPTION:DD Clinic at Mt. Adams Lodge. \nOfficers Required for Attendance: ER\, Leading Knight\, Secretary\, and COB.\nOther members may attend as well.
URL:https://elks823.org/event/dd-clinic-6/2025-09-14/
CATEGORIES:Class,Volunteer
END:VEVENT
BEGIN:VEVENT
DTSTART;TZID=America/Los_Angeles:20250914T090000
DTEND;TZID=America/Los_Angeles:20250914T130000
DTSTAMP:20260424T021236
CREATED:20250804T214649Z
LAST-MODIFIED:20250804T215023Z
UID:17008-1757840400-1757854800@elks823.org
SUMMARY:Seahawk Club Kickoff 10:00 AM
DESCRIPTION:The Seahawks Club is back! $35 for the New Season!\nAt Pittsburgh Steelers Kickoff at 10:00 AM \nBreakfast Potluck 9 AM -1 PM\, bring your favorite dish\, and meet in the lounge with your fellow Elk Members. \nHawks Club membership is $35 and can be paid in the Lounge or the Office. These funds pay for our subscription to Red Zone and other costs of running the Hawks Club. \nWhen the Seahawks score a touchdown\, members will receive a ticket for a free drink (Soft drink\, a beer\, box wine\, or well drink only). Due to state rules\, a maximum of 5 free drink tickets will be issued to each member per game. Drink tickets must be used during the game timeline: 1 hour before\, during\, and 1 hour after or before the kickoff of the next Hawks Club meet-up. Drink tickets have no value during regular lodge hours.\nWhen the opposing team scores\, everyone is requested to deposit .50¢ in the Hawks Club Bank.\nNon-members are encouraged to participate with us. \nFor more details\, contact Diane Nelson or MJ Benner. \nCheck out the Seahawks’ 2025 Schedule here:\nhttps://www.seahawks.com/schedule/
URL:https://elks823.org/event/seahawk-club-kickoff-105pm-2025-09-14/
CATEGORIES:Charity,Community,Food,fundraiser,Games,Hawks Club,Volunteer
ATTACH;FMTTYPE=image/jpeg:https://elks823.org/wp-content/uploads/2024/08/Seahawks35.jpg
END:VEVENT
BEGIN:VEVENT
DTSTART;TZID=America/Los_Angeles:20250913T180000
DTEND;TZID=America/Los_Angeles:20250913T210000
DTSTAMP:20260424T021236
CREATED:20250304T224624Z
LAST-MODIFIED:20260216T212715Z
UID:17054-1757786400-1757797200@elks823.org
SUMMARY:Karaoke 6PM
DESCRIPTION:Are you a singer?  Come on down\, we want to hear you sing!!\nNot a singer?  THAT’S OK!  Come on down and listen to our Elk Members\, friends\, and family sing. \n*On Saturday nights our Kitchen is closed. Members and guests can bring food in or have it delivered.
URL:https://elks823.org/event/karaoke-6pm-3/2025-09-13/
CATEGORIES:Dance,fundraiser,Karaoke,Music,Volunteer
ATTACH;FMTTYPE=image/png:https://elks823.org/wp-content/uploads/2024/03/karaoke.png
END:VEVENT
BEGIN:VEVENT
DTSTART;VALUE=DATE:20250913
DTEND;VALUE=DATE:20250914
DTSTAMP:20260424T021236
CREATED:20250804T220814Z
LAST-MODIFIED:20250804T220814Z
UID:17058-1757721600-1757807999@elks823.org
SUMMARY:Ritual Day
DESCRIPTION:Practice the Ritual with your fellow Elk Officers.\nMt. Adams Lodge
URL:https://elks823.org/event/ritual-day/
CATEGORIES:Class,Volunteer
END:VEVENT
END:VCALENDAR