BEGIN:VCALENDAR
VERSION:2.0
PRODID:-//Elks Lodge 823 - ECPv6.15.20//NONSGML v1.0//EN
CALSCALE:GREGORIAN
METHOD:PUBLISH
X-WR-CALNAME:Elks Lodge 823
X-ORIGINAL-URL:https://elks823.org
X-WR-CALDESC:Events for Elks Lodge 823
REFRESH-INTERVAL;VALUE=DURATION:PT1H
X-Robots-Tag:noindex
X-PUBLISHED-TTL:PT1H
BEGIN:VTIMEZONE
TZID:America/Los_Angeles
BEGIN:DAYLIGHT
TZOFFSETFROM:-0800
TZOFFSETTO:-0700
TZNAME:PDT
DTSTART:20230312T100000
END:DAYLIGHT
BEGIN:STANDARD
TZOFFSETFROM:-0700
TZOFFSETTO:-0800
TZNAME:PST
DTSTART:20231105T090000
END:STANDARD
BEGIN:DAYLIGHT
TZOFFSETFROM:-0800
TZOFFSETTO:-0700
TZNAME:PDT
DTSTART:20240310T100000
END:DAYLIGHT
BEGIN:STANDARD
TZOFFSETFROM:-0700
TZOFFSETTO:-0800
TZNAME:PST
DTSTART:20241103T090000
END:STANDARD
BEGIN:DAYLIGHT
TZOFFSETFROM:-0800
TZOFFSETTO:-0700
TZNAME:PDT
DTSTART:20250309T100000
END:DAYLIGHT
BEGIN:STANDARD
TZOFFSETFROM:-0700
TZOFFSETTO:-0800
TZNAME:PST
DTSTART:20251102T090000
END:STANDARD
END:VTIMEZONE
BEGIN:VEVENT
DTSTART;TZID=America/Los_Angeles:20241027T120000
DTEND;TZID=America/Los_Angeles:20241027T160000
DTSTAMP:20260425T182206
CREATED:20240802T153812Z
LAST-MODIFIED:20241003T182809Z
UID:15290-1730030400-1730044800@elks823.org
SUMMARY:Seahawks Club Kickoff 1:05 PM
DESCRIPTION:The Seahawks Club is back! $35 for the New Season!\nVS. Buffalo Bills\, Kickoff 1:05 PM \nPotluck 12 -4 PM\, bring your favorite dish\, and meet in the lounge with your fellow Elk Members. \nHawks Club membership is $35 and can be paid in the Lounge or the Office. These funds pay for our subscription to Red Zone and other costs of running the Hawks Club. \nWhen the Seahawks score a touchdown\, members will receive a ticket for a free drink (Draft beer\, box wine\, or well drink only). Due to state rules\, a maximum of 5 free drink tickets will be issued to each member per game. Drink tickets must be used during the game timeline: 1 hour before\, during\, and 1 hour after or before the kickoff of the next Hawks Club meet-up. Drink tickets have no value during regular lodge hours.\nWhen the opposing team scores\, everyone is requested to deposit .50¢ in the Hawks Club Bank.\nNon-members are encouraged to participate with us. \nFor more details contact Tim Rogers or Todd Novak. \nCheck out the Seahawks 2024 Schedule here:\nhttps://www.seahawks.com/schedule/
URL:https://elks823.org/event/seahawks-club-kickoff-105-pm-2024-10-27/
CATEGORIES:Charity,Community,Food,fundraiser,Games,Volunteer
ATTACH;FMTTYPE=image/jpeg:https://elks823.org/wp-content/uploads/2024/08/Seahawks35.jpg
END:VEVENT
BEGIN:VEVENT
DTSTART;TZID=America/Los_Angeles:20241029T180000
DTEND;TZID=America/Los_Angeles:20241029T190000
DTSTAMP:20260425T182206
CREATED:20230111T221437Z
LAST-MODIFIED:20241121T211828Z
UID:15281-1730224800-1730228400@elks823.org
SUMMARY:Officer's Meeting 6PM
DESCRIPTION:Ritual Practice and/or Meeting.
URL:https://elks823.org/event/officers-meeting-3-2023-06-06-2024-06-04/2024-10-29/
CATEGORIES:Community
ATTACH;FMTTYPE=image/png:https://elks823.org/wp-content/uploads/2021/11/elks823.png
END:VEVENT
BEGIN:VEVENT
DTSTART;TZID=America/Los_Angeles:20241030T180000
DTEND;TZID=America/Los_Angeles:20241030T200000
DTSTAMP:20260425T182206
CREATED:20220221T185446Z
LAST-MODIFIED:20250127T230031Z
UID:15199-1730311200-1730318400@elks823.org
SUMMARY:Bar Card Bingo 6-8PM
DESCRIPTION:Bar Card Bingo every Wednesday. All are welcome! \nBar Bingo is played with playing cards. It is $1.00 for 3 cards. An app randomly picks cards\, if you “match”\, you flip over that card. When all three cards (in 1 row) are flipped\, you have a Bingo!\nLots of members are there to help you play! Come on down\, but be careful…..you might have too much fun! \nElk Cove Menu is also available in Lounge.
URL:https://elks823.org/event/bar-card-bingo-6-8pm/2024-10-30/
CATEGORIES:Community,Food,Games
ATTACH;FMTTYPE=image/jpeg:https://elks823.org/wp-content/uploads/2021/09/BarBingo.jpg
END:VEVENT
BEGIN:VEVENT
DTSTART;TZID=America/Los_Angeles:20241030T183000
DTEND;TZID=America/Los_Angeles:20241030T203000
DTSTAMP:20260425T182206
CREATED:20240528T164816Z
LAST-MODIFIED:20241004T200301Z
UID:15204-1730313000-1730320200@elks823.org
SUMMARY:One Eyed Kats Practice 6:30PM(Emil Room)
DESCRIPTION:One-Eyed Kats practice downstairs in the Emil room. Members can go down and listen. Just remember to bring any plates\, drinkware\, etc. back up to the bar/kitchen. \nBlues\, R&B\, and rock and roll. http://www.oneeyedkats.com/
URL:https://elks823.org/event/one-eyed-kats-practice/2024-10-30/
CATEGORIES:Music
ATTACH;FMTTYPE=image/jpeg:https://elks823.org/wp-content/uploads/2024/05/mir-6015-enhanced-nr-edit_orig.jpg
END:VEVENT
BEGIN:VEVENT
DTSTART;TZID=America/Los_Angeles:20241030T190000
DTEND;TZID=America/Los_Angeles:20241030T210000
DTSTAMP:20260425T182206
CREATED:20240720T145935Z
LAST-MODIFIED:20250127T230138Z
UID:15213-1730314800-1730322000@elks823.org
SUMMARY:Taska & the Party Band
DESCRIPTION:The dance is from 7 p.m. to 9 p.m. each Wednesday.\nEach band member has a passion for the art of music and has made this journey into a career. For this group\, they don’t just bring the music\, they bring the party! \nCome early to get a seat as early as 6 p.m. Snacks and water are available for purchase. \n*Cover is $6 for Elk members and $10 for the general public.
URL:https://elks823.org/event/taska-party-band/2024-10-30/
CATEGORIES:Community,Dance,Food,Music
ATTACH;FMTTYPE=image/png:https://elks823.org/wp-content/uploads/2024/07/Taska_Band.png
END:VEVENT
BEGIN:VEVENT
DTSTART;TZID=America/Los_Angeles:20241031T180000
DTEND;TZID=America/Los_Angeles:20241031T210000
DTSTAMP:20260425T182206
CREATED:20241002T212049Z
LAST-MODIFIED:20250127T231316Z
UID:15224-1730397600-1730408400@elks823.org
SUMMARY:BINGO 6:30PM
DESCRIPTION:REAL BINGO is now on Thursdays! NEW START TIME 6:30 PM\nPacket sales begin at 6 PM\, Game starts at 6:30 PM!\n\n\n\n*This weekly event is open to Elks members and their guests! The lounge opens at 4 PM\, Bingo starts at 6 PM.\n\nSpecial Blue Plate special meals are now on Thursdays. Check the Blast for what is available that week.
URL:https://elks823.org/event/bingo-630pm/2024-10-31/
CATEGORIES:Community,Food,Games
ATTACH;FMTTYPE=image/png:https://elks823.org/wp-content/uploads/2024/10/BingoNEW.png
END:VEVENT
BEGIN:VEVENT
DTSTART;TZID=America/Los_Angeles:20241101T170000
DTEND;TZID=America/Los_Angeles:20241101T220000
DTSTAMP:20260425T182206
CREATED:20240202T211706Z
LAST-MODIFIED:20241121T211541Z
UID:15481-1730480400-1730498400@elks823.org
SUMMARY:Emblem Club Dinner 6PM\, Live Music Slim Jims 7PM
DESCRIPTION:Dinner is served 6 – 7:00 PM\nPork Loin\, red potatoes\, and veggies. $18\n(Includes roll with butter\, Salad Bar\, homemade dessert\, and coffee and tea included). \n*Please make reservations in the office. 360-256-0823 \n*Stick around to hear live music by Slim Jims\, 7 PM – 9 PM in the lounge. (No Cover) \n*Lounge opens at 4 PM.
URL:https://elks823.org/event/emblem-club-dinner-6pm-3-2024-11-01/2024-11-01/
CATEGORIES:Community,Food,fundraiser,Music,Volunteer
ATTACH;FMTTYPE=image/png:https://elks823.org/wp-content/uploads/2024/02/Emblem_Nov1.png
END:VEVENT
BEGIN:VEVENT
DTSTART;TZID=America/Los_Angeles:20241101T180000
DTEND;TZID=America/Los_Angeles:20241101T200000
DTSTAMP:20260425T182206
CREATED:20230717T173939Z
LAST-MODIFIED:20260216T215356Z
UID:15270-1730484000-1730491200@elks823.org
SUMMARY:Queen of Hearts
DESCRIPTION:Queen of Hearts is back! It will be held every Friday night. \n\n\n\n\nTicket sales will begin on Friday from 6 PM to 8 PM.\nThe drawing will be at 8:00 PM.\nFriday’s Pot = $TBD \n*Eligible Players:\nOpen to Elk members\, visiting Elks\, as well as Emblem Club members.\nA valid Elks/Emblem Club ID must be presented to purchase tickets.\n**Must be present to win.
URL:https://elks823.org/event/queen-of-hearts-12/2024-11-01/
CATEGORIES:Community
ATTACH;FMTTYPE=image/jpeg:https://elks823.org/wp-content/uploads/2025/03/Queen_of_Hearts-scaled.jpg
END:VEVENT
BEGIN:VEVENT
DTSTART;TZID=America/Los_Angeles:20241102T183000
DTEND;TZID=America/Los_Angeles:20241102T220000
DTSTAMP:20260425T182206
CREATED:20241004T161813Z
LAST-MODIFIED:20241023T194033Z
UID:15356-1730572200-1730584800@elks823.org
SUMMARY:Acoustic Open Mic Night 6:30PM
DESCRIPTION:Join us for an evening of creativity and connection! All musicians\, singers\, and performers are welcome to share their talents. Whether you’re a seasoned pro or just starting out\, come showcase your skills or simply enjoy the show! \nSign up with Dana Powell to setup a time slot: danaelks823@gmail.com
URL:https://elks823.org/event/musical-open-mic-night-6pm/
CATEGORIES:Community,Music
ATTACH;FMTTYPE=image/png:https://elks823.org/wp-content/uploads/2024/10/OpenMic2-1.png
END:VEVENT
BEGIN:VEVENT
DTSTART;TZID=America/Los_Angeles:20241103T123000
DTEND;TZID=America/Los_Angeles:20241103T170000
DTSTAMP:20260425T182206
CREATED:20240802T153812Z
LAST-MODIFIED:20241003T182911Z
UID:15291-1730637000-1730653200@elks823.org
SUMMARY:Seahawks Club Kickoff 1:25 PM
DESCRIPTION:The Seahawks Club is back! $35 for the New Season!\nVS. LA Rams\, Kickoff 1:25 PM \nPotluck 12:30 -4 PM\, bring your favorite dish\, and meet in the lounge with your fellow Elk Members. \nHawks Club membership is $35 and can be paid in the Lounge or the Office. These funds pay for our subscription to Red Zone and other costs of running the Hawks Club. \nWhen the Seahawks score a touchdown\, members will receive a ticket for a free drink (Draft beer\, box wine\, or well drink only). Due to state rules\, a maximum of 5 free drink tickets will be issued to each member per game. Drink tickets must be used during the game timeline: 1 hour before\, during\, and 1 hour after or before the kickoff of the next Hawks Club meet-up. Drink tickets have no value during regular lodge hours.\nWhen the opposing team scores\, everyone is requested to deposit .50¢ in the Hawks Club Bank.\nNon-members are encouraged to participate with us. \nFor more details contact Tim Rogers or Todd Novak. \nCheck out the Seahawks 2024 Schedule here:\nhttps://www.seahawks.com/schedule/
URL:https://elks823.org/event/seahawks-club-kickoff-105-pm-2024-11-03/
CATEGORIES:Charity,Community,Food,fundraiser,Games,Volunteer
ATTACH;FMTTYPE=image/jpeg:https://elks823.org/wp-content/uploads/2024/08/Seahawks35.jpg
END:VEVENT
BEGIN:VEVENT
DTSTART;TZID=America/Los_Angeles:20241105T180000
DTEND;TZID=America/Los_Angeles:20241105T190000
DTSTAMP:20260425T182206
CREATED:20230111T221437Z
LAST-MODIFIED:20241121T211828Z
UID:15282-1730829600-1730833200@elks823.org
SUMMARY:Officer's Meeting 6PM
DESCRIPTION:Ritual Practice and/or Meeting.
URL:https://elks823.org/event/officers-meeting-3-2023-06-06-2024-06-04/2024-11-05/
CATEGORIES:Community
ATTACH;FMTTYPE=image/png:https://elks823.org/wp-content/uploads/2021/11/elks823.png
END:VEVENT
BEGIN:VEVENT
DTSTART;TZID=America/Los_Angeles:20241106T173000
DTEND;TZID=America/Los_Angeles:20241106T183000
DTSTAMP:20260425T182206
CREATED:20240220T191720Z
LAST-MODIFIED:20240220T191720Z
UID:15718-1730914200-1730917800@elks823.org
SUMMARY:PER Meeting 6PM
DESCRIPTION:Meet with your fellow PERs and talk about charities\, events coming up\, volunteer\, and all-around camaraderie.
URL:https://elks823.org/event/per-meeting-6pm/2024-11-06/
CATEGORIES:Charity,Community,Food,Volunteer
ATTACH;FMTTYPE=image/jpeg:https://elks823.org/wp-content/uploads/2020/09/PERA-Group-Photo.jpg
END:VEVENT
BEGIN:VEVENT
DTSTART;TZID=America/Los_Angeles:20241106T180000
DTEND;TZID=America/Los_Angeles:20241106T200000
DTSTAMP:20260425T182206
CREATED:20220221T185446Z
LAST-MODIFIED:20250127T230031Z
UID:15363-1730916000-1730923200@elks823.org
SUMMARY:Bar Card Bingo 6-8PM
DESCRIPTION:Bar Card Bingo every Wednesday. All are welcome! \nBar Bingo is played with playing cards. It is $1.00 for 3 cards. An app randomly picks cards\, if you “match”\, you flip over that card. When all three cards (in 1 row) are flipped\, you have a Bingo!\nLots of members are there to help you play! Come on down\, but be careful…..you might have too much fun! \nElk Cove Menu is also available in Lounge.
URL:https://elks823.org/event/bar-card-bingo-6-8pm/2024-11-06/
CATEGORIES:Community,Food,Games
ATTACH;FMTTYPE=image/jpeg:https://elks823.org/wp-content/uploads/2021/09/BarBingo.jpg
END:VEVENT
BEGIN:VEVENT
DTSTART;TZID=America/Los_Angeles:20241106T183000
DTEND;TZID=America/Los_Angeles:20241106T203000
DTSTAMP:20260425T182206
CREATED:20240528T164816Z
LAST-MODIFIED:20240528T164816Z
UID:15376-1730917800-1730925000@elks823.org
SUMMARY:One Eyed Kats Practice 6:30PM(Emil Room)
DESCRIPTION:One-Eyed Kats practice downstairs in the Emil room. Members can go down and listen. Just remember to bring any plates\, drinkware\, etc. back up to the bar/kitchen. \nBlues\, R&B\, and rock and roll. http://www.oneeyedkats.com/
URL:https://elks823.org/event/one-eyed-kats-practice/2024-11-06/
CATEGORIES:Music
ATTACH;FMTTYPE=image/jpeg:https://elks823.org/wp-content/uploads/2024/05/mir-6015-enhanced-nr-edit_orig.jpg
END:VEVENT
BEGIN:VEVENT
DTSTART;TZID=America/Los_Angeles:20241106T190000
DTEND;TZID=America/Los_Angeles:20241106T210000
DTSTAMP:20260425T182206
CREATED:20240720T145935Z
LAST-MODIFIED:20250127T230138Z
UID:15385-1730919600-1730926800@elks823.org
SUMMARY:Taska & the Party Band
DESCRIPTION:The dance is from 7 p.m. to 9 p.m. each Wednesday.\nEach band member has a passion for the art of music and has made this journey into a career. For this group\, they don’t just bring the music\, they bring the party! \nCome early to get a seat as early as 6 p.m. Snacks and water are available for purchase. \n*Cover is $6 for Elk members and $10 for the general public.
URL:https://elks823.org/event/taska-party-band/2024-11-06/
CATEGORIES:Community,Dance,Food,Music
ATTACH;FMTTYPE=image/png:https://elks823.org/wp-content/uploads/2024/07/Taska_Band.png
END:VEVENT
BEGIN:VEVENT
DTSTART;TZID=America/Los_Angeles:20241107T180000
DTEND;TZID=America/Los_Angeles:20241107T210000
DTSTAMP:20260425T182206
CREATED:20241002T212049Z
LAST-MODIFIED:20250127T231317Z
UID:15225-1731002400-1731013200@elks823.org
SUMMARY:BINGO 6:30PM
DESCRIPTION:REAL BINGO is now on Thursdays! NEW START TIME 6:30 PM\nPacket sales begin at 6 PM\, Game starts at 6:30 PM!\n\n\n\n*This weekly event is open to Elks members and their guests! The lounge opens at 4 PM\, Bingo starts at 6 PM.\n\nSpecial Blue Plate special meals are now on Thursdays. Check the Blast for what is available that week.
URL:https://elks823.org/event/bingo-630pm/2024-11-07/
CATEGORIES:Community,Food,Games
ATTACH;FMTTYPE=image/png:https://elks823.org/wp-content/uploads/2024/10/BingoNEW.png
END:VEVENT
BEGIN:VEVENT
DTSTART;TZID=America/Los_Angeles:20241108T170000
DTEND;TZID=America/Los_Angeles:20241108T210000
DTSTAMP:20260425T182206
CREATED:20241004T201347Z
LAST-MODIFIED:20250926T203922Z
UID:15396-1731085200-1731099600@elks823.org
SUMMARY:Veterans Dinner
DESCRIPTION:Cocktails 5PM~ Program~ Dinner 6PM \nThe Vancouver Elks Lodge #823 will be showing our appreciation to all Veterans and families by providing a meal of thanks on November 8\, 2024. We cordially invite those who can attend this special occasion at our lodge beginning at 5 PM. \nDue to our 2nd Annual Golf Tournament this year\, chaired by Christine Bowdish and Michael Schrader\, we were able to fundraise for the Veterans Dinner. Thank you to both of them and to everyone who helped put on and play in the golf tournament. \nWe have partnered with local business owner Peter Kurfurst\, Butcher Boys\, to bring you a special Prime Rib Dinner! The dinner will include prime rib\, mashed potatoes\, green beans\, dinner roll\, salad\, and cake for dessert.\nThe meal will be free to all Veterans\, and just $25 for non-veterans. \nBecause this is a special meal\, we do request that reservations be made through the Lodge Office\,\n(360) 256-0823\, by 11/5/2024\, so that we can ensure we have enough food to feed those who attend. \nThe evening will be filled with music\, the posting of the colors by our local VFW\, and a video montage played throughout the evening. \nIf you would like to have yourself or a loved one honored and shown in the montage\, please send photos to Veterans Chair and Leading Knight\, Stephen Hansen at Stephen.hansen.elks@gmail.com
URL:https://elks823.org/event/veterans-dinner-4/2024-11-08/
CATEGORIES:Charity,Community,Food,Music,Volunteer
ATTACH;FMTTYPE=image/jpeg:https://elks823.org/wp-content/uploads/2023/11/veterans.jpg
END:VEVENT
BEGIN:VEVENT
DTSTART;TZID=America/Los_Angeles:20241108T180000
DTEND;TZID=America/Los_Angeles:20241108T200000
DTSTAMP:20260425T182206
CREATED:20230717T173939Z
LAST-MODIFIED:20260216T215401Z
UID:15271-1731088800-1731096000@elks823.org
SUMMARY:Queen of Hearts
DESCRIPTION:Queen of Hearts is back! It will be held every Friday night. \n\n\n\n\nTicket sales will begin on Friday from 6 PM to 8 PM.\nThe drawing will be at 8:00 PM.\nFriday’s Pot = $TBD \n*Eligible Players:\nOpen to Elk members\, visiting Elks\, as well as Emblem Club members.\nA valid Elks/Emblem Club ID must be presented to purchase tickets.\n**Must be present to win.
URL:https://elks823.org/event/queen-of-hearts-12/2024-11-08/
CATEGORIES:Community
ATTACH;FMTTYPE=image/jpeg:https://elks823.org/wp-content/uploads/2025/03/Queen_of_Hearts-scaled.jpg
END:VEVENT
BEGIN:VEVENT
DTSTART;TZID=America/Los_Angeles:20241109T180000
DTEND;TZID=America/Los_Angeles:20241109T210000
DTSTAMP:20260425T182206
CREATED:20240326T195812Z
LAST-MODIFIED:20250127T235749Z
UID:15263-1731175200-1731186000@elks823.org
SUMMARY:Karaoke 6PM
DESCRIPTION:Are you a singer?  Come on down\, we want to hear you sing!!\nNot a singer?  THAT’S OK!  Come on down and listen to our Elk Members\, friends\, and family sing. \nElk Cove Menu starts in the lounge at 5 PM.
URL:https://elks823.org/event/karaoke-6pm-2/2024-11-09/
CATEGORIES:Dance,Food,fundraiser,Karaoke,Music
ATTACH;FMTTYPE=image/png:https://elks823.org/wp-content/uploads/2024/03/karaoke.png
END:VEVENT
BEGIN:VEVENT
DTSTART;VALUE=DATE:20241111
DTEND;VALUE=DATE:20241112
DTSTAMP:20260425T182206
CREATED:20231024T175204Z
LAST-MODIFIED:20241004T200552Z
UID:15394-1731283200-1731369599@elks823.org
SUMMARY:Veterans Day
DESCRIPTION:Happy Veterans Day to all who have served!
URL:https://elks823.org/event/veterans-day-2-2024-10-11/
ATTACH;FMTTYPE=image/png:https://elks823.org/wp-content/uploads/2021/10/veterans.png
END:VEVENT
BEGIN:VEVENT
DTSTART;TZID=America/Los_Angeles:20241112T190000
DTEND;TZID=America/Los_Angeles:20241112T210000
DTSTAMP:20260425T182206
CREATED:20220816T201709Z
LAST-MODIFIED:20250127T230609Z
UID:15250-1731438000-1731445200@elks823.org
SUMMARY:Lodge Meeting 7PM
DESCRIPTION:The lounge opens at 4 PM\, closed during meetings\, then re-opens after the meeting until 9 PM. \nFood: Taco Tuesday! Come down for some tacos\, quesadillas\, taquitos\, chips\, and salsa.
URL:https://elks823.org/event/lodge-meeting-7pm-5/2024-11-12/
CATEGORIES:Lodge meeting
ATTACH;FMTTYPE=image/png:https://elks823.org/wp-content/uploads/2022/08/Lounge-Screens-april-may-12.png
END:VEVENT
BEGIN:VEVENT
DTSTART;TZID=America/Los_Angeles:20241113T180000
DTEND;TZID=America/Los_Angeles:20241113T200000
DTSTAMP:20260425T182206
CREATED:20220221T185446Z
LAST-MODIFIED:20250127T230031Z
UID:15364-1731520800-1731528000@elks823.org
SUMMARY:Bar Card Bingo 6-8PM
DESCRIPTION:Bar Card Bingo every Wednesday. All are welcome! \nBar Bingo is played with playing cards. It is $1.00 for 3 cards. An app randomly picks cards\, if you “match”\, you flip over that card. When all three cards (in 1 row) are flipped\, you have a Bingo!\nLots of members are there to help you play! Come on down\, but be careful…..you might have too much fun! \nElk Cove Menu is also available in Lounge.
URL:https://elks823.org/event/bar-card-bingo-6-8pm/2024-11-13/
CATEGORIES:Community,Food,Games
ATTACH;FMTTYPE=image/jpeg:https://elks823.org/wp-content/uploads/2021/09/BarBingo.jpg
END:VEVENT
BEGIN:VEVENT
DTSTART;TZID=America/Los_Angeles:20241113T183000
DTEND;TZID=America/Los_Angeles:20241113T203000
DTSTAMP:20260425T182206
CREATED:20240528T164816Z
LAST-MODIFIED:20240528T164816Z
UID:15377-1731522600-1731529800@elks823.org
SUMMARY:One Eyed Kats Practice 6:30PM(Emil Room)
DESCRIPTION:One-Eyed Kats practice downstairs in the Emil room. Members can go down and listen. Just remember to bring any plates\, drinkware\, etc. back up to the bar/kitchen. \nBlues\, R&B\, and rock and roll. http://www.oneeyedkats.com/
URL:https://elks823.org/event/one-eyed-kats-practice/2024-11-13/
CATEGORIES:Music
ATTACH;FMTTYPE=image/jpeg:https://elks823.org/wp-content/uploads/2024/05/mir-6015-enhanced-nr-edit_orig.jpg
END:VEVENT
BEGIN:VEVENT
DTSTART;TZID=America/Los_Angeles:20241113T190000
DTEND;TZID=America/Los_Angeles:20241113T210000
DTSTAMP:20260425T182206
CREATED:20240720T145935Z
LAST-MODIFIED:20250127T230139Z
UID:15386-1731524400-1731531600@elks823.org
SUMMARY:Taska & the Party Band
DESCRIPTION:The dance is from 7 p.m. to 9 p.m. each Wednesday.\nEach band member has a passion for the art of music and has made this journey into a career. For this group\, they don’t just bring the music\, they bring the party! \nCome early to get a seat as early as 6 p.m. Snacks and water are available for purchase. \n*Cover is $6 for Elk members and $10 for the general public.
URL:https://elks823.org/event/taska-party-band/2024-11-13/
CATEGORIES:Community,Dance,Food,Music
ATTACH;FMTTYPE=image/png:https://elks823.org/wp-content/uploads/2024/07/Taska_Band.png
END:VEVENT
BEGIN:VEVENT
DTSTART;TZID=America/Los_Angeles:20241114T180000
DTEND;TZID=America/Los_Angeles:20241114T210000
DTSTAMP:20260425T182206
CREATED:20241002T212049Z
LAST-MODIFIED:20250127T231317Z
UID:15226-1731607200-1731618000@elks823.org
SUMMARY:BINGO 6:30PM
DESCRIPTION:REAL BINGO is now on Thursdays! NEW START TIME 6:30 PM\nPacket sales begin at 6 PM\, Game starts at 6:30 PM!\n\n\n\n*This weekly event is open to Elks members and their guests! The lounge opens at 4 PM\, Bingo starts at 6 PM.\n\nSpecial Blue Plate special meals are now on Thursdays. Check the Blast for what is available that week.
URL:https://elks823.org/event/bingo-630pm/2024-11-14/
CATEGORIES:Community,Food,Games
ATTACH;FMTTYPE=image/png:https://elks823.org/wp-content/uploads/2024/10/BingoNEW.png
END:VEVENT
BEGIN:VEVENT
DTSTART;TZID=America/Los_Angeles:20241115T160000
DTEND;TZID=America/Los_Angeles:20241115T220000
DTSTAMP:20260425T182206
CREATED:20240711T191919Z
LAST-MODIFIED:20241121T232310Z
UID:15334-1731686400-1731708000@elks823.org
SUMMARY:Officer Steak Night 5PM\, Live Music Lip Bomb 7PM
DESCRIPTION:Steak $27 comes with a salad\, baked potato\, and vegetables.\nOr select Fish\, $25: Salmon with a salad\, baked potato\, and vegetables.\n*The steak will be upgraded to Ribeye from Sirloin\, 8oz portion. Hence the pricing change. \nPlease call the office to make your reservations\, by the Wednesday before.\nWhen you call\, please select an open time for dinner.\n*Late RSVPs may not be taken. 360-256-0823 \nLive Music by Lip Bomb (in the Lodge room) at 7 PM\n$6 members\, $10 non-members \n*Steak Night Tips and proceeds go to the Officer Fund to help with Conventions\, Officer uniforms\, and training.
URL:https://elks823.org/event/officer-steak-night-5pm-live-music-seymour-smith-7pm-2024-11-15/2024-11-15/
CATEGORIES:Community,Dance,Food,Music
ATTACH;FMTTYPE=image/jpeg:https://elks823.org/wp-content/uploads/2022/11/Steak_night.jpeg
END:VEVENT
BEGIN:VEVENT
DTSTART;TZID=America/Los_Angeles:20241115T173000
DTEND;TZID=America/Los_Angeles:20241115T203000
DTSTAMP:20260425T182206
CREATED:20240202T200837Z
LAST-MODIFIED:20240202T200837Z
UID:15235-1731691800-1731702600@elks823.org
SUMMARY:Vera's Basement Open 5:30 - 8:30PM
DESCRIPTION:1st & 3rd Fridays\, Vera’s Basement is Open. Come downstairs and check us out! 5:30-8:30 PM \n*For more information\, contact Colleen Wyatt.\n*All proceeds go back to the Lodge Fund.
URL:https://elks823.org/event/veras-basement-open-530-830pm/2024-11-15/
CATEGORIES:Charity,Community,fundraiser
ATTACH;FMTTYPE=image/jpeg:https://elks823.org/wp-content/uploads/2024/02/Veras-hours-scaled.jpg
END:VEVENT
BEGIN:VEVENT
DTSTART;TZID=America/Los_Angeles:20241115T180000
DTEND;TZID=America/Los_Angeles:20241115T200000
DTSTAMP:20260425T182206
CREATED:20230717T173939Z
LAST-MODIFIED:20260216T215402Z
UID:15272-1731693600-1731700800@elks823.org
SUMMARY:Queen of Hearts
DESCRIPTION:Queen of Hearts is back! It will be held every Friday night. \n\n\n\n\nTicket sales will begin on Friday from 6 PM to 8 PM.\nThe drawing will be at 8:00 PM.\nFriday’s Pot = $TBD \n*Eligible Players:\nOpen to Elk members\, visiting Elks\, as well as Emblem Club members.\nA valid Elks/Emblem Club ID must be presented to purchase tickets.\n**Must be present to win.
URL:https://elks823.org/event/queen-of-hearts-12/2024-11-15/
CATEGORIES:Community
ATTACH;FMTTYPE=image/jpeg:https://elks823.org/wp-content/uploads/2025/03/Queen_of_Hearts-scaled.jpg
END:VEVENT
BEGIN:VEVENT
DTSTART;TZID=America/Los_Angeles:20241116T160000
DTEND;TZID=America/Los_Angeles:20241116T210000
DTSTAMP:20260425T182206
CREATED:20241004T201740Z
LAST-MODIFIED:20241023T193711Z
UID:15398-1731772800-1731790800@elks823.org
SUMMARY:Friendsgiving Potluck 4PM
DESCRIPTION:Let’s get together with your ELK Family and friends and have a Friendsgiving!\nJoin us at 4 PM\, Potluck and dinner at 5 PM \n*Members\, families & guests. \nWe will soon have signups for sides and such. The Lodge will be providing the Turkey\, all sides and desserts are potluck!\nhttps://www.signupgenius.com/go/10c0f4faeae2ba1fac34-test#/
URL:https://elks823.org/event/friendsgiving-potluck-4pm/
CATEGORIES:Community,Food,Games,Music,Volunteer
ATTACH;FMTTYPE=image/png:https://elks823.org/wp-content/uploads/2024/10/Friendsgiving_2024.png
END:VEVENT
BEGIN:VEVENT
DTSTART;TZID=America/Los_Angeles:20241117T120000
DTEND;TZID=America/Los_Angeles:20241117T160000
DTSTAMP:20260425T182206
CREATED:20240802T153812Z
LAST-MODIFIED:20241003T182959Z
UID:15292-1731844800-1731859200@elks823.org
SUMMARY:Seahawks Club Kickoff 1:05 PM
DESCRIPTION:The Seahawks Club is back! $35 for the New Season!\nVS. SF 49ers\, Kickoff 1:05 PM \nPotluck 12 -3 PM\, bring your favorite dish\, and meet in the lounge with your fellow Elk Members. \nHawks Club membership is $35 and can be paid in the Lounge or the Office. These funds pay for our subscription to Red Zone and other costs of running the Hawks Club. \nWhen the Seahawks score a touchdown\, members will receive a ticket for a free drink (Draft beer\, box wine\, or well drink only). Due to state rules\, a maximum of 5 free drink tickets will be issued to each member per game. Drink tickets must be used during the game timeline: 1 hour before\, during\, and 1 hour after or before the kickoff of the next Hawks Club meet-up. Drink tickets have no value during regular lodge hours.\nWhen the opposing team scores\, everyone is requested to deposit .50¢ in the Hawks Club Bank.\nNon-members are encouraged to participate with us. \nFor more details contact Tim Rogers or Todd Novak. \nCheck out the Seahawks 2024 Schedule here:\nhttps://www.seahawks.com/schedule/
URL:https://elks823.org/event/seahawks-club-kickoff-105-pm-2024-11-17/
CATEGORIES:Charity,Community,Food,fundraiser,Games,Volunteer
ATTACH;FMTTYPE=image/jpeg:https://elks823.org/wp-content/uploads/2024/08/Seahawks35.jpg
END:VEVENT
END:VCALENDAR