BEGIN:VCALENDAR
VERSION:2.0
PRODID:-//Elks Lodge 823 - ECPv6.15.20//NONSGML v1.0//EN
CALSCALE:GREGORIAN
METHOD:PUBLISH
X-ORIGINAL-URL:https://elks823.org
X-WR-CALDESC:Events for Elks Lodge 823
REFRESH-INTERVAL;VALUE=DURATION:PT1H
X-Robots-Tag:noindex
X-PUBLISHED-TTL:PT1H
BEGIN:VTIMEZONE
TZID:America/Los_Angeles
BEGIN:DAYLIGHT
TZOFFSETFROM:-0800
TZOFFSETTO:-0700
TZNAME:PDT
DTSTART:20230312T100000
END:DAYLIGHT
BEGIN:STANDARD
TZOFFSETFROM:-0700
TZOFFSETTO:-0800
TZNAME:PST
DTSTART:20231105T090000
END:STANDARD
BEGIN:DAYLIGHT
TZOFFSETFROM:-0800
TZOFFSETTO:-0700
TZNAME:PDT
DTSTART:20240310T100000
END:DAYLIGHT
BEGIN:STANDARD
TZOFFSETFROM:-0700
TZOFFSETTO:-0800
TZNAME:PST
DTSTART:20241103T090000
END:STANDARD
BEGIN:DAYLIGHT
TZOFFSETFROM:-0800
TZOFFSETTO:-0700
TZNAME:PDT
DTSTART:20250309T100000
END:DAYLIGHT
BEGIN:STANDARD
TZOFFSETFROM:-0700
TZOFFSETTO:-0800
TZNAME:PST
DTSTART:20251102T090000
END:STANDARD
BEGIN:DAYLIGHT
TZOFFSETFROM:-0800
TZOFFSETTO:-0700
TZNAME:PDT
DTSTART:20260308T100000
END:DAYLIGHT
BEGIN:STANDARD
TZOFFSETFROM:-0700
TZOFFSETTO:-0800
TZNAME:PST
DTSTART:20261101T090000
END:STANDARD
END:VTIMEZONE
BEGIN:VEVENT
DTSTART;TZID=America/Los_Angeles:20241216T160000
DTEND;TZID=America/Los_Angeles:20241216T173000
DTSTAMP:20260425T093524
CREATED:20241125T214738Z
LAST-MODIFIED:20241125T214738Z
UID:15688-1734364800-1734370200@elks823.org
SUMMARY:Celebration of Life\, Deborah Walling 4PM
DESCRIPTION:We lost a long-time member: Debra Walling. She was both a member of Vancouver Emblem #473 and Vancouver Elks #823. She was a constant Emblem supporter and friend. We will miss her smile and trendy fashion sense. \n* Her memorial service will be held at the Vancouver Elks Lodge #823 on Monday\, December 16\, 2024 at 4:00 PM.
URL:https://elks823.org/event/celebration-of-life-deborah-walling-4pm/
CATEGORIES:Charity,Community
ATTACH;FMTTYPE=image/png:https://elks823.org/wp-content/uploads/2019/08/Screenshot-2019-08-08-at-4.03.48-PM.png
END:VEVENT
BEGIN:VEVENT
DTSTART;TZID=America/Los_Angeles:20241216T180000
DTEND;TZID=America/Los_Angeles:20241216T200000
DTSTAMP:20260425T093524
CREATED:20230227T212526Z
LAST-MODIFIED:20241209T232259Z
UID:15640-1734372000-1734379200@elks823.org
SUMMARY:CMB/Board Meeting 6PM
DESCRIPTION:CMB/Board meetings will be held on the 2nd and 4th Monday of each month. (Monday before Lodge Meetings) \nIn the Board Room. All members are welcome to attend.
URL:https://elks823.org/event/cmb-board-meeting-2023-08-28-2024-12-23/
CATEGORIES:Board Meeting,Community
ATTACH;FMTTYPE=image/png:https://elks823.org/wp-content/uploads/2023/02/Lounge-Screens-april-may-14.png
END:VEVENT
BEGIN:VEVENT
DTSTART;TZID=America/Los_Angeles:20241217T180000
DTEND;TZID=America/Los_Angeles:20241217T190000
DTSTAMP:20260425T093524
CREATED:20240326T193927Z
LAST-MODIFIED:20250304T225247Z
UID:15684-1734458400-1734462000@elks823.org
SUMMARY:Activities Meeting 6PM
DESCRIPTION:Our Activities Meeting will be on the 3rd Tuesday of the Month at 6 PM. \nThis meeting is to coordinate activities for all the Committees and Officer functions.\nAll Lodge Officers/Trustees and Committee Chairs should plan on attending. All Committee Members can also attend or anyone wanting to be on a committee can attend. \n*In the Stag Bar unless there’s an event in there\, then the Dining Room.
URL:https://elks823.org/event/activities-meeting-6pm/2024-12-17/
CATEGORIES:Community,Food,fundraiser,Volunteer
ATTACH;FMTTYPE=image/png:https://elks823.org/wp-content/uploads/2024/02/planning-meeting-tonight-2.png
END:VEVENT
BEGIN:VEVENT
DTSTART;TZID=America/Los_Angeles:20241217T190000
DTEND;TZID=America/Los_Angeles:20241217T203000
DTSTAMP:20260425T093524
CREATED:20191119T001440Z
LAST-MODIFIED:20191119T001440Z
UID:15690-1734462000-1734467400@elks823.org
SUMMARY:Special Initiation
DESCRIPTION:
URL:https://elks823.org/event/special-initiation/2024-12-17/
CATEGORIES:Lodge meeting,Member Initiation
ATTACH;FMTTYPE=image/jpeg:https://elks823.org/wp-content/uploads/2019/01/54524860_2322934037978165_7650752989577084928_n.jpg
END:VEVENT
BEGIN:VEVENT
DTSTART;TZID=America/Los_Angeles:20241218T180000
DTEND;TZID=America/Los_Angeles:20241218T200000
DTSTAMP:20260425T093524
CREATED:20220221T185446Z
LAST-MODIFIED:20220221T185446Z
UID:15568-1734544800-1734552000@elks823.org
SUMMARY:Bar Card Bingo 6-8PM
DESCRIPTION:Bar Card Bingo every Wednesday. All are welcome! \nBar Bingo is played with playing cards. It is $1.00 for 3 cards. An app randomly picks cards\, if you “match”\, you flip over that card. When all three cards (in 1 row) are flipped\, you have a Bingo!\nLots of members are there to help you play! Come on down\, but be careful…..you might have too much fun! \nElk Cove Menu is also available in Lounge.
URL:https://elks823.org/event/bar-card-bingo-6-8pm/2024-12-18/
CATEGORIES:Community,Food,Games
ATTACH;FMTTYPE=image/jpeg:https://elks823.org/wp-content/uploads/2021/09/BarBingo.jpg
END:VEVENT
BEGIN:VEVENT
DTSTART;TZID=America/Los_Angeles:20241218T180000
DTEND;TZID=America/Los_Angeles:20241218T200000
DTSTAMP:20260425T093524
CREATED:20231207T203128Z
LAST-MODIFIED:20231207T203128Z
UID:15735-1734544800-1734552000@elks823.org
SUMMARY:Veterans Bingo at CLC
DESCRIPTION:at the CLC @ 6PM \n*Please contact Leonard Mills for more information and to volunteer.
URL:https://elks823.org/event/veterans-bingo-at-clc-2024-02-21/2024-12-18/
CATEGORIES:Charity,Community,Games,Volunteer
ATTACH;FMTTYPE=image/png:https://elks823.org/wp-content/uploads/2021/10/veterans.png
END:VEVENT
BEGIN:VEVENT
DTSTART;TZID=America/Los_Angeles:20241218T183000
DTEND;TZID=America/Los_Angeles:20241218T203000
DTSTAMP:20260425T093524
CREATED:20240528T164816Z
LAST-MODIFIED:20240528T164816Z
UID:15575-1734546600-1734553800@elks823.org
SUMMARY:One Eyed Kats Practice 6:30PM(Emil Room)
DESCRIPTION:One-Eyed Kats practice downstairs in the Emil room. Members can go down and listen. Just remember to bring any plates\, drinkware\, etc. back up to the bar/kitchen. \nBlues\, R&B\, and rock and roll. http://www.oneeyedkats.com/
URL:https://elks823.org/event/one-eyed-kats-practice/2024-12-18/
CATEGORIES:Music
ATTACH;FMTTYPE=image/jpeg:https://elks823.org/wp-content/uploads/2024/05/mir-6015-enhanced-nr-edit_orig.jpg
END:VEVENT
BEGIN:VEVENT
DTSTART;TZID=America/Los_Angeles:20241218T190000
DTEND;TZID=America/Los_Angeles:20241218T210000
DTSTAMP:20260425T093524
CREATED:20240720T145935Z
LAST-MODIFIED:20250127T230140Z
UID:15582-1734548400-1734555600@elks823.org
SUMMARY:Taska & the Party Band
DESCRIPTION:The dance is from 7 p.m. to 9 p.m. each Wednesday.\nEach band member has a passion for the art of music and has made this journey into a career. For this group\, they don’t just bring the music\, they bring the party! \nCome early to get a seat as early as 6 p.m. Snacks and water are available for purchase. \n*Cover is $6 for Elk members and $10 for the general public.
URL:https://elks823.org/event/taska-party-band/2024-12-18/
CATEGORIES:Community,Dance,Food,Music
ATTACH;FMTTYPE=image/png:https://elks823.org/wp-content/uploads/2024/07/Taska_Band.png
END:VEVENT
BEGIN:VEVENT
DTSTART;TZID=America/Los_Angeles:20241219T180000
DTEND;TZID=America/Los_Angeles:20241219T210000
DTSTAMP:20260425T093524
CREATED:20241002T212049Z
LAST-MODIFIED:20250127T231318Z
UID:15600-1734631200-1734642000@elks823.org
SUMMARY:BINGO 6:30PM
DESCRIPTION:REAL BINGO is now on Thursdays! NEW START TIME 6:30 PM\nPacket sales begin at 6 PM\, Game starts at 6:30 PM!\n\n\n\n*This weekly event is open to Elks members and their guests! The lounge opens at 4 PM\, Bingo starts at 6 PM.\n\nSpecial Blue Plate special meals are now on Thursdays. Check the Blast for what is available that week.
URL:https://elks823.org/event/bingo-630pm/2024-12-19/
CATEGORIES:Community,Food,Games
ATTACH;FMTTYPE=image/png:https://elks823.org/wp-content/uploads/2024/10/BingoNEW.png
END:VEVENT
BEGIN:VEVENT
DTSTART;TZID=America/Los_Angeles:20241219T193000
DTEND;TZID=America/Los_Angeles:20241219T213000
DTSTAMP:20260425T093524
CREATED:20241125T215214Z
LAST-MODIFIED:20241125T215214Z
UID:15691-1734636600-1734643800@elks823.org
SUMMARY:Community Jazz Band Concert 7:30PM
DESCRIPTION:Free (or $5 donation) Jazz Concert with the Community Jazz Band in the lodge room. 7:30-9:30PM
URL:https://elks823.org/event/community-jazz-band-concert-730pm/
CATEGORIES:Charity,Community,Dance,Music
ATTACH;FMTTYPE=image/jpeg:https://elks823.org/wp-content/uploads/2024/11/IMG_0395.jpg
END:VEVENT
BEGIN:VEVENT
DTSTART;TZID=America/Los_Angeles:20241220T160000
DTEND;TZID=America/Los_Angeles:20241220T180000
DTSTAMP:20260425T093524
CREATED:20241125T215542Z
LAST-MODIFIED:20241125T215542Z
UID:15694-1734710400-1734717600@elks823.org
SUMMARY:PER Christmas Party 4PM
DESCRIPTION:PER Christmas Party in the Stag Bar\, 4PM.
URL:https://elks823.org/event/per-christmas-party-4pm/
ATTACH;FMTTYPE=image/jpeg:https://elks823.org/wp-content/uploads/2020/09/PERA-Group-Photo.jpg
END:VEVENT
BEGIN:VEVENT
DTSTART;TZID=America/Los_Angeles:20241220T160000
DTEND;TZID=America/Los_Angeles:20241220T220000
DTSTAMP:20260425T093524
CREATED:20240711T191919Z
LAST-MODIFIED:20250127T235228Z
UID:15630-1734710400-1734732000@elks823.org
SUMMARY:Officer Steak Night 5PM\, Live Music Mario Carboni 7PM
DESCRIPTION:Steak $27 comes with a salad\, baked potato\, and vegetables.\nOr select Fish\, $25: Salmon with a salad\, baked potato\, and vegetables.\n*The steak will be upgraded to Ribeye from Sirloin\, 8oz portion. Hence the pricing change. \nPlease call the office to make your reservations\, by the Wednesday before.\nWhen you call\, please select an open time for dinner.\n*Late RSVPs may not be taken. 360-256-0823 \nLive Music by Mario Carboni (in the Lodge room) at 7 PM\n$6 members\, $10 non-members \n*Steak Night Tips and proceeds go to the Officer Fund to help with Conventions\, Officer uniforms\, and training.
URL:https://elks823.org/event/officer-steak-night-5pm-live-music-seymour-smith-7pm-2024-11-15-2024-12-20/2024-12-20/
CATEGORIES:Community,Dance,Food,Music
ATTACH;FMTTYPE=image/jpeg:https://elks823.org/wp-content/uploads/2022/11/Steak_night.jpeg
END:VEVENT
BEGIN:VEVENT
DTSTART;TZID=America/Los_Angeles:20241220T180000
DTEND;TZID=America/Los_Angeles:20241220T200000
DTSTAMP:20260425T093524
CREATED:20230717T173939Z
LAST-MODIFIED:20260216T215403Z
UID:15526-1734717600-1734724800@elks823.org
SUMMARY:Queen of Hearts
DESCRIPTION:Queen of Hearts is back! It will be held every Friday night. \n\n\n\n\nTicket sales will begin on Friday from 6 PM to 8 PM.\nThe drawing will be at 8:00 PM.\nFriday’s Pot = $TBD \n*Eligible Players:\nOpen to Elk members\, visiting Elks\, as well as Emblem Club members.\nA valid Elks/Emblem Club ID must be presented to purchase tickets.\n**Must be present to win.
URL:https://elks823.org/event/queen-of-hearts-12/2024-12-20/
CATEGORIES:Community
ATTACH;FMTTYPE=image/jpeg:https://elks823.org/wp-content/uploads/2025/03/Queen_of_Hearts-scaled.jpg
END:VEVENT
BEGIN:VEVENT
DTSTART;TZID=America/Los_Angeles:20241221T120000
DTEND;TZID=America/Los_Angeles:20241221T150000
DTSTAMP:20260425T093524
CREATED:20241125T220126Z
LAST-MODIFIED:20251125T222546Z
UID:15696-1734782400-1734793200@elks823.org
SUMMARY:Children's Christmas Party 12-3PM
DESCRIPTION:Come one\, come all to the Annual Children’s Christmas Party. It is scheduled for 12 PM – 3 PM. There will be lots of crafts\, games\, food\, and gifts for all children. Santa\, The Grinch\, and Elroy are making a stop at the Lodge too. \n*We need volunteers to help set up/tear down\, runners for food and drinks\, craft table\, passing out gifts\, and car attendants. Sign up on Sign up Genius here.\nPlease arrive at 11 AM for help beforehand.\nPlease also contact Dave Burns\, for more information.
URL:https://elks823.org/event/childrens-christmas-party-12-3pm-2/2024-12-21/
CATEGORIES:Charity,Community,Food,Games,Music,Volunteer
ATTACH;FMTTYPE=image/png:https://elks823.org/wp-content/uploads/2024/11/Childrens_Party2024.png
END:VEVENT
BEGIN:VEVENT
DTSTART;VALUE=DATE:20241224
DTEND;VALUE=DATE:20241227
DTSTAMP:20260425T093524
CREATED:20241122T005924Z
LAST-MODIFIED:20241122T005924Z
UID:15665-1734998400-1735257599@elks823.org
SUMMARY:Merry Christmas! Lodge Closed
DESCRIPTION:The Lodge & Office will be closed in observance of Christmas! Enjoy your friends and family.
URL:https://elks823.org/event/merry-christmas-lodge-closed/
ATTACH;FMTTYPE=image/jpeg:https://elks823.org/wp-content/uploads/2019/11/christmas.jpg
END:VEVENT
BEGIN:VEVENT
DTSTART;TZID=America/Los_Angeles:20241227T180000
DTEND;TZID=America/Los_Angeles:20241227T200000
DTSTAMP:20260425T093524
CREATED:20230717T173939Z
LAST-MODIFIED:20260216T215403Z
UID:15527-1735322400-1735329600@elks823.org
SUMMARY:Queen of Hearts
DESCRIPTION:Queen of Hearts is back! It will be held every Friday night. \n\n\n\n\nTicket sales will begin on Friday from 6 PM to 8 PM.\nThe drawing will be at 8:00 PM.\nFriday’s Pot = $TBD \n*Eligible Players:\nOpen to Elk members\, visiting Elks\, as well as Emblem Club members.\nA valid Elks/Emblem Club ID must be presented to purchase tickets.\n**Must be present to win.
URL:https://elks823.org/event/queen-of-hearts-12/2024-12-27/
CATEGORIES:Community
ATTACH;FMTTYPE=image/jpeg:https://elks823.org/wp-content/uploads/2025/03/Queen_of_Hearts-scaled.jpg
END:VEVENT
BEGIN:VEVENT
DTSTART;TZID=America/Los_Angeles:20241227T190000
DTEND;TZID=America/Los_Angeles:20241227T210000
DTSTAMP:20260425T093524
CREATED:20240508T150111Z
LAST-MODIFIED:20250127T235944Z
UID:15672-1735326000-1735333200@elks823.org
SUMMARY:Elk Races 7PM
DESCRIPTION:We are starting Elk Races on the 2nd and 4th Fridays of the Month. (Unless otherwise listed) \nFor anyone who has not yet participated in Elk Racing\, it’s another low-stakes gambling game. \n\n\n\n\n\n\n\n\nParticipants bet between $1-5 on one or more elks (six total)\nOdds are calculated based on the number of bets per elk; Elk #1 might pay 2/1 ($2 for every $1 bet); Elk #4 might pay 10/1 ($10 for every $1 bet)\nDice are rolled to move the elks progressively along the spots on their lane\nThe First Elk to cross the finish line is the winner\, and all who bet on this elk are paid out based on the odds\n\n 
URL:https://elks823.org/event/elk-races-7pm/2024-12-27/
CATEGORIES:Community,Games
ATTACH;FMTTYPE=image/png:https://elks823.org/wp-content/uploads/2024/04/Lounge-Screens-april-may-15.png
END:VEVENT
BEGIN:VEVENT
DTSTART;TZID=America/Los_Angeles:20241231T180000
DTEND;TZID=America/Los_Angeles:20241231T233000
DTSTAMP:20260425T093524
CREATED:20241125T222433Z
LAST-MODIFIED:20241125T222433Z
UID:15699-1735668000-1735687800@elks823.org
SUMMARY:"Purple & Pearls" New Year's Eve Party
DESCRIPTION:Purple & Pearls New Year’s Eve Party! Dress to impress in your best purple and pearls outfit for a night to remember. \nCost: $45pp until 12/5 then\, $50pp – Tickets sold in the Office\, Bar or here on Eventbrite!\nIf you would like a vegetarian or gluten-free meal\, choose one of the add-ons at no additional cost. \nWhere: Vancouver Elks Lodge #823\nLive Music by: One Eyed-Kats \nEvent Schedule:\n6:00 pm – Doors Open | Cocktail Hour7:00 pm – Dinner8:00 pm – Live Music by One Eyed Kats Begins9:00 pm – East Coast Toast10:00 pm – NYE Elks Trivia Contest Finale11:00 pm – Elks 11th Hour Toast12:00 am – Midnight Toast and Celebration
URL:https://elks823.org/event/purple-pearls-new-years-eve-party/
CATEGORIES:Community,Dance,Food,fundraiser,Games,Music,Volunteer
ATTACH;FMTTYPE=image/png:https://elks823.org/wp-content/uploads/2024/11/Copy-of-NYE_Purple2024.png
END:VEVENT
BEGIN:VEVENT
DTSTART;VALUE=DATE:20250101
DTEND;VALUE=DATE:20250102
DTSTAMP:20260425T093524
CREATED:20241126T212245Z
LAST-MODIFIED:20241126T212245Z
UID:15733-1735689600-1735775999@elks823.org
SUMMARY:Happy New Year's 2025!
DESCRIPTION:Lodge & Office Closed today!
URL:https://elks823.org/event/happy-new-years-2025/
ATTACH;FMTTYPE=image/jpeg:https://elks823.org/wp-content/uploads/2020/03/IMG-0064.jpg
END:VEVENT
BEGIN:VEVENT
DTSTART;TZID=America/Los_Angeles:20250102T180000
DTEND;TZID=America/Los_Angeles:20250102T210000
DTSTAMP:20260425T093524
CREATED:20241002T212049Z
LAST-MODIFIED:20250127T231318Z
UID:15810-1735840800-1735851600@elks823.org
SUMMARY:BINGO 6:30PM
DESCRIPTION:REAL BINGO is now on Thursdays! NEW START TIME 6:30 PM\nPacket sales begin at 6 PM\, Game starts at 6:30 PM!\n\n\n\n*This weekly event is open to Elks members and their guests! The lounge opens at 4 PM\, Bingo starts at 6 PM.\n\nSpecial Blue Plate special meals are now on Thursdays. Check the Blast for what is available that week.
URL:https://elks823.org/event/bingo-630pm/2025-01-02/
CATEGORIES:Community,Food,Games
ATTACH;FMTTYPE=image/png:https://elks823.org/wp-content/uploads/2024/10/BingoNEW.png
END:VEVENT
BEGIN:VEVENT
DTSTART;TZID=America/Los_Angeles:20250103T180000
DTEND;TZID=America/Los_Angeles:20250103T200000
DTSTAMP:20260425T093524
CREATED:20230717T173939Z
LAST-MODIFIED:20260216T215404Z
UID:15528-1735927200-1735934400@elks823.org
SUMMARY:Queen of Hearts
DESCRIPTION:Queen of Hearts is back! It will be held every Friday night. \n\n\n\n\nTicket sales will begin on Friday from 6 PM to 8 PM.\nThe drawing will be at 8:00 PM.\nFriday’s Pot = $TBD \n*Eligible Players:\nOpen to Elk members\, visiting Elks\, as well as Emblem Club members.\nA valid Elks/Emblem Club ID must be presented to purchase tickets.\n**Must be present to win.
URL:https://elks823.org/event/queen-of-hearts-12/2025-01-03/
CATEGORIES:Community
ATTACH;FMTTYPE=image/jpeg:https://elks823.org/wp-content/uploads/2025/03/Queen_of_Hearts-scaled.jpg
END:VEVENT
BEGIN:VEVENT
DTSTART;TZID=America/Los_Angeles:20250103T190000
DTEND;TZID=America/Los_Angeles:20250103T210000
DTSTAMP:20260425T093524
CREATED:20241227T165658Z
LAST-MODIFIED:20241227T165812Z
UID:15780-1735930800-1735938000@elks823.org
SUMMARY:Live Music by Robby Mayer 7-9PM
DESCRIPTION:Live Music by Robby Mayer in the lounge. 7-9PM (No Cover) \nCome on down to the lodge for some fun and listen to Robby Mayer.\nLounge opens at 4PM\nQueen of Hearts 6-8PM\nMusic 7-9PM
URL:https://elks823.org/event/live-music-by-robby-mayer-7-9pm/
CATEGORIES:Community,Dance,Food,Music
ATTACH;FMTTYPE=image/jpeg:https://elks823.org/wp-content/uploads/2023/12/RobbyM.jpg
END:VEVENT
BEGIN:VEVENT
DTSTART;VALUE=DATE:20250105
DTEND;VALUE=DATE:20250106
DTSTAMP:20260425T093524
CREATED:20241227T170005Z
LAST-MODIFIED:20250102T205305Z
UID:15782-1736035200-1736121599@elks823.org
SUMMARY:Seahawks Club - Kickoff 1:25PM
DESCRIPTION:The Seahawks Club is back! $35 for the New Season!\nVS. LA Rams\, Kickoff 1:25PM \nPotluck\, lounge opens at 12:30PM\, bring your favorite dish\, and meet in the lounge with your fellow Elk Members. \nHawks Club membership is $35 and can be paid in the Lounge or the Office. These funds pay for our subscription to Red Zone and other costs of running the Hawks Club. \nWhen the Seahawks score a touchdown\, members will receive a ticket for a free drink (Draft beer\, box wine\, or well drink only). Due to state rules\, a maximum of 5 free drink tickets will be issued to each member per game. Drink tickets must be used during the game timeline: 1 hour before\, during\, and 1 hour after or before the kickoff of the next Hawks Club meet-up. Drink tickets have no value during regular lodge hours.\nWhen the opposing team scores\, everyone is requested to deposit .50¢ in the Hawks Club Bank.\nNon-members are encouraged to participate with us. \nFor more details contact Tim Rogers or Todd Novak. \nCheck out the Seahawks 2024 Schedule here:\nhttps://www.seahawks.com/schedule/
URL:https://elks823.org/event/seahawks-club-tbd/
CATEGORIES:Community,Food,Games,Hawks Club
ATTACH;FMTTYPE=image/png:https://elks823.org/wp-content/uploads/2024/12/Seahawks_Jan5.png
END:VEVENT
BEGIN:VEVENT
DTSTART;TZID=America/Los_Angeles:20250107T180000
DTEND;TZID=America/Los_Angeles:20250107T190000
DTSTAMP:20260425T093524
CREATED:20230111T221437Z
LAST-MODIFIED:20230111T221437Z
UID:15560-1736272800-1736276400@elks823.org
SUMMARY:Officer's Meeting 6PM
DESCRIPTION:Ritual Practice and/or Meeting.
URL:https://elks823.org/event/officers-meeting-3-2023-06-06-2024-06-04/2025-01-07/
CATEGORIES:Community
ATTACH;FMTTYPE=image/png:https://elks823.org/wp-content/uploads/2021/11/elks823.png
END:VEVENT
BEGIN:VEVENT
DTSTART;TZID=America/Los_Angeles:20250107T180000
DTEND;TZID=America/Los_Angeles:20250107T190000
DTSTAMP:20260425T093524
CREATED:20250102T205945Z
LAST-MODIFIED:20250102T205958Z
UID:15804-1736272800-1736276400@elks823.org
SUMMARY:"Love to Laugh" Planning Meeting 6PM
DESCRIPTION:This year\, we are having a “Love to Laugh” Comedy Show on Valentine’s Day. Dinner will be provided and then the show will be shortly after. \nWe need help. Seeking help from promoters\, influencers\, decorators\, Italian meal planners\, prep and cooks\, dishwashers\, servers\, cashiers\, and anyone who wants to help and have fun!
URL:https://elks823.org/event/love-to-laugh-planning-meeting-6pm/
CATEGORIES:Charity,Class,Community,Volunteer
ATTACH;FMTTYPE=image/png:https://elks823.org/wp-content/uploads/2025/01/Love-to-Laugh_MeetingJan7.png
END:VEVENT
BEGIN:VEVENT
DTSTART;TZID=America/Los_Angeles:20250108T173000
DTEND;TZID=America/Los_Angeles:20250108T183000
DTSTAMP:20260425T093524
CREATED:20240220T191720Z
LAST-MODIFIED:20250127T230005Z
UID:15720-1736357400-1736361000@elks823.org
SUMMARY:PER Meeting 5:30PM
DESCRIPTION:Meet with your fellow PERs and talk about charities\, events coming up\, volunteer\, and all-around camaraderie.
URL:https://elks823.org/event/per-meeting-6pm-2025-01-08/2025-01-08/
CATEGORIES:Charity,Community,Food,Volunteer
ATTACH;FMTTYPE=image/jpeg:https://elks823.org/wp-content/uploads/2020/09/PERA-Group-Photo.jpg
END:VEVENT
BEGIN:VEVENT
DTSTART;TZID=America/Los_Angeles:20250108T180000
DTEND;TZID=America/Los_Angeles:20250108T200000
DTSTAMP:20260425T093524
CREATED:20220221T185446Z
LAST-MODIFIED:20220221T185446Z
UID:15569-1736359200-1736366400@elks823.org
SUMMARY:Bar Card Bingo 6-8PM
DESCRIPTION:Bar Card Bingo every Wednesday. All are welcome! \nBar Bingo is played with playing cards. It is $1.00 for 3 cards. An app randomly picks cards\, if you “match”\, you flip over that card. When all three cards (in 1 row) are flipped\, you have a Bingo!\nLots of members are there to help you play! Come on down\, but be careful…..you might have too much fun! \nElk Cove Menu is also available in Lounge.
URL:https://elks823.org/event/bar-card-bingo-6-8pm/2025-01-08/
CATEGORIES:Community,Food,Games
ATTACH;FMTTYPE=image/jpeg:https://elks823.org/wp-content/uploads/2021/09/BarBingo.jpg
END:VEVENT
BEGIN:VEVENT
DTSTART;TZID=America/Los_Angeles:20250108T183000
DTEND;TZID=America/Los_Angeles:20250108T203000
DTSTAMP:20260425T093524
CREATED:20240528T164816Z
LAST-MODIFIED:20240528T164816Z
UID:15576-1736361000-1736368200@elks823.org
SUMMARY:One Eyed Kats Practice 6:30PM(Emil Room)
DESCRIPTION:One-Eyed Kats practice downstairs in the Emil room. Members can go down and listen. Just remember to bring any plates\, drinkware\, etc. back up to the bar/kitchen. \nBlues\, R&B\, and rock and roll. http://www.oneeyedkats.com/
URL:https://elks823.org/event/one-eyed-kats-practice/2025-01-08/
CATEGORIES:Music
ATTACH;FMTTYPE=image/jpeg:https://elks823.org/wp-content/uploads/2024/05/mir-6015-enhanced-nr-edit_orig.jpg
END:VEVENT
BEGIN:VEVENT
DTSTART;TZID=America/Los_Angeles:20250108T190000
DTEND;TZID=America/Los_Angeles:20250108T210000
DTSTAMP:20260425T093524
CREATED:20240720T145935Z
LAST-MODIFIED:20250304T215355Z
UID:15583-1736362800-1736370000@elks823.org
SUMMARY:Taska & the Party Band
DESCRIPTION:The dance is from 7 p.m. to 9 p.m. each Wednesday.\nEach band member has a passion for the art of music and has made this journey into a career. For this group\, they don’t just bring the music\, they bring the party! \nCome early to get a seat as early as 6 p.m. Snacks and water are available for purchase. \n*Cover is $6 for Elk members and $10 for the general public.
URL:https://elks823.org/event/taska-party-band/2025-01-08/
CATEGORIES:Community,Dance,Food,Music
ATTACH;FMTTYPE=image/png:https://elks823.org/wp-content/uploads/2024/07/Taska_Band.png
END:VEVENT
BEGIN:VEVENT
DTSTART;TZID=America/Los_Angeles:20250109T180000
DTEND;TZID=America/Los_Angeles:20250109T210000
DTSTAMP:20260425T093524
CREATED:20241002T212049Z
LAST-MODIFIED:20250127T231318Z
UID:15603-1736445600-1736456400@elks823.org
SUMMARY:BINGO 6:30PM
DESCRIPTION:REAL BINGO is now on Thursdays! NEW START TIME 6:30 PM\nPacket sales begin at 6 PM\, Game starts at 6:30 PM!\n\n\n\n*This weekly event is open to Elks members and their guests! The lounge opens at 4 PM\, Bingo starts at 6 PM.\n\nSpecial Blue Plate special meals are now on Thursdays. Check the Blast for what is available that week.
URL:https://elks823.org/event/bingo-630pm/2025-01-09/
CATEGORIES:Community,Food,Games
ATTACH;FMTTYPE=image/png:https://elks823.org/wp-content/uploads/2024/10/BingoNEW.png
END:VEVENT
END:VCALENDAR