BEGIN:VCALENDAR
VERSION:2.0
PRODID:-//Elks Lodge 823 - ECPv6.15.20//NONSGML v1.0//EN
CALSCALE:GREGORIAN
METHOD:PUBLISH
X-ORIGINAL-URL:https://elks823.org
X-WR-CALDESC:Events for Elks Lodge 823
REFRESH-INTERVAL;VALUE=DURATION:PT1H
X-Robots-Tag:noindex
X-PUBLISHED-TTL:PT1H
BEGIN:VTIMEZONE
TZID:America/Los_Angeles
BEGIN:DAYLIGHT
TZOFFSETFROM:-0800
TZOFFSETTO:-0700
TZNAME:PDT
DTSTART:20240310T100000
END:DAYLIGHT
BEGIN:STANDARD
TZOFFSETFROM:-0700
TZOFFSETTO:-0800
TZNAME:PST
DTSTART:20241103T090000
END:STANDARD
BEGIN:DAYLIGHT
TZOFFSETFROM:-0800
TZOFFSETTO:-0700
TZNAME:PDT
DTSTART:20250309T100000
END:DAYLIGHT
BEGIN:STANDARD
TZOFFSETFROM:-0700
TZOFFSETTO:-0800
TZNAME:PST
DTSTART:20251102T090000
END:STANDARD
BEGIN:DAYLIGHT
TZOFFSETFROM:-0800
TZOFFSETTO:-0700
TZNAME:PDT
DTSTART:20260308T100000
END:DAYLIGHT
BEGIN:STANDARD
TZOFFSETFROM:-0700
TZOFFSETTO:-0800
TZNAME:PST
DTSTART:20261101T090000
END:STANDARD
END:VTIMEZONE
BEGIN:VEVENT
DTSTART;TZID=America/Los_Angeles:20250408T173000
DTEND;TZID=America/Los_Angeles:20250408T183000
DTSTAMP:20260425T201116
CREATED:20240326T193927Z
LAST-MODIFIED:20260216T220548Z
UID:16173-1744133400-1744137000@elks823.org
SUMMARY:Activities Meeting 5:30 PM
DESCRIPTION:Our Activities Meeting will be on the 2nd Tuesday of the Month at 5:30 PM\, before the Lodge Meeting. \nThis meeting is to coordinate activities for all the Committees and Officer functions.\nAll Lodge Officers/Trustees and Committee Chairs should plan on attending. All Committee Members can also attend\, or anyone wanting to be on a committee can attend. \n*In the Stag Bar\, unless there’s an event in there\, then the Dining Room.
URL:https://elks823.org/event/activities-meeting-6pm-2025-04-15/2025-04-08/
CATEGORIES:Community,Food,fundraiser,Volunteer
ATTACH;FMTTYPE=image/png:https://elks823.org/wp-content/uploads/2025/03/ACTIVITIES-Meeting.png
END:VEVENT
BEGIN:VEVENT
DTSTART;TZID=America/Los_Angeles:20250408T190000
DTEND;TZID=America/Los_Angeles:20250408T210000
DTSTAMP:20260425T201116
CREATED:20250304T222847Z
LAST-MODIFIED:20260331T201252Z
UID:16148-1744138800-1744146000@elks823.org
SUMMARY:Lodge Meeting 7PM
DESCRIPTION:The lounge opens at 4 PM\, closes during meetings\, then re-opens after the meeting until 10 PM. \nFood: Taco Tuesday! Come down for some tacos\, quesadillas\, taquitos\, chips\, and salsa.
URL:https://elks823.org/event/lodge-meeting-7pm-6/2025-04-08/
CATEGORIES:Charity,Community,fundraiser,Games,Lodge meeting,Volunteer
ATTACH;FMTTYPE=image/png:https://elks823.org/wp-content/uploads/2022/08/Lounge-Screens-april-may-12.png
END:VEVENT
BEGIN:VEVENT
DTSTART;TZID=America/Los_Angeles:20250409T180000
DTEND;TZID=America/Los_Angeles:20250409T210000
DTSTAMP:20260425T201116
CREATED:20250304T215218Z
LAST-MODIFIED:20260331T190602Z
UID:16068-1744221600-1744232400@elks823.org
SUMMARY:Bar Card Bingo 6PM
DESCRIPTION:Bar Card Bingo every Wednesday. All are welcome! \nBar Bingo is played with playing cards. It costs $1.00 for three cards. An app randomly picks cards; if you “match\,” you flip over that card. When all three cards (in one row) are flipped\, you have a Bingo!\nLots of members are there to help you play! Come on down\, but be careful…..you might have too much fun! \nSee Blast on Tuesdays or Facebook for food options.\nLounge opens at 4PM
URL:https://elks823.org/event/bar-card-bingo-6pm/2025-04-09/
CATEGORIES:Charity,Community,Games
ATTACH;FMTTYPE=image/jpeg:https://elks823.org/wp-content/uploads/2021/09/BarBingo.jpg
END:VEVENT
BEGIN:VEVENT
DTSTART;TZID=America/Los_Angeles:20250409T180000
DTEND;TZID=America/Los_Angeles:20250409T210000
DTSTAMP:20260425T201116
CREATED:20250304T215725Z
LAST-MODIFIED:20250307T184310Z
UID:16091-1744221600-1744232400@elks823.org
SUMMARY:The Slim Jims 7PM
DESCRIPTION:The dance is from 7 p.m. to 9 p.m. each Wednesday.\nMixing an eclectic variety of popular music with unconventional “B-side” hits. The SlimJims put their alternative upbeat twist on over five decades of quality American roots music. \nCome early to get a seat\, as early as 6 PM. The lounge offers Bar Bingo from 6-8 PM. \n*Cover is $6 for Elk members and $10 for the general public. \nSee Blast on Tuesdays or Facebook for food options.\nLounge opens at 4 PM
URL:https://elks823.org/event/slimjims-7pm-2025-04-09/
CATEGORIES:Community,Dance,Food,Games,Music
ATTACH;FMTTYPE=image/png:https://elks823.org/wp-content/uploads/2025/03/SlimJims.png
END:VEVENT
BEGIN:VEVENT
DTSTART;TZID=America/Los_Angeles:20250410T180000
DTEND;TZID=America/Los_Angeles:20250410T210000
DTSTAMP:20260425T201116
CREATED:20250304T220001Z
LAST-MODIFIED:20250604T154651Z
UID:16101-1744308000-1744318800@elks823.org
SUMMARY:BINGO 6:30PM
DESCRIPTION:REAL BINGO is now on Thursdays! NEW START TIME 6:30 PM\nPacket sales begin at 6 PM\, Game starts at 6:30 PM!\n\n\n\n*This weekly event is open to Elks members and their guests! The lounge opens at 4 PM\, Bingo starts at 6 PM.\n\nCheck the Blast or Facebook for food available in the week.
URL:https://elks823.org/event/bingo-630pm-2/2025-04-10/
CATEGORIES:Community,Food,fundraiser,Games
ATTACH;FMTTYPE=image/png:https://elks823.org/wp-content/uploads/2024/10/BingoNEW.png
END:VEVENT
BEGIN:VEVENT
DTSTART;TZID=America/Los_Angeles:20250411T180000
DTEND;TZID=America/Los_Angeles:20250411T200000
DTSTAMP:20260425T201116
CREATED:20230717T173939Z
LAST-MODIFIED:20260216T215416Z
UID:16113-1744394400-1744401600@elks823.org
SUMMARY:Queen of Hearts
DESCRIPTION:Queen of Hearts is back! It will be held every Friday night. \n\n\n\n\nTicket sales will begin on Friday from 6 PM to 8 PM.\nThe drawing will be at 8:00 PM.\nFriday’s Pot = $TBD \n*Eligible Players:\nOpen to Elk members\, visiting Elks\, as well as Emblem Club members.\nA valid Elks/Emblem Club ID must be presented to purchase tickets.\n**Must be present to win.
URL:https://elks823.org/event/queen-of-hearts-12/2025-04-11/
CATEGORIES:Community
ATTACH;FMTTYPE=image/jpeg:https://elks823.org/wp-content/uploads/2025/03/Queen_of_Hearts-scaled.jpg
END:VEVENT
BEGIN:VEVENT
DTSTART;TZID=America/Los_Angeles:20250411T190000
DTEND;TZID=America/Los_Angeles:20250411T210000
DTSTAMP:20260425T201116
CREATED:20250304T223815Z
LAST-MODIFIED:20260331T202944Z
UID:16156-1744398000-1744405200@elks823.org
SUMMARY:Elk Races 7PM
DESCRIPTION:We are starting Elk Races on the 2nd and 4th Fridays of the Month. (Unless otherwise listed) \nFor anyone who has not yet participated in Elk Racing\, it’s another low-stakes gambling game. \n\n\n\n\n\n\n\n\nParticipants bet between $1-5 on one or more elks (six total)\nOdds are calculated based on the number of bets per elk; Elk #1 might pay 2/1 ($2 for every $1 bet); Elk #4 might pay 10/1 ($10 for every $1 bet)\nDice are rolled to move the elks progressively along the spots on their lane\nThe First Elk to cross the finish line is the winner\, and all who bet on this elk are paid out based on the odds\n\n*On Friday nights\, the kitchen is closed unless otherwise noted in Blast/Facebook. Members and Guests are allowed to bring food in or have it delivered.
URL:https://elks823.org/event/elk-races-7pm-2/2025-04-11/
CATEGORIES:Charity,Community,fundraiser,Games
ATTACH;FMTTYPE=image/png:https://elks823.org/wp-content/uploads/2024/04/Lounge-Screens-april-may-15.png
END:VEVENT
BEGIN:VEVENT
DTSTART;TZID=America/Los_Angeles:20250412T090000
DTEND;TZID=America/Los_Angeles:20250412T120000
DTSTAMP:20260425T201116
CREATED:20250304T230558Z
LAST-MODIFIED:20250314T191905Z
UID:16182-1744448400-1744459200@elks823.org
SUMMARY:Yard Clean-Up 9AM
DESCRIPTION:April 12\, 2025\, Start Time 9:00 AM  \nOver the past 4 years\, we have packed away many large trailers full of yard debris.  Each time we have beaten back the brush just a little more.  Now after a winter of rain and some ice/snow\, we are in good shape. It looks like 2 to 3 hours of clean-up\, and we will be done. \nWhat do we need?  \n6-8 people  \n3 backpack leaf blowers\n4 rakes and garbage cans to carry debris to the trailer\nYour favorite pair of Loppers. \nThe Easter Egg Hunt is on April 19th this year. It is open to the public. First impressions count\, help me make our Lodge look beautiful and happy. \nSign up on Sign up Genius here or contact Frank Marini. \nFrank Marini\n360-600-0383\nfam36@comcast.net
URL:https://elks823.org/event/yard-clean-up-9am/
CATEGORIES:Community,Volunteer
ATTACH;FMTTYPE=image/png:https://elks823.org/wp-content/uploads/2025/03/yard_cleanup.png
END:VEVENT
BEGIN:VEVENT
DTSTART;TZID=America/Los_Angeles:20250412T180000
DTEND;TZID=America/Los_Angeles:20250412T210000
DTSTAMP:20260425T201116
CREATED:20250304T224624Z
LAST-MODIFIED:20260216T212713Z
UID:16166-1744480800-1744491600@elks823.org
SUMMARY:Karaoke 6PM
DESCRIPTION:Are you a singer?  Come on down\, we want to hear you sing!!\nNot a singer?  THAT’S OK!  Come on down and listen to our Elk Members\, friends\, and family sing. \n*On Saturday nights our Kitchen is closed. Members and guests can bring food in or have it delivered.
URL:https://elks823.org/event/karaoke-6pm-3/2025-04-12/
CATEGORIES:Dance,fundraiser,Karaoke,Music,Volunteer
ATTACH;FMTTYPE=image/png:https://elks823.org/wp-content/uploads/2024/03/karaoke.png
END:VEVENT
BEGIN:VEVENT
DTSTART;VALUE=DATE:20250413
DTEND;VALUE=DATE:20250414
DTSTAMP:20260425T201116
CREATED:20250304T225146Z
LAST-MODIFIED:20250304T225146Z
UID:16170-1744502400-1744588799@elks823.org
SUMMARY:DD Clinic
DESCRIPTION:DD Clinic at Long Beach Lodge. \nOfficers Required for Attendance: ER\, Leading Knight\, Secretary\, and COB.\nOther members may attend as well.
URL:https://elks823.org/event/dd-clinic-5/
CATEGORIES:Class
ATTACH;FMTTYPE=image/jpeg:https://elks823.org/wp-content/uploads/2025/03/district-deputy-clinic.jpg
END:VEVENT
BEGIN:VEVENT
DTSTART;TZID=America/Los_Angeles:20250415T173000
DTEND;TZID=America/Los_Angeles:20250415T183000
DTSTAMP:20260425T201116
CREATED:20250304T224252Z
LAST-MODIFIED:20250411T180623Z
UID:16162-1744738200-1744741800@elks823.org
SUMMARY:New Member Orientation 5:30PM
DESCRIPTION:Orientation moving to Tuesday\, 4/15\, before Initiation at 5:30 PM. (Stag Bar unless noted otherwise). \nInitiation will begin at 7PM.
URL:https://elks823.org/event/new-member-orientation-4pm-2/
CATEGORIES:Community,Music
ATTACH;FMTTYPE=image/png:https://elks823.org/wp-content/uploads/2024/02/new-member-orientation.png
END:VEVENT
BEGIN:VEVENT
DTSTART;TZID=America/Los_Angeles:20250415T190000
DTEND;TZID=America/Los_Angeles:20250415T210000
DTSTAMP:20260425T201116
CREATED:20250304T223358Z
LAST-MODIFIED:20250715T173712Z
UID:16153-1744743600-1744750800@elks823.org
SUMMARY:Member Initiation 7PM
DESCRIPTION:New Members to be initiated\, please arrive no later than 6:45 PM.\nTaco Tuesday starts at 5 PM. \nDress code: Business Casual\nMen – collared shirt or polo shirt\, slacks\nWomen – slacks\, skirt collared blouse\, or polo shirt. \nThe lounge opens at 4 PM\, closes during meetings/initiation\, and then re-opens after. All members must attend meetings or leave the building. \n 
URL:https://elks823.org/event/member-initiation-7pm/2025-04-15/
CATEGORIES:Community,Member Initiation
ATTACH;FMTTYPE=image/jpeg:https://elks823.org/wp-content/uploads/2022/12/newmemberinitiation.jpg
END:VEVENT
BEGIN:VEVENT
DTSTART;TZID=America/Los_Angeles:20250416T180000
DTEND;TZID=America/Los_Angeles:20250416T210000
DTSTAMP:20260425T201116
CREATED:20250304T215218Z
LAST-MODIFIED:20260331T190612Z
UID:16069-1744826400-1744837200@elks823.org
SUMMARY:Bar Card Bingo 6PM
DESCRIPTION:Bar Card Bingo every Wednesday. All are welcome! \nBar Bingo is played with playing cards. It costs $1.00 for three cards. An app randomly picks cards; if you “match\,” you flip over that card. When all three cards (in one row) are flipped\, you have a Bingo!\nLots of members are there to help you play! Come on down\, but be careful…..you might have too much fun! \nSee Blast on Tuesdays or Facebook for food options.\nLounge opens at 4PM
URL:https://elks823.org/event/bar-card-bingo-6pm/2025-04-16/
CATEGORIES:Charity,Community,Games
ATTACH;FMTTYPE=image/jpeg:https://elks823.org/wp-content/uploads/2021/09/BarBingo.jpg
END:VEVENT
BEGIN:VEVENT
DTSTART;TZID=America/Los_Angeles:20250416T190000
DTEND;TZID=America/Los_Angeles:20250416T210000
DTSTAMP:20260425T201116
CREATED:20250304T215725Z
LAST-MODIFIED:20260331T200037Z
UID:17275-1744830000-1744837200@elks823.org
SUMMARY:Taska & the Party Band 7PM
DESCRIPTION:The dance is from 7 p.m. to 9 p.m. each Wednesday.\nEach band member has a passion for the art of music and has made this journey into a career. For this group\, they don’t just bring the music\, they bring the party! \nCome early to get a seat\, as early as 6 PM. The lounge offers Bar Bingo from 6-8PM. \n*Cover is $6 for Elk members and $10 for the general public. \nSee Blast on Tuesdays or Facebook for food options.\nLounge opens at 4 PM
URL:https://elks823.org/event/taska-the-party-band-7pm/2025-04-16/
CATEGORIES:Community,Dance,Food,Games,Music
ATTACH;FMTTYPE=image/png:https://elks823.org/wp-content/uploads/2025/02/wednesdays.png
END:VEVENT
BEGIN:VEVENT
DTSTART;TZID=America/Los_Angeles:20250417T180000
DTEND;TZID=America/Los_Angeles:20250417T210000
DTSTAMP:20260425T201116
CREATED:20250304T220001Z
LAST-MODIFIED:20250604T154651Z
UID:16102-1744912800-1744923600@elks823.org
SUMMARY:BINGO 6:30PM
DESCRIPTION:REAL BINGO is now on Thursdays! NEW START TIME 6:30 PM\nPacket sales begin at 6 PM\, Game starts at 6:30 PM!\n\n\n\n*This weekly event is open to Elks members and their guests! The lounge opens at 4 PM\, Bingo starts at 6 PM.\n\nCheck the Blast or Facebook for food available in the week.
URL:https://elks823.org/event/bingo-630pm-2/2025-04-17/
CATEGORIES:Community,Food,fundraiser,Games
ATTACH;FMTTYPE=image/png:https://elks823.org/wp-content/uploads/2024/10/BingoNEW.png
END:VEVENT
BEGIN:VEVENT
DTSTART;TZID=America/Los_Angeles:20250418T170000
DTEND;TZID=America/Los_Angeles:20250418T220000
DTSTAMP:20260425T201116
CREATED:20250304T230853Z
LAST-MODIFIED:20250513T164125Z
UID:16186-1744995600-1745013600@elks823.org
SUMMARY:Officer Steak Night 5PM\, Live Music by Taska Party Band 7PM
DESCRIPTION:Steak $27 comes with a salad\, baked potato\, and vegetables.\nOr select Fish\, $25: Salmon with a salad\, baked potato\, and vegetables.\n*The steak will be upgraded to Ribeye from Sirloin\, 8oz portion. Hence the pricing change. \nPlease call the office to make your reservations\, by the Wednesday before.\nWhen you call\, please select an open time for dinner.\n*Late RSVPs may not be taken. 360-256-0823 \nLive Music by Taska Party Band (in the Lounge) at 7 PM\n*No cover for the band. \n*Steak Night Tips and proceeds go to the Officer Fund to help with Conventions\, Officer uniforms\, and training.
URL:https://elks823.org/event/officer-steak-night-5pm/2025-04-18/
CATEGORIES:Charity,Community,Dance,Food,fundraiser,Music,Volunteer
ATTACH;FMTTYPE=image/jpeg:https://elks823.org/wp-content/uploads/2022/11/Steak_night.jpeg
END:VEVENT
BEGIN:VEVENT
DTSTART;TZID=America/Los_Angeles:20250418T180000
DTEND;TZID=America/Los_Angeles:20250418T200000
DTSTAMP:20260425T201116
CREATED:20230717T173939Z
LAST-MODIFIED:20260216T215416Z
UID:16114-1744999200-1745006400@elks823.org
SUMMARY:Queen of Hearts
DESCRIPTION:Queen of Hearts is back! It will be held every Friday night. \n\n\n\n\nTicket sales will begin on Friday from 6 PM to 8 PM.\nThe drawing will be at 8:00 PM.\nFriday’s Pot = $TBD \n*Eligible Players:\nOpen to Elk members\, visiting Elks\, as well as Emblem Club members.\nA valid Elks/Emblem Club ID must be presented to purchase tickets.\n**Must be present to win.
URL:https://elks823.org/event/queen-of-hearts-12/2025-04-18/
CATEGORIES:Community
ATTACH;FMTTYPE=image/jpeg:https://elks823.org/wp-content/uploads/2025/03/Queen_of_Hearts-scaled.jpg
END:VEVENT
BEGIN:VEVENT
DTSTART;TZID=America/Los_Angeles:20250419T100000
DTEND;TZID=America/Los_Angeles:20250419T123000
DTSTAMP:20260425T201116
CREATED:20240202T210624Z
LAST-MODIFIED:20250313T210907Z
UID:16178-1745056800-1745065800@elks823.org
SUMMARY:Easter Egg Hunt
DESCRIPTION:The Elks Annual Easter Egg Hunt this year will be on April 19th. \nFree Face Painting at 11 am \nLunch is available for purchase – Hot dogs\, chips\, hot chocolate & sodas. \nThe hunt begins promptly at noon. \n*Please contact Rene Radillo for more information. We need volunteers too!
URL:https://elks823.org/event/easter-egg-hunt-10am-1pm-2025-04-19/
CATEGORIES:Charity,Community,Food,fundraiser,Games
ATTACH;FMTTYPE=image/png:https://elks823.org/wp-content/uploads/2024/02/Easter-1.png
END:VEVENT
BEGIN:VEVENT
DTSTART;TZID=America/Los_Angeles:20250419T160000
DTEND;TZID=America/Los_Angeles:20250419T190000
DTSTAMP:20260425T201117
CREATED:20250411T181955Z
LAST-MODIFIED:20250411T181955Z
UID:16370-1745078400-1745089200@elks823.org
SUMMARY:Emblem Sip & Shop 4-7PM
DESCRIPTION:Emblem Club is having a Sip & Shop\, Saturday\, April 19th\, from 4-7 PM in the Stag Bar. \nBuy a drink from the bar\, and then join us for a fabulous shopping experience. We will also have light snacks and sodas. Your $10 entry will allow you to fill a bag with: \n\nAccessories\nJewelry\nScarves\nShoes*\nPurses*\n\n*Limit on shoes and purses per person. \nAll proceeds to benefit Emblem Charities!
URL:https://elks823.org/event/emblem-sip-shop-4-7pm/
CATEGORIES:Charity
ATTACH;FMTTYPE=image/png:https://elks823.org/wp-content/uploads/2025/04/Sip-Shop.png
END:VEVENT
BEGIN:VEVENT
DTSTART;VALUE=DATE:20250420
DTEND;VALUE=DATE:20250421
DTSTAMP:20260425T201117
CREATED:20240202T211049Z
LAST-MODIFIED:20250313T210525Z
UID:16177-1745107200-1745193599@elks823.org
SUMMARY:Happy Easter!
DESCRIPTION:Happy Easter!
URL:https://elks823.org/event/happy-easter-2-2025-04-20/
ATTACH;FMTTYPE=image/jpeg:https://elks823.org/wp-content/uploads/2024/02/easter-23.jpg
END:VEVENT
BEGIN:VEVENT
DTSTART;TZID=America/Los_Angeles:20250421T180000
DTEND;TZID=America/Los_Angeles:20250421T200000
DTSTAMP:20260425T201117
CREATED:20230227T212526Z
LAST-MODIFIED:20250304T222513Z
UID:16143-1745258400-1745265600@elks823.org
SUMMARY:CMB/Board Meeting 6PM
DESCRIPTION:CMB/Board meetings will be held on the 2nd and 4th Monday of each month. (Monday before Lodge Meetings) \nIn the Board Room. All members are welcome to attend.
URL:https://elks823.org/event/cmb-board-meeting-2023-08-28-2025-01-27-2025-04-28/
CATEGORIES:Board Meeting,Community
ATTACH;FMTTYPE=image/png:https://elks823.org/wp-content/uploads/2025/02/BOD_6PM.png
END:VEVENT
BEGIN:VEVENT
DTSTART;TZID=America/Los_Angeles:20250422T173000
DTEND;TZID=America/Los_Angeles:20250422T183000
DTSTAMP:20260425T201117
CREATED:20250411T181008Z
LAST-MODIFIED:20250411T181008Z
UID:16367-1745343000-1745346600@elks823.org
SUMMARY:Elktoberfest Meeting 5:30PM
DESCRIPTION:We Need Volunteers!\nTo make Elktoberfest a success\, we need your help!\nVolunteers are needed for:\n•Token Sales – Keep the lines moving and help guests purchase food and drinks.\n•Vendor Coordination – Work with our fantastic local vendors to ensure a smooth event.\n•Food Sales – Serve up traditional German favorites with a smile.\n•Set-Up & Tear-Down – Help transform the Lodge grounds into a Bavarian wonderland and clean up after the fun.\n•Kids’ Games – Bring joy to the little ones with fun and engaging activities.\n•Event MCs – We need lively personalities to keep the crowd engaged\, announce activities\, and lead everyone in the Chicken Dance (and other shenanigans!). \nIf you’d like to be part of the Elktoberfest Coordination Committee\, please attend our first coordination meeting on Tuesday\, April 22nd at 5:30 PM in the Stag Bar or send a note to (Elktoberfest823@gmail.com) if you can’t make the meeting. \nWhether you’re a seasoned volunteer or new to the event\, we’d love to have you on board!
URL:https://elks823.org/event/elktoberfest-meeting-530pm/
CATEGORIES:Community,fundraiser,Volunteer
ATTACH;FMTTYPE=image/jpeg:https://elks823.org/wp-content/uploads/2025/04/elktoberfest.jpeg
END:VEVENT
BEGIN:VEVENT
DTSTART;TZID=America/Los_Angeles:20250422T190000
DTEND;TZID=America/Los_Angeles:20250422T210000
DTSTAMP:20260425T201117
CREATED:20250304T222847Z
LAST-MODIFIED:20260331T201254Z
UID:17023-1745348400-1745355600@elks823.org
SUMMARY:Lodge Meeting 7PM
DESCRIPTION:The lounge opens at 4 PM\, closes during meetings\, then re-opens after the meeting until 10 PM. \nFood: Taco Tuesday! Come down for some tacos\, quesadillas\, taquitos\, chips\, and salsa.
URL:https://elks823.org/event/lodge-meeting-7pm-6/2025-04-22/
CATEGORIES:Charity,Community,fundraiser,Games,Lodge meeting,Volunteer
ATTACH;FMTTYPE=image/png:https://elks823.org/wp-content/uploads/2022/08/Lounge-Screens-april-may-12.png
END:VEVENT
BEGIN:VEVENT
DTSTART;TZID=America/Los_Angeles:20250423T180000
DTEND;TZID=America/Los_Angeles:20250423T210000
DTSTAMP:20260425T201117
CREATED:20250304T215218Z
LAST-MODIFIED:20260331T190613Z
UID:16070-1745431200-1745442000@elks823.org
SUMMARY:Bar Card Bingo 6PM
DESCRIPTION:Bar Card Bingo every Wednesday. All are welcome! \nBar Bingo is played with playing cards. It costs $1.00 for three cards. An app randomly picks cards; if you “match\,” you flip over that card. When all three cards (in one row) are flipped\, you have a Bingo!\nLots of members are there to help you play! Come on down\, but be careful…..you might have too much fun! \nSee Blast on Tuesdays or Facebook for food options.\nLounge opens at 4PM
URL:https://elks823.org/event/bar-card-bingo-6pm/2025-04-23/
CATEGORIES:Charity,Community,Games
ATTACH;FMTTYPE=image/jpeg:https://elks823.org/wp-content/uploads/2021/09/BarBingo.jpg
END:VEVENT
BEGIN:VEVENT
DTSTART;TZID=America/Los_Angeles:20250423T180000
DTEND;TZID=America/Los_Angeles:20250423T210000
DTSTAMP:20260425T201117
CREATED:20250304T215725Z
LAST-MODIFIED:20250307T184507Z
UID:16093-1745431200-1745442000@elks823.org
SUMMARY:The Slim Jims 7PM
DESCRIPTION:The dance is from 7 p.m. to 9 p.m. each Wednesday.\nMixing an eclectic variety of popular music with unconventional “B-side” hits. The SlimJims put their alternative upbeat twist on over five decades of quality American roots music. \nCome early to get a seat\, as early as 6 PM. The lounge offers Bar Bingo from 6-8 PM. \n*Cover is $6 for Elk members and $10 for the general public. \nSee Blast on Tuesdays or Facebook for food options.\nLounge opens at 4 PM
URL:https://elks823.org/event/slimjims-7pm-2025-04-23/2025-04-23/
CATEGORIES:Community,Dance,Food,Games,Music
ATTACH;FMTTYPE=image/png:https://elks823.org/wp-content/uploads/2025/03/SlimJims.png
END:VEVENT
BEGIN:VEVENT
DTSTART;TZID=America/Los_Angeles:20250424T180000
DTEND;TZID=America/Los_Angeles:20250424T210000
DTSTAMP:20260425T201117
CREATED:20250304T220001Z
LAST-MODIFIED:20250604T154658Z
UID:16103-1745517600-1745528400@elks823.org
SUMMARY:BINGO 6:30PM
DESCRIPTION:REAL BINGO is now on Thursdays! NEW START TIME 6:30 PM\nPacket sales begin at 6 PM\, Game starts at 6:30 PM!\n\n\n\n*This weekly event is open to Elks members and their guests! The lounge opens at 4 PM\, Bingo starts at 6 PM.\n\nCheck the Blast or Facebook for food available in the week.
URL:https://elks823.org/event/bingo-630pm-2/2025-04-24/
CATEGORIES:Community,Food,fundraiser,Games
ATTACH;FMTTYPE=image/png:https://elks823.org/wp-content/uploads/2024/10/BingoNEW.png
END:VEVENT
BEGIN:VEVENT
DTSTART;TZID=America/Los_Angeles:20250425T180000
DTEND;TZID=America/Los_Angeles:20250425T200000
DTSTAMP:20260425T201117
CREATED:20230717T173939Z
LAST-MODIFIED:20260216T215417Z
UID:16115-1745604000-1745611200@elks823.org
SUMMARY:Queen of Hearts
DESCRIPTION:Queen of Hearts is back! It will be held every Friday night. \n\n\n\n\nTicket sales will begin on Friday from 6 PM to 8 PM.\nThe drawing will be at 8:00 PM.\nFriday’s Pot = $TBD \n*Eligible Players:\nOpen to Elk members\, visiting Elks\, as well as Emblem Club members.\nA valid Elks/Emblem Club ID must be presented to purchase tickets.\n**Must be present to win.
URL:https://elks823.org/event/queen-of-hearts-12/2025-04-25/
CATEGORIES:Community
ATTACH;FMTTYPE=image/jpeg:https://elks823.org/wp-content/uploads/2025/03/Queen_of_Hearts-scaled.jpg
END:VEVENT
BEGIN:VEVENT
DTSTART;TZID=America/Los_Angeles:20250428T180000
DTEND;TZID=America/Los_Angeles:20250428T200000
DTSTAMP:20260425T201117
CREATED:20241121T235213Z
LAST-MODIFIED:20260331T200524Z
UID:16611-1745863200-1745870400@elks823.org
SUMMARY:CMB/Board Meeting 6PM
DESCRIPTION:CMB/Board meetings will be held on the 2nd and 4th Monday of each month. (Monday before Lodge Meetings) \nIn the Board Room. All members are welcome to attend.
URL:https://elks823.org/event/cmb-board-meeting-6pm-2025-03-10/2025-04-28/
CATEGORIES:Board Meeting,Community
ATTACH;FMTTYPE=image/png:https://elks823.org/wp-content/uploads/2024/11/BOD_Mtg_2025-1.png
END:VEVENT
BEGIN:VEVENT
DTSTART;TZID=America/Los_Angeles:20250430T180000
DTEND;TZID=America/Los_Angeles:20250430T210000
DTSTAMP:20260425T201117
CREATED:20250304T215218Z
LAST-MODIFIED:20260331T190613Z
UID:16071-1746036000-1746046800@elks823.org
SUMMARY:Bar Card Bingo 6PM
DESCRIPTION:Bar Card Bingo every Wednesday. All are welcome! \nBar Bingo is played with playing cards. It costs $1.00 for three cards. An app randomly picks cards; if you “match\,” you flip over that card. When all three cards (in one row) are flipped\, you have a Bingo!\nLots of members are there to help you play! Come on down\, but be careful…..you might have too much fun! \nSee Blast on Tuesdays or Facebook for food options.\nLounge opens at 4PM
URL:https://elks823.org/event/bar-card-bingo-6pm/2025-04-30/
CATEGORIES:Charity,Community,Games
ATTACH;FMTTYPE=image/jpeg:https://elks823.org/wp-content/uploads/2021/09/BarBingo.jpg
END:VEVENT
BEGIN:VEVENT
DTSTART;TZID=America/Los_Angeles:20250430T190000
DTEND;TZID=America/Los_Angeles:20250430T210000
DTSTAMP:20260425T201117
CREATED:20250304T215725Z
LAST-MODIFIED:20260331T200037Z
UID:17276-1746039600-1746046800@elks823.org
SUMMARY:Taska & the Party Band 7PM
DESCRIPTION:The dance is from 7 p.m. to 9 p.m. each Wednesday.\nEach band member has a passion for the art of music and has made this journey into a career. For this group\, they don’t just bring the music\, they bring the party! \nCome early to get a seat\, as early as 6 PM. The lounge offers Bar Bingo from 6-8PM. \n*Cover is $6 for Elk members and $10 for the general public. \nSee Blast on Tuesdays or Facebook for food options.\nLounge opens at 4 PM
URL:https://elks823.org/event/taska-the-party-band-7pm/2025-04-30/
CATEGORIES:Community,Dance,Food,Games,Music
ATTACH;FMTTYPE=image/png:https://elks823.org/wp-content/uploads/2025/02/wednesdays.png
END:VEVENT
END:VCALENDAR