BEGIN:VCALENDAR
VERSION:2.0
PRODID:-//Elks Lodge 823 - ECPv6.15.20//NONSGML v1.0//EN
CALSCALE:GREGORIAN
METHOD:PUBLISH
X-WR-CALNAME:Elks Lodge 823
X-ORIGINAL-URL:https://elks823.org
X-WR-CALDESC:Events for Elks Lodge 823
REFRESH-INTERVAL;VALUE=DURATION:PT1H
X-Robots-Tag:noindex
X-PUBLISHED-TTL:PT1H
BEGIN:VTIMEZONE
TZID:America/Los_Angeles
BEGIN:DAYLIGHT
TZOFFSETFROM:-0800
TZOFFSETTO:-0700
TZNAME:PDT
DTSTART:20230312T100000
END:DAYLIGHT
BEGIN:STANDARD
TZOFFSETFROM:-0700
TZOFFSETTO:-0800
TZNAME:PST
DTSTART:20231105T090000
END:STANDARD
BEGIN:DAYLIGHT
TZOFFSETFROM:-0800
TZOFFSETTO:-0700
TZNAME:PDT
DTSTART:20240310T100000
END:DAYLIGHT
BEGIN:STANDARD
TZOFFSETFROM:-0700
TZOFFSETTO:-0800
TZNAME:PST
DTSTART:20241103T090000
END:STANDARD
BEGIN:DAYLIGHT
TZOFFSETFROM:-0800
TZOFFSETTO:-0700
TZNAME:PDT
DTSTART:20250309T100000
END:DAYLIGHT
BEGIN:STANDARD
TZOFFSETFROM:-0700
TZOFFSETTO:-0800
TZNAME:PST
DTSTART:20251102T090000
END:STANDARD
END:VTIMEZONE
BEGIN:VEVENT
DTSTART;TZID=America/Los_Angeles:20241201T090000
DTEND;TZID=America/Los_Angeles:20241201T123000
DTSTAMP:20260425T060346
CREATED:20241122T004803Z
LAST-MODIFIED:20241122T004935Z
UID:15651-1733043600-1733056200@elks823.org
SUMMARY:Seahawks Club Breakfast $12 9AM
DESCRIPTION:Seahawks Club Breakfast: Chicken Fried Steak or Biscuits & Gravy\, with hashbrowns and eggs (with choice of well drink\, coffee\, or soda) $12.00 \nvs. NY Jets Kickoff 10AM\, doors open at 9AM. Breakfast begins shortly after. \n*You do not have to be in the Seahawk Club to come to breakfast! All are welcome!
URL:https://elks823.org/event/seahawks-club-breakfast-12-9am/
CATEGORIES:Food,fundraiser,Games,Volunteer
ATTACH;FMTTYPE=image/png:https://elks823.org/wp-content/uploads/2024/11/BreakfastClub.png
END:VEVENT
BEGIN:VEVENT
DTSTART;TZID=America/Los_Angeles:20241203T180000
DTEND;TZID=America/Los_Angeles:20241203T190000
DTSTAMP:20260425T060346
CREATED:20230111T221437Z
LAST-MODIFIED:20230111T221437Z
UID:15559-1733248800-1733252400@elks823.org
SUMMARY:Officer's Meeting 6PM
DESCRIPTION:Ritual Practice and/or Meeting.
URL:https://elks823.org/event/officers-meeting-3-2023-06-06-2024-06-04/2024-12-03/
CATEGORIES:Community
ATTACH;FMTTYPE=image/png:https://elks823.org/wp-content/uploads/2021/11/elks823.png
END:VEVENT
BEGIN:VEVENT
DTSTART;TZID=America/Los_Angeles:20241204T160000
DTEND;TZID=America/Los_Angeles:20241204T170000
DTSTAMP:20260425T060346
CREATED:20241126T211738Z
LAST-MODIFIED:20241126T211946Z
UID:15701-1733328000-1733331600@elks823.org
SUMMARY:Kitchen Meeting 4PM
DESCRIPTION:Kitchen meeting to discuss kitchen needs.
URL:https://elks823.org/event/kitchen-meeting-4pm/
CATEGORIES:Community,Volunteer
ATTACH;FMTTYPE=image/jpeg:https://elks823.org/wp-content/uploads/2024/11/Kitchen_planning.jpg
END:VEVENT
BEGIN:VEVENT
DTSTART;TZID=America/Los_Angeles:20241204T173000
DTEND;TZID=America/Los_Angeles:20241204T183000
DTSTAMP:20260425T060346
CREATED:20240220T191720Z
LAST-MODIFIED:20241125T231036Z
UID:15719-1733333400-1733337000@elks823.org
SUMMARY:PER Meeting 5:30PM
DESCRIPTION:Meet with your fellow PERs and talk about charities\, events coming up\, volunteer\, and all-around camaraderie.
URL:https://elks823.org/event/per-meeting-6pm-2024-12-04/
CATEGORIES:Charity,Community,Food,Volunteer
ATTACH;FMTTYPE=image/jpeg:https://elks823.org/wp-content/uploads/2020/09/PERA-Group-Photo.jpg
END:VEVENT
BEGIN:VEVENT
DTSTART;TZID=America/Los_Angeles:20241204T180000
DTEND;TZID=America/Los_Angeles:20241204T200000
DTSTAMP:20260425T060346
CREATED:20220221T185446Z
LAST-MODIFIED:20220221T185446Z
UID:15566-1733335200-1733342400@elks823.org
SUMMARY:Bar Card Bingo 6-8PM
DESCRIPTION:Bar Card Bingo every Wednesday. All are welcome! \nBar Bingo is played with playing cards. It is $1.00 for 3 cards. An app randomly picks cards\, if you “match”\, you flip over that card. When all three cards (in 1 row) are flipped\, you have a Bingo!\nLots of members are there to help you play! Come on down\, but be careful…..you might have too much fun! \nElk Cove Menu is also available in Lounge.
URL:https://elks823.org/event/bar-card-bingo-6-8pm/2024-12-04/
CATEGORIES:Community,Food,Games
ATTACH;FMTTYPE=image/jpeg:https://elks823.org/wp-content/uploads/2021/09/BarBingo.jpg
END:VEVENT
BEGIN:VEVENT
DTSTART;TZID=America/Los_Angeles:20241204T183000
DTEND;TZID=America/Los_Angeles:20241204T203000
DTSTAMP:20260425T060346
CREATED:20240528T164816Z
LAST-MODIFIED:20240528T164816Z
UID:15573-1733337000-1733344200@elks823.org
SUMMARY:One Eyed Kats Practice 6:30PM(Emil Room)
DESCRIPTION:One-Eyed Kats practice downstairs in the Emil room. Members can go down and listen. Just remember to bring any plates\, drinkware\, etc. back up to the bar/kitchen. \nBlues\, R&B\, and rock and roll. http://www.oneeyedkats.com/
URL:https://elks823.org/event/one-eyed-kats-practice/2024-12-04/
CATEGORIES:Music
ATTACH;FMTTYPE=image/jpeg:https://elks823.org/wp-content/uploads/2024/05/mir-6015-enhanced-nr-edit_orig.jpg
END:VEVENT
BEGIN:VEVENT
DTSTART;TZID=America/Los_Angeles:20241204T190000
DTEND;TZID=America/Los_Angeles:20241204T210000
DTSTAMP:20260425T060346
CREATED:20240720T145935Z
LAST-MODIFIED:20250127T230139Z
UID:15580-1733338800-1733346000@elks823.org
SUMMARY:Taska & the Party Band
DESCRIPTION:The dance is from 7 p.m. to 9 p.m. each Wednesday.\nEach band member has a passion for the art of music and has made this journey into a career. For this group\, they don’t just bring the music\, they bring the party! \nCome early to get a seat as early as 6 p.m. Snacks and water are available for purchase. \n*Cover is $6 for Elk members and $10 for the general public.
URL:https://elks823.org/event/taska-party-band/2024-12-04/
CATEGORIES:Community,Dance,Food,Music
ATTACH;FMTTYPE=image/png:https://elks823.org/wp-content/uploads/2024/07/Taska_Band.png
END:VEVENT
BEGIN:VEVENT
DTSTART;TZID=America/Los_Angeles:20241205T180000
DTEND;TZID=America/Los_Angeles:20241205T210000
DTSTAMP:20260425T060346
CREATED:20241002T212049Z
LAST-MODIFIED:20250127T231318Z
UID:15598-1733421600-1733432400@elks823.org
SUMMARY:BINGO 6:30PM
DESCRIPTION:REAL BINGO is now on Thursdays! NEW START TIME 6:30 PM\nPacket sales begin at 6 PM\, Game starts at 6:30 PM!\n\n\n\n*This weekly event is open to Elks members and their guests! The lounge opens at 4 PM\, Bingo starts at 6 PM.\n\nSpecial Blue Plate special meals are now on Thursdays. Check the Blast for what is available that week.
URL:https://elks823.org/event/bingo-630pm/2024-12-05/
CATEGORIES:Community,Food,Games
ATTACH;FMTTYPE=image/png:https://elks823.org/wp-content/uploads/2024/10/BingoNEW.png
END:VEVENT
BEGIN:VEVENT
DTSTART;TZID=America/Los_Angeles:20241206T170000
DTEND;TZID=America/Los_Angeles:20241206T220000
DTSTAMP:20260425T060346
CREATED:20240202T211706Z
LAST-MODIFIED:20250127T234517Z
UID:15556-1733504400-1733522400@elks823.org
SUMMARY:Emblem Club Dinner 6PM\, Live Music Slim Jims 7PM
DESCRIPTION:Dinner is served 6 – 7:00 PM\nBeef Stew $18\n(Includes roll with butter\, Salad Bar\, homemade dessert\, and coffee and tea included). \n*Please make reservations in the office. 360-256-0823 \n*Stick around to hear live music by Slim Jims\, 7 PM – 9 PM in the lounge. (No Cover) \n*Lounge opens at 4 PM.
URL:https://elks823.org/event/emblem-club-dinner-6pm-3-2024-11-01-2024-12-06/2024-12-06/
CATEGORIES:Community,Food,fundraiser,Music,Volunteer
ATTACH;FMTTYPE=image/png:https://elks823.org/wp-content/uploads/2023/11/Emblem.png
END:VEVENT
BEGIN:VEVENT
DTSTART;TZID=America/Los_Angeles:20241206T180000
DTEND;TZID=America/Los_Angeles:20241206T200000
DTSTAMP:20260425T060346
CREATED:20230717T173939Z
LAST-MODIFIED:20260216T215402Z
UID:15524-1733508000-1733515200@elks823.org
SUMMARY:Queen of Hearts
DESCRIPTION:Queen of Hearts is back! It will be held every Friday night. \n\n\n\n\nTicket sales will begin on Friday from 6 PM to 8 PM.\nThe drawing will be at 8:00 PM.\nFriday’s Pot = $TBD \n*Eligible Players:\nOpen to Elk members\, visiting Elks\, as well as Emblem Club members.\nA valid Elks/Emblem Club ID must be presented to purchase tickets.\n**Must be present to win.
URL:https://elks823.org/event/queen-of-hearts-12/2024-12-06/
CATEGORIES:Community
ATTACH;FMTTYPE=image/jpeg:https://elks823.org/wp-content/uploads/2025/03/Queen_of_Hearts-scaled.jpg
END:VEVENT
BEGIN:VEVENT
DTSTART;TZID=America/Los_Angeles:20241207T100000
DTEND;TZID=America/Los_Angeles:20241207T130000
DTSTAMP:20260425T060346
CREATED:20221019T212643Z
LAST-MODIFIED:20241122T010403Z
UID:15667-1733565600-1733576400@elks823.org
SUMMARY:Hoop Shoot 10AM
DESCRIPTION:The Elks’ Hoop Shoot is a free throw contest for ages 8-13. It’s as easy as shoot and making a free throw! There are different age groups and the best of each\, move on to state\, regional\, and national levels! \nFree free-throw contest for ages 8-13 year-olds!\nSign up here! \nLocation:\nOpen House Ministries\n300 West 12th Street\nVancouver\, WA 98660 \n*For more information\, contact Benito Tijerina at benitot@stjoevanschool.org or 360-936-5551(text preferred)
URL:https://elks823.org/event/hoop-shoot-10-am-2023-11-04-2024-12-07/
CATEGORIES:Charity,Community,Games
ATTACH;FMTTYPE=image/png:https://elks823.org/wp-content/uploads/2024/11/December-7th.png
END:VEVENT
BEGIN:VEVENT
DTSTART;TZID=America/Los_Angeles:20241208T120000
DTEND;TZID=America/Los_Angeles:20241208T130000
DTSTAMP:20260425T060346
CREATED:20241125T204013Z
LAST-MODIFIED:20251210T000227Z
UID:15681-1733659200-1733662800@elks823.org
SUMMARY:Elks Memorial Service 12PM
DESCRIPTION:December 8th at noon\, we will be having our annual Elks Memorial Service Ritual to honor the memory of our absent members\, who we have lost this past year. \nPlease attend this service and honor them with your presence at this meaningful Elks Ritual. Join us for cake and coffee following the Memorial service and stay for the Seahawks Club that will be gathering afterward in the Lounge.
URL:https://elks823.org/event/elks-memorial-service-12pm/2024-12-08/
CATEGORIES:Charity,Community
ATTACH;FMTTYPE=image/png:https://elks823.org/wp-content/uploads/2024/11/Memorial_Service.png
END:VEVENT
BEGIN:VEVENT
DTSTART;TZID=America/Los_Angeles:20241208T120000
DTEND;TZID=America/Los_Angeles:20241208T160000
DTSTAMP:20260425T060346
CREATED:20240802T153812Z
LAST-MODIFIED:20241206T190450Z
UID:15654-1733659200-1733673600@elks823.org
SUMMARY:Seahawks Club Kickoff 1:05 PM
DESCRIPTION:The Seahawks Club is back!\nVS. Arizona Cardinals\, Kickoff 1:05 PM \nPotluck 12 -4 PM\, bring your favorite dish and meet in the lounge with your fellow Elk Members. \n*Elks Memorial Service starts at 12 Noon\, please plan on attending (will be over before the game starts).
URL:https://elks823.org/event/seahawks-club-kickoff-105-pm-2024-11-24-2024-12-08/
CATEGORIES:Charity,Community,Food,fundraiser,Games,Volunteer
ATTACH;FMTTYPE=image/jpeg:https://elks823.org/wp-content/uploads/2024/08/Seahawks35.jpg
END:VEVENT
BEGIN:VEVENT
DTSTART;TZID=America/Los_Angeles:20241209T180000
DTEND;TZID=America/Los_Angeles:20241209T200000
DTSTAMP:20260425T060346
CREATED:20241121T235213Z
LAST-MODIFIED:20250127T230208Z
UID:15647-1733767200-1733774400@elks823.org
SUMMARY:CMB/Board Meeting 6PM
DESCRIPTION:CMB/Board meetings will be held on the 2nd and 4th Monday of each month. (Monday before Lodge Meetings) \nIn the Board Room. All members are welcome to attend.
URL:https://elks823.org/event/cmb-board-meeting-6pm/2024-12-09/
CATEGORIES:Board Meeting,Community
ATTACH;FMTTYPE=image/png:https://elks823.org/wp-content/uploads/2023/02/Lounge-Screens-april-may-14.png
END:VEVENT
BEGIN:VEVENT
DTSTART;TZID=America/Los_Angeles:20241210T190000
DTEND;TZID=America/Los_Angeles:20241210T210000
DTSTAMP:20260425T060346
CREATED:20220816T201709Z
LAST-MODIFIED:20250127T230609Z
UID:15631-1733857200-1733864400@elks823.org
SUMMARY:Lodge Meeting 7PM
DESCRIPTION:The lounge opens at 4 PM\, closed during meetings\, then re-opens after the meeting until 9 PM. \nFood: Taco Tuesday! Come down for some tacos\, quesadillas\, taquitos\, chips\, and salsa.
URL:https://elks823.org/event/lodge-meeting-7pm-5/2024-12-10/
CATEGORIES:Lodge meeting
ATTACH;FMTTYPE=image/png:https://elks823.org/wp-content/uploads/2022/08/Lounge-Screens-april-may-12.png
END:VEVENT
BEGIN:VEVENT
DTSTART;TZID=America/Los_Angeles:20241211T180000
DTEND;TZID=America/Los_Angeles:20241211T200000
DTSTAMP:20260425T060346
CREATED:20220221T185446Z
LAST-MODIFIED:20220221T185446Z
UID:15567-1733940000-1733947200@elks823.org
SUMMARY:Bar Card Bingo 6-8PM
DESCRIPTION:Bar Card Bingo every Wednesday. All are welcome! \nBar Bingo is played with playing cards. It is $1.00 for 3 cards. An app randomly picks cards\, if you “match”\, you flip over that card. When all three cards (in 1 row) are flipped\, you have a Bingo!\nLots of members are there to help you play! Come on down\, but be careful…..you might have too much fun! \nElk Cove Menu is also available in Lounge.
URL:https://elks823.org/event/bar-card-bingo-6-8pm/2024-12-11/
CATEGORIES:Community,Food,Games
ATTACH;FMTTYPE=image/jpeg:https://elks823.org/wp-content/uploads/2021/09/BarBingo.jpg
END:VEVENT
BEGIN:VEVENT
DTSTART;TZID=America/Los_Angeles:20241211T183000
DTEND;TZID=America/Los_Angeles:20241211T203000
DTSTAMP:20260425T060346
CREATED:20240528T164816Z
LAST-MODIFIED:20240528T164816Z
UID:15574-1733941800-1733949000@elks823.org
SUMMARY:One Eyed Kats Practice 6:30PM(Emil Room)
DESCRIPTION:One-Eyed Kats practice downstairs in the Emil room. Members can go down and listen. Just remember to bring any plates\, drinkware\, etc. back up to the bar/kitchen. \nBlues\, R&B\, and rock and roll. http://www.oneeyedkats.com/
URL:https://elks823.org/event/one-eyed-kats-practice/2024-12-11/
CATEGORIES:Music
ATTACH;FMTTYPE=image/jpeg:https://elks823.org/wp-content/uploads/2024/05/mir-6015-enhanced-nr-edit_orig.jpg
END:VEVENT
BEGIN:VEVENT
DTSTART;TZID=America/Los_Angeles:20241211T190000
DTEND;TZID=America/Los_Angeles:20241211T210000
DTSTAMP:20260425T060346
CREATED:20240720T145935Z
LAST-MODIFIED:20250127T230140Z
UID:15581-1733943600-1733950800@elks823.org
SUMMARY:Taska & the Party Band
DESCRIPTION:The dance is from 7 p.m. to 9 p.m. each Wednesday.\nEach band member has a passion for the art of music and has made this journey into a career. For this group\, they don’t just bring the music\, they bring the party! \nCome early to get a seat as early as 6 p.m. Snacks and water are available for purchase. \n*Cover is $6 for Elk members and $10 for the general public.
URL:https://elks823.org/event/taska-party-band/2024-12-11/
CATEGORIES:Community,Dance,Food,Music
ATTACH;FMTTYPE=image/png:https://elks823.org/wp-content/uploads/2024/07/Taska_Band.png
END:VEVENT
BEGIN:VEVENT
DTSTART;TZID=America/Los_Angeles:20241212T180000
DTEND;TZID=America/Los_Angeles:20241212T210000
DTSTAMP:20260425T060346
CREATED:20241002T212049Z
LAST-MODIFIED:20250127T231318Z
UID:15599-1734026400-1734037200@elks823.org
SUMMARY:BINGO 6:30PM
DESCRIPTION:REAL BINGO is now on Thursdays! NEW START TIME 6:30 PM\nPacket sales begin at 6 PM\, Game starts at 6:30 PM!\n\n\n\n*This weekly event is open to Elks members and their guests! The lounge opens at 4 PM\, Bingo starts at 6 PM.\n\nSpecial Blue Plate special meals are now on Thursdays. Check the Blast for what is available that week.
URL:https://elks823.org/event/bingo-630pm/2024-12-12/
CATEGORIES:Community,Food,Games
ATTACH;FMTTYPE=image/png:https://elks823.org/wp-content/uploads/2024/10/BingoNEW.png
END:VEVENT
BEGIN:VEVENT
DTSTART;TZID=America/Los_Angeles:20241213T180000
DTEND;TZID=America/Los_Angeles:20241213T200000
DTSTAMP:20260425T060346
CREATED:20230717T173939Z
LAST-MODIFIED:20260216T215403Z
UID:15525-1734112800-1734120000@elks823.org
SUMMARY:Queen of Hearts
DESCRIPTION:Queen of Hearts is back! It will be held every Friday night. \n\n\n\n\nTicket sales will begin on Friday from 6 PM to 8 PM.\nThe drawing will be at 8:00 PM.\nFriday’s Pot = $TBD \n*Eligible Players:\nOpen to Elk members\, visiting Elks\, as well as Emblem Club members.\nA valid Elks/Emblem Club ID must be presented to purchase tickets.\n**Must be present to win.
URL:https://elks823.org/event/queen-of-hearts-12/2024-12-13/
CATEGORIES:Community
ATTACH;FMTTYPE=image/jpeg:https://elks823.org/wp-content/uploads/2025/03/Queen_of_Hearts-scaled.jpg
END:VEVENT
BEGIN:VEVENT
DTSTART;TZID=America/Los_Angeles:20241213T190000
DTEND;TZID=America/Los_Angeles:20241213T210000
DTSTAMP:20260425T060346
CREATED:20240508T150111Z
LAST-MODIFIED:20250127T235944Z
UID:15671-1734116400-1734123600@elks823.org
SUMMARY:Elk Races 7PM
DESCRIPTION:We are starting Elk Races on the 2nd and 4th Fridays of the Month. (Unless otherwise listed) \nFor anyone who has not yet participated in Elk Racing\, it’s another low-stakes gambling game. \n\n\n\n\n\n\n\n\nParticipants bet between $1-5 on one or more elks (six total)\nOdds are calculated based on the number of bets per elk; Elk #1 might pay 2/1 ($2 for every $1 bet); Elk #4 might pay 10/1 ($10 for every $1 bet)\nDice are rolled to move the elks progressively along the spots on their lane\nThe First Elk to cross the finish line is the winner\, and all who bet on this elk are paid out based on the odds\n\n 
URL:https://elks823.org/event/elk-races-7pm/2024-12-13/
CATEGORIES:Community,Games
ATTACH;FMTTYPE=image/png:https://elks823.org/wp-content/uploads/2024/04/Lounge-Screens-april-may-15.png
END:VEVENT
BEGIN:VEVENT
DTSTART;TZID=America/Los_Angeles:20241214T160000
DTEND;TZID=America/Los_Angeles:20241214T210000
DTSTAMP:20260425T060346
CREATED:20241125T230549Z
LAST-MODIFIED:20241125T230549Z
UID:15704-1734192000-1734210000@elks823.org
SUMMARY:New Member Orientation 4PM
DESCRIPTION:Orientation begins at 4 PM\, and Initiation will be at the following Lodge Meeting. Candidates should be there as close to 4 PM as possible. The bar/lounge doesn’t technically open until 4 PM so we will start shortly after. \nKaraoke starts at 6 PM\nFood is available in the lounge from 5-7 PM.
URL:https://elks823.org/event/new-member-orientation-4pm/
CATEGORIES:Community
ATTACH;FMTTYPE=image/png:https://elks823.org/wp-content/uploads/2024/11/Orientation_Dec.png
END:VEVENT
BEGIN:VEVENT
DTSTART;TZID=America/Los_Angeles:20241214T180000
DTEND;TZID=America/Los_Angeles:20241214T210000
DTSTAMP:20260425T060346
CREATED:20240326T195812Z
LAST-MODIFIED:20250127T235749Z
UID:15623-1734199200-1734210000@elks823.org
SUMMARY:Karaoke 6PM
DESCRIPTION:Are you a singer?  Come on down\, we want to hear you sing!!\nNot a singer?  THAT’S OK!  Come on down and listen to our Elk Members\, friends\, and family sing. \nElk Cove Menu starts in the lounge at 5 PM.
URL:https://elks823.org/event/karaoke-6pm-2/2024-12-14/
CATEGORIES:Dance,Food,fundraiser,Karaoke,Music
ATTACH;FMTTYPE=image/png:https://elks823.org/wp-content/uploads/2024/03/karaoke.png
END:VEVENT
BEGIN:VEVENT
DTSTART;TZID=America/Los_Angeles:20241215T163000
DTEND;TZID=America/Los_Angeles:20241215T203000
DTSTAMP:20260425T060346
CREATED:20240802T153812Z
LAST-MODIFIED:20241209T232212Z
UID:15655-1734280200-1734294600@elks823.org
SUMMARY:Seahawks Club Kickoff 5:20PM
DESCRIPTION:The Seahawks Club is back!\nVS. Green Bay Packers\, Kickoff 5:20 PM Doors open at 4PM! \nSmashburger Special: Burger\, fries\, and a drink for $12 (well\, draft or soda)\nMeet in the lounge with your fellow Elk Members. \nHawks Club membership is $35 and can be paid in the Lounge or the Office. These funds pay for our subscription to Red Zone and other costs of running the Hawks Club. \nWhen the Seahawks score a touchdown\, members will receive a ticket for a free drink (Draft beer\, box wine\, or well drink only). Due to state rules\, a maximum of 5 free drink tickets will be issued to each member per game. Drink tickets must be used during the game timeline: 1 hour before\, during\, and 1 hour after or before the kickoff of the next Hawks Club meet-up. Drink tickets have no value during regular lodge hours.\nWhen the opposing team scores\, everyone is requested to deposit .50¢ in the Hawks Club Bank.\nNon-members are encouraged to participate with us. \nFor more details contact Tim Rogers or Todd Novak. \nCheck out the Seahawks 2024 Schedule here:\nhttps://www.seahawks.com/schedule/
URL:https://elks823.org/event/seahawks-club-kickoff-105-pm-2024-11-24-2024-12-15/
CATEGORIES:Charity,Community,Food,fundraiser,Games,Volunteer
ATTACH;FMTTYPE=image/png:https://elks823.org/wp-content/uploads/2024/08/seahawks_Dec15.png
END:VEVENT
BEGIN:VEVENT
DTSTART;TZID=America/Los_Angeles:20241216T160000
DTEND;TZID=America/Los_Angeles:20241216T173000
DTSTAMP:20260425T060346
CREATED:20241125T214738Z
LAST-MODIFIED:20241125T214738Z
UID:15688-1734364800-1734370200@elks823.org
SUMMARY:Celebration of Life\, Deborah Walling 4PM
DESCRIPTION:We lost a long-time member: Debra Walling. She was both a member of Vancouver Emblem #473 and Vancouver Elks #823. She was a constant Emblem supporter and friend. We will miss her smile and trendy fashion sense. \n* Her memorial service will be held at the Vancouver Elks Lodge #823 on Monday\, December 16\, 2024 at 4:00 PM.
URL:https://elks823.org/event/celebration-of-life-deborah-walling-4pm/
CATEGORIES:Charity,Community
ATTACH;FMTTYPE=image/png:https://elks823.org/wp-content/uploads/2019/08/Screenshot-2019-08-08-at-4.03.48-PM.png
END:VEVENT
BEGIN:VEVENT
DTSTART;TZID=America/Los_Angeles:20241216T180000
DTEND;TZID=America/Los_Angeles:20241216T200000
DTSTAMP:20260425T060346
CREATED:20230227T212526Z
LAST-MODIFIED:20241209T232259Z
UID:15640-1734372000-1734379200@elks823.org
SUMMARY:CMB/Board Meeting 6PM
DESCRIPTION:CMB/Board meetings will be held on the 2nd and 4th Monday of each month. (Monday before Lodge Meetings) \nIn the Board Room. All members are welcome to attend.
URL:https://elks823.org/event/cmb-board-meeting-2023-08-28-2024-12-23/
CATEGORIES:Board Meeting,Community
ATTACH;FMTTYPE=image/png:https://elks823.org/wp-content/uploads/2023/02/Lounge-Screens-april-may-14.png
END:VEVENT
BEGIN:VEVENT
DTSTART;TZID=America/Los_Angeles:20241217T180000
DTEND;TZID=America/Los_Angeles:20241217T190000
DTSTAMP:20260425T060346
CREATED:20240326T193927Z
LAST-MODIFIED:20250304T225247Z
UID:15684-1734458400-1734462000@elks823.org
SUMMARY:Activities Meeting 6PM
DESCRIPTION:Our Activities Meeting will be on the 3rd Tuesday of the Month at 6 PM. \nThis meeting is to coordinate activities for all the Committees and Officer functions.\nAll Lodge Officers/Trustees and Committee Chairs should plan on attending. All Committee Members can also attend or anyone wanting to be on a committee can attend. \n*In the Stag Bar unless there’s an event in there\, then the Dining Room.
URL:https://elks823.org/event/activities-meeting-6pm/2024-12-17/
CATEGORIES:Community,Food,fundraiser,Volunteer
ATTACH;FMTTYPE=image/png:https://elks823.org/wp-content/uploads/2024/02/planning-meeting-tonight-2.png
END:VEVENT
BEGIN:VEVENT
DTSTART;TZID=America/Los_Angeles:20241217T190000
DTEND;TZID=America/Los_Angeles:20241217T203000
DTSTAMP:20260425T060346
CREATED:20191119T001440Z
LAST-MODIFIED:20191119T001440Z
UID:15690-1734462000-1734467400@elks823.org
SUMMARY:Special Initiation
DESCRIPTION:
URL:https://elks823.org/event/special-initiation/2024-12-17/
CATEGORIES:Lodge meeting,Member Initiation
ATTACH;FMTTYPE=image/jpeg:https://elks823.org/wp-content/uploads/2019/01/54524860_2322934037978165_7650752989577084928_n.jpg
END:VEVENT
BEGIN:VEVENT
DTSTART;TZID=America/Los_Angeles:20241218T180000
DTEND;TZID=America/Los_Angeles:20241218T200000
DTSTAMP:20260425T060346
CREATED:20220221T185446Z
LAST-MODIFIED:20220221T185446Z
UID:15568-1734544800-1734552000@elks823.org
SUMMARY:Bar Card Bingo 6-8PM
DESCRIPTION:Bar Card Bingo every Wednesday. All are welcome! \nBar Bingo is played with playing cards. It is $1.00 for 3 cards. An app randomly picks cards\, if you “match”\, you flip over that card. When all three cards (in 1 row) are flipped\, you have a Bingo!\nLots of members are there to help you play! Come on down\, but be careful…..you might have too much fun! \nElk Cove Menu is also available in Lounge.
URL:https://elks823.org/event/bar-card-bingo-6-8pm/2024-12-18/
CATEGORIES:Community,Food,Games
ATTACH;FMTTYPE=image/jpeg:https://elks823.org/wp-content/uploads/2021/09/BarBingo.jpg
END:VEVENT
BEGIN:VEVENT
DTSTART;TZID=America/Los_Angeles:20241218T180000
DTEND;TZID=America/Los_Angeles:20241218T200000
DTSTAMP:20260425T060346
CREATED:20231207T203128Z
LAST-MODIFIED:20231207T203128Z
UID:15735-1734544800-1734552000@elks823.org
SUMMARY:Veterans Bingo at CLC
DESCRIPTION:at the CLC @ 6PM \n*Please contact Leonard Mills for more information and to volunteer.
URL:https://elks823.org/event/veterans-bingo-at-clc-2024-02-21/2024-12-18/
CATEGORIES:Charity,Community,Games,Volunteer
ATTACH;FMTTYPE=image/png:https://elks823.org/wp-content/uploads/2021/10/veterans.png
END:VEVENT
END:VCALENDAR