BEGIN:VCALENDAR
VERSION:2.0
PRODID:-//Elks Lodge 823 - ECPv6.15.20//NONSGML v1.0//EN
CALSCALE:GREGORIAN
METHOD:PUBLISH
X-ORIGINAL-URL:https://elks823.org
X-WR-CALDESC:Events for Elks Lodge 823
REFRESH-INTERVAL;VALUE=DURATION:PT1H
X-Robots-Tag:noindex
X-PUBLISHED-TTL:PT1H
BEGIN:VTIMEZONE
TZID:America/Los_Angeles
BEGIN:DAYLIGHT
TZOFFSETFROM:-0800
TZOFFSETTO:-0700
TZNAME:PDT
DTSTART:20240310T100000
END:DAYLIGHT
BEGIN:STANDARD
TZOFFSETFROM:-0700
TZOFFSETTO:-0800
TZNAME:PST
DTSTART:20241103T090000
END:STANDARD
BEGIN:DAYLIGHT
TZOFFSETFROM:-0800
TZOFFSETTO:-0700
TZNAME:PDT
DTSTART:20250309T100000
END:DAYLIGHT
BEGIN:STANDARD
TZOFFSETFROM:-0700
TZOFFSETTO:-0800
TZNAME:PST
DTSTART:20251102T090000
END:STANDARD
BEGIN:DAYLIGHT
TZOFFSETFROM:-0800
TZOFFSETTO:-0700
TZNAME:PDT
DTSTART:20260308T100000
END:DAYLIGHT
BEGIN:STANDARD
TZOFFSETFROM:-0700
TZOFFSETTO:-0800
TZNAME:PST
DTSTART:20261101T090000
END:STANDARD
END:VTIMEZONE
BEGIN:VEVENT
DTSTART;TZID=America/Los_Angeles:20250302T120000
DTEND;TZID=America/Los_Angeles:20250302T190000
DTSTAMP:20260425T091837
CREATED:20250225T211406Z
LAST-MODIFIED:20250225T211406Z
UID:16030-1740916800-1740942000@elks823.org
SUMMARY:Children's Therapy Bowling Tournament - SOLD OUT
DESCRIPTION:Bowling Tournament Fundraiser for the WA Elks Children’s Therapy Program.\nWhen: March 2nd\nWhere: Husted’s Hazel Dell Lanes\, 6300 NE Hwy 99\, Vancouver\, WA 98665\n Time: Noon Check-in\, Bowling starts at 1 PM \nWe are SOLD OUT for the Bowling Tournament\, but if you’d like to come to dinner at the Lodge after the tournament\, please call the office to pay for your dinner. $10\n\nSpaghetti Dinner and get-together back at VanElks 823 with an award of the State Traveling Trophy to the winners!
URL:https://elks823.org/event/childrens-therapy-bowling-tournament-sold-out/
CATEGORIES:Charity,Community,Food,Games,Volunteer
ATTACH;FMTTYPE=image/png:https://elks823.org/wp-content/uploads/2024/11/bowling-1.png
END:VEVENT
BEGIN:VEVENT
DTSTART;TZID=America/Los_Angeles:20250304T180000
DTEND;TZID=America/Los_Angeles:20250304T193000
DTSTAMP:20260425T091837
CREATED:20220729T182249Z
LAST-MODIFIED:20220729T182249Z
UID:15852-1741111200-1741116600@elks823.org
SUMMARY:Officer Meeting/Ritual
DESCRIPTION:6 – 7:30 PM\nLodge Room
URL:https://elks823.org/event/officer-meeting-ritual/2025-03-04/
ATTACH;FMTTYPE=image/png:https://elks823.org/wp-content/uploads/2018/10/elks-favicon.png
END:VEVENT
BEGIN:VEVENT
DTSTART;TZID=America/Los_Angeles:20250305T173000
DTEND;TZID=America/Los_Angeles:20250305T183000
DTSTAMP:20260425T091837
CREATED:20250225T211753Z
LAST-MODIFIED:20250304T214736Z
UID:16032-1741195800-1741199400@elks823.org
SUMMARY:PER Meeting 5:30PM
DESCRIPTION:Meet with your fellow PERs and talk about charities\, events coming up\, volunteer\, and all-around camaraderie.
URL:https://elks823.org/event/per-meeting-530pm/2025-03-05/
CATEGORIES:Community,fundraiser
ATTACH;FMTTYPE=image/jpeg:https://elks823.org/wp-content/uploads/2023/01/PERA-Christmas-2022-scaled.jpg
END:VEVENT
BEGIN:VEVENT
DTSTART;TZID=America/Los_Angeles:20250305T180000
DTEND;TZID=America/Los_Angeles:20250305T200000
DTSTAMP:20260425T091837
CREATED:20220221T185446Z
LAST-MODIFIED:20220221T185446Z
UID:15859-1741197600-1741204800@elks823.org
SUMMARY:Bar Card Bingo 6-8PM
DESCRIPTION:Bar Card Bingo every Wednesday. All are welcome! \nBar Bingo is played with playing cards. It is $1.00 for 3 cards. An app randomly picks cards\, if you “match”\, you flip over that card. When all three cards (in 1 row) are flipped\, you have a Bingo!\nLots of members are there to help you play! Come on down\, but be careful…..you might have too much fun! \nElk Cove Menu is also available in Lounge.
URL:https://elks823.org/event/bar-card-bingo-6-8pm/2025-03-05/
CATEGORIES:Community,Food,Games
ATTACH;FMTTYPE=image/jpeg:https://elks823.org/wp-content/uploads/2021/09/BarBingo.jpg
END:VEVENT
BEGIN:VEVENT
DTSTART;TZID=America/Los_Angeles:20250305T190000
DTEND;TZID=America/Los_Angeles:20250305T210000
DTSTAMP:20260425T091837
CREATED:20240720T145935Z
LAST-MODIFIED:20240720T145935Z
UID:15867-1741201200-1741208400@elks823.org
SUMMARY:Taska & the Party Band
DESCRIPTION:The dance is from 7 p.m. to 9 p.m. each Wednesday.\nEach band member has a passion for the art of music and has made this journey into a career. For this group\, they don’t just bring the music\, they bring the party! \nCome early to get a seat as early as 6 p.m. Snacks and water are available for purchase. \n*Cover is $6 for Elk members and $10 for the general public.
URL:https://elks823.org/event/taska-party-band/2025-03-05/
CATEGORIES:Community,Dance,Food,Music
ATTACH;FMTTYPE=image/png:https://elks823.org/wp-content/uploads/2024/07/Taska_Band.png
END:VEVENT
BEGIN:VEVENT
DTSTART;TZID=America/Los_Angeles:20250306T180000
DTEND;TZID=America/Los_Angeles:20250306T210000
DTSTAMP:20260425T091837
CREATED:20241002T212049Z
LAST-MODIFIED:20241002T212049Z
UID:15899-1741284000-1741294800@elks823.org
SUMMARY:BINGO 6:30PM
DESCRIPTION:REAL BINGO is now on Thursdays! NEW START TIME 6:30 PM\nPacket sales begin at 6 PM\, Game starts at 6:30 PM!\n\n\n\n*This weekly event is open to Elks members and their guests! The lounge opens at 4 PM\, Bingo starts at 6 PM.\n\nSpecial Blue Plate special meals are now on Thursdays. Check the Blast for what is available that week.
URL:https://elks823.org/event/bingo-630pm/2025-03-06/
CATEGORIES:Community,Food,Games
ATTACH;FMTTYPE=image/png:https://elks823.org/wp-content/uploads/2024/10/BingoNEW.png
END:VEVENT
BEGIN:VEVENT
DTSTART;TZID=America/Los_Angeles:20250307T180000
DTEND;TZID=America/Los_Angeles:20250307T200000
DTSTAMP:20260425T091837
CREATED:20230717T173939Z
LAST-MODIFIED:20260216T215411Z
UID:15841-1741370400-1741377600@elks823.org
SUMMARY:Queen of Hearts
DESCRIPTION:Queen of Hearts is back! It will be held every Friday night. \n\n\n\n\nTicket sales will begin on Friday from 6 PM to 8 PM.\nThe drawing will be at 8:00 PM.\nFriday’s Pot = $TBD \n*Eligible Players:\nOpen to Elk members\, visiting Elks\, as well as Emblem Club members.\nA valid Elks/Emblem Club ID must be presented to purchase tickets.\n**Must be present to win.
URL:https://elks823.org/event/queen-of-hearts-12/2025-03-07/
CATEGORIES:Community
ATTACH;FMTTYPE=image/jpeg:https://elks823.org/wp-content/uploads/2025/03/Queen_of_Hearts-scaled.jpg
END:VEVENT
BEGIN:VEVENT
DTSTART;TZID=America/Los_Angeles:20250307T180000
DTEND;TZID=America/Los_Angeles:20250307T210000
DTSTAMP:20260425T091837
CREATED:20250304T054911Z
LAST-MODIFIED:20250304T054911Z
UID:16036-1741370400-1741381200@elks823.org
SUMMARY:Emblem Club Dinner 6PM\, Live Music by Dana Powell 7PM
DESCRIPTION:Dinner is served 6 – 7:00 PM\nCorned Beef and Cabbage\, red potatoes & carrots. $20\n(Includes roll with butter\, Salad Bar\, homemade dessert\, and coffee and tea included). \n*Please make reservations in the office. 360-256-0823 \n*Stick around to hear live music by Dana Powell\, 7 PM – 9 PM in the lounge. (No Cover) \n*Lounge opens at 4 PM.
URL:https://elks823.org/event/emblem-club-dinner-6pm-live-music-by-dana-powell-7pm/
CATEGORIES:Community,Dance,Food,Music
ATTACH;FMTTYPE=image/png:https://elks823.org/wp-content/uploads/2025/03/emblem-Mar_DanaP.png
END:VEVENT
BEGIN:VEVENT
DTSTART;TZID=America/Los_Angeles:20250308T180000
DTEND;TZID=America/Los_Angeles:20250308T210000
DTSTAMP:20260425T091837
CREATED:20240326T195812Z
LAST-MODIFIED:20250127T235750Z
UID:15946-1741456800-1741467600@elks823.org
SUMMARY:Karaoke 6PM
DESCRIPTION:Are you a singer?  Come on down\, we want to hear you sing!!\nNot a singer?  THAT’S OK!  Come on down and listen to our Elk Members\, friends\, and family sing. \nElk Cove Menu starts in the lounge at 5 PM.
URL:https://elks823.org/event/karaoke-6pm-2/2025-03-08/
CATEGORIES:Dance,Food,fundraiser,Karaoke,Music
ATTACH;FMTTYPE=image/png:https://elks823.org/wp-content/uploads/2024/03/karaoke.png
END:VEVENT
BEGIN:VEVENT
DTSTART;TZID=America/Los_Angeles:20250310T180000
DTEND;TZID=America/Los_Angeles:20250310T200000
DTSTAMP:20260425T091837
CREATED:20241121T235213Z
LAST-MODIFIED:20260331T200522Z
UID:15875-1741629600-1741636800@elks823.org
SUMMARY:CMB/Board Meeting 6PM
DESCRIPTION:CMB/Board meetings will be held on the 2nd and 4th Monday of each month. (Monday before Lodge Meetings) \nIn the Board Room. All members are welcome to attend.
URL:https://elks823.org/event/cmb-board-meeting-6pm-2025-03-10/2025-03-10/
CATEGORIES:Board Meeting,Community
ATTACH;FMTTYPE=image/png:https://elks823.org/wp-content/uploads/2024/11/BOD_Mtg_2025-1.png
END:VEVENT
BEGIN:VEVENT
DTSTART;TZID=America/Los_Angeles:20250311T190000
DTEND;TZID=America/Los_Angeles:20250311T210000
DTSTAMP:20260425T091837
CREATED:20220816T201709Z
LAST-MODIFIED:20220816T201709Z
UID:15883-1741719600-1741726800@elks823.org
SUMMARY:Lodge Meeting 7PM
DESCRIPTION:The lounge opens at 4 PM\, closed during meetings\, then re-opens after the meeting until 9 PM. \nFood: Taco Tuesday! Come down for some tacos\, quesadillas\, taquitos\, chips\, and salsa.
URL:https://elks823.org/event/lodge-meeting-7pm-5/2025-03-11/
CATEGORIES:Lodge meeting
ATTACH;FMTTYPE=image/png:https://elks823.org/wp-content/uploads/2022/08/Lounge-Screens-april-may-12.png
END:VEVENT
BEGIN:VEVENT
DTSTART;TZID=America/Los_Angeles:20250312T180000
DTEND;TZID=America/Los_Angeles:20250312T200000
DTSTAMP:20260425T091837
CREATED:20220221T185446Z
LAST-MODIFIED:20220221T185446Z
UID:15860-1741802400-1741809600@elks823.org
SUMMARY:Bar Card Bingo 6-8PM
DESCRIPTION:Bar Card Bingo every Wednesday. All are welcome! \nBar Bingo is played with playing cards. It is $1.00 for 3 cards. An app randomly picks cards\, if you “match”\, you flip over that card. When all three cards (in 1 row) are flipped\, you have a Bingo!\nLots of members are there to help you play! Come on down\, but be careful…..you might have too much fun! \nElk Cove Menu is also available in Lounge.
URL:https://elks823.org/event/bar-card-bingo-6-8pm/2025-03-12/
CATEGORIES:Community,Food,Games
ATTACH;FMTTYPE=image/jpeg:https://elks823.org/wp-content/uploads/2021/09/BarBingo.jpg
END:VEVENT
BEGIN:VEVENT
DTSTART;TZID=America/Los_Angeles:20250312T190000
DTEND;TZID=America/Los_Angeles:20250312T210000
DTSTAMP:20260425T091837
CREATED:20240720T145935Z
LAST-MODIFIED:20240720T145935Z
UID:15868-1741806000-1741813200@elks823.org
SUMMARY:Taska & the Party Band
DESCRIPTION:The dance is from 7 p.m. to 9 p.m. each Wednesday.\nEach band member has a passion for the art of music and has made this journey into a career. For this group\, they don’t just bring the music\, they bring the party! \nCome early to get a seat as early as 6 p.m. Snacks and water are available for purchase. \n*Cover is $6 for Elk members and $10 for the general public.
URL:https://elks823.org/event/taska-party-band/2025-03-12/
CATEGORIES:Community,Dance,Food,Music
ATTACH;FMTTYPE=image/png:https://elks823.org/wp-content/uploads/2024/07/Taska_Band.png
END:VEVENT
BEGIN:VEVENT
DTSTART;TZID=America/Los_Angeles:20250313T180000
DTEND;TZID=America/Los_Angeles:20250313T210000
DTSTAMP:20260425T091838
CREATED:20241002T212049Z
LAST-MODIFIED:20241002T212049Z
UID:15900-1741888800-1741899600@elks823.org
SUMMARY:BINGO 6:30PM
DESCRIPTION:REAL BINGO is now on Thursdays! NEW START TIME 6:30 PM\nPacket sales begin at 6 PM\, Game starts at 6:30 PM!\n\n\n\n*This weekly event is open to Elks members and their guests! The lounge opens at 4 PM\, Bingo starts at 6 PM.\n\nSpecial Blue Plate special meals are now on Thursdays. Check the Blast for what is available that week.
URL:https://elks823.org/event/bingo-630pm/2025-03-13/
CATEGORIES:Community,Food,Games
ATTACH;FMTTYPE=image/png:https://elks823.org/wp-content/uploads/2024/10/BingoNEW.png
END:VEVENT
BEGIN:VEVENT
DTSTART;TZID=America/Los_Angeles:20250314T180000
DTEND;TZID=America/Los_Angeles:20250314T200000
DTSTAMP:20260425T091838
CREATED:20230717T173939Z
LAST-MODIFIED:20260216T215412Z
UID:15842-1741975200-1741982400@elks823.org
SUMMARY:Queen of Hearts
DESCRIPTION:Queen of Hearts is back! It will be held every Friday night. \n\n\n\n\nTicket sales will begin on Friday from 6 PM to 8 PM.\nThe drawing will be at 8:00 PM.\nFriday’s Pot = $TBD \n*Eligible Players:\nOpen to Elk members\, visiting Elks\, as well as Emblem Club members.\nA valid Elks/Emblem Club ID must be presented to purchase tickets.\n**Must be present to win.
URL:https://elks823.org/event/queen-of-hearts-12/2025-03-14/
CATEGORIES:Community
ATTACH;FMTTYPE=image/jpeg:https://elks823.org/wp-content/uploads/2025/03/Queen_of_Hearts-scaled.jpg
END:VEVENT
BEGIN:VEVENT
DTSTART;TZID=America/Los_Angeles:20250314T180000
DTEND;TZID=America/Los_Angeles:20250314T210000
DTSTAMP:20260425T091838
CREATED:20250304T055727Z
LAST-MODIFIED:20250304T062607Z
UID:16039-1741975200-1741986000@elks823.org
SUMMARY:St Patrick's Celebration 6PM
DESCRIPTION:Dinner & Live Music in the lounge. $20\nCorned Beef & Cabbage\, potatoes\, carrots and cornbread. Live Music by Robby Mayer in the lounge. \nPlease RSVP by March 11th to the Office or Lounge.
URL:https://elks823.org/event/st-patricks-celebration-6pm/
CATEGORIES:Charity,Community,Dance,Food,Music
ATTACH;FMTTYPE=image/jpeg:https://elks823.org/wp-content/uploads/2025/03/StPatrick.jpg
END:VEVENT
BEGIN:VEVENT
DTSTART;TZID=America/Los_Angeles:20250318T190000
DTEND;TZID=America/Los_Angeles:20250318T200000
DTSTAMP:20260425T091838
CREATED:20240202T213036Z
LAST-MODIFIED:20250304T062631Z
UID:15962-1742324400-1742328000@elks823.org
SUMMARY:Installation of Officers 7PM
DESCRIPTION:Installation of our new Officers for Elk Year 2025 – 26! \n*This is not part of a Lodge Meeting. It will be a separate Installation. Open to members and families of Officers being installed.
URL:https://elks823.org/event/installation-of-officers-2-2025-03-18/
CATEGORIES:Community,Volunteer
ATTACH;FMTTYPE=image/png:https://elks823.org/wp-content/uploads/2024/02/installation.png
END:VEVENT
BEGIN:VEVENT
DTSTART;TZID=America/Los_Angeles:20250319T180000
DTEND;TZID=America/Los_Angeles:20250319T200000
DTSTAMP:20260425T091838
CREATED:20220221T185446Z
LAST-MODIFIED:20220221T185446Z
UID:15861-1742407200-1742414400@elks823.org
SUMMARY:Bar Card Bingo 6-8PM
DESCRIPTION:Bar Card Bingo every Wednesday. All are welcome! \nBar Bingo is played with playing cards. It is $1.00 for 3 cards. An app randomly picks cards\, if you “match”\, you flip over that card. When all three cards (in 1 row) are flipped\, you have a Bingo!\nLots of members are there to help you play! Come on down\, but be careful…..you might have too much fun! \nElk Cove Menu is also available in Lounge.
URL:https://elks823.org/event/bar-card-bingo-6-8pm/2025-03-19/
CATEGORIES:Community,Food,Games
ATTACH;FMTTYPE=image/jpeg:https://elks823.org/wp-content/uploads/2021/09/BarBingo.jpg
END:VEVENT
BEGIN:VEVENT
DTSTART;TZID=America/Los_Angeles:20250319T190000
DTEND;TZID=America/Los_Angeles:20250319T210000
DTSTAMP:20260425T091838
CREATED:20240720T145935Z
LAST-MODIFIED:20240720T145935Z
UID:15869-1742410800-1742418000@elks823.org
SUMMARY:Taska & the Party Band
DESCRIPTION:The dance is from 7 p.m. to 9 p.m. each Wednesday.\nEach band member has a passion for the art of music and has made this journey into a career. For this group\, they don’t just bring the music\, they bring the party! \nCome early to get a seat as early as 6 p.m. Snacks and water are available for purchase. \n*Cover is $6 for Elk members and $10 for the general public.
URL:https://elks823.org/event/taska-party-band/2025-03-19/
CATEGORIES:Community,Dance,Food,Music
ATTACH;FMTTYPE=image/png:https://elks823.org/wp-content/uploads/2024/07/Taska_Band.png
END:VEVENT
BEGIN:VEVENT
DTSTART;TZID=America/Los_Angeles:20250320T180000
DTEND;TZID=America/Los_Angeles:20250320T210000
DTSTAMP:20260425T091838
CREATED:20241002T212049Z
LAST-MODIFIED:20241002T212049Z
UID:15901-1742493600-1742504400@elks823.org
SUMMARY:BINGO 6:30PM
DESCRIPTION:REAL BINGO is now on Thursdays! NEW START TIME 6:30 PM\nPacket sales begin at 6 PM\, Game starts at 6:30 PM!\n\n\n\n*This weekly event is open to Elks members and their guests! The lounge opens at 4 PM\, Bingo starts at 6 PM.\n\nSpecial Blue Plate special meals are now on Thursdays. Check the Blast for what is available that week.
URL:https://elks823.org/event/bingo-630pm/2025-03-20/
CATEGORIES:Community,Food,Games
ATTACH;FMTTYPE=image/png:https://elks823.org/wp-content/uploads/2024/10/BingoNEW.png
END:VEVENT
BEGIN:VEVENT
DTSTART;TZID=America/Los_Angeles:20250321T160000
DTEND;TZID=America/Los_Angeles:20250321T220000
DTSTAMP:20260425T091838
CREATED:20240711T191919Z
LAST-MODIFIED:20250304T062200Z
UID:15937-1742572800-1742594400@elks823.org
SUMMARY:Officer Steak Night 5PM\, Live Music One Eyed Kats 7PM
DESCRIPTION:Steak $27 comes with a salad\, baked potato\, and vegetables.\nOr select Fish\, $25: Salmon with a salad\, baked potato\, and vegetables.\n*The steak will be upgraded to Ribeye from Sirloin\, 8oz portion. Hence the pricing change. \nPlease call the office to make your reservations\, by the Wednesday before.\nWhen you call\, please select an open time for dinner.\n*Late RSVPs may not be taken. 360-256-0823 \nLive Music by One Eyed Kats (in the Lounge) at 7 PM\n*No cover for the band. \n*Steak Night Tips and proceeds go to the Officer Fund to help with Conventions\, Officer uniforms\, and training.
URL:https://elks823.org/event/officer-steak-night-5pm-live-music-seymour-smith-7pm-2024-11-15-2024-12-20-2025-03-21/
CATEGORIES:Community,Dance,Food,Music
ATTACH;FMTTYPE=image/png:https://elks823.org/wp-content/uploads/2024/07/Steak_Night_March.png
END:VEVENT
BEGIN:VEVENT
DTSTART;TZID=America/Los_Angeles:20250321T180000
DTEND;TZID=America/Los_Angeles:20250321T200000
DTSTAMP:20260425T091838
CREATED:20230717T173939Z
LAST-MODIFIED:20260216T215412Z
UID:15843-1742580000-1742587200@elks823.org
SUMMARY:Queen of Hearts
DESCRIPTION:Queen of Hearts is back! It will be held every Friday night. \n\n\n\n\nTicket sales will begin on Friday from 6 PM to 8 PM.\nThe drawing will be at 8:00 PM.\nFriday’s Pot = $TBD \n*Eligible Players:\nOpen to Elk members\, visiting Elks\, as well as Emblem Club members.\nA valid Elks/Emblem Club ID must be presented to purchase tickets.\n**Must be present to win.
URL:https://elks823.org/event/queen-of-hearts-12/2025-03-21/
CATEGORIES:Community
ATTACH;FMTTYPE=image/jpeg:https://elks823.org/wp-content/uploads/2025/03/Queen_of_Hearts-scaled.jpg
END:VEVENT
BEGIN:VEVENT
DTSTART;TZID=America/Los_Angeles:20250322T160000
DTEND;TZID=America/Los_Angeles:20250322T170000
DTSTAMP:20260425T091838
CREATED:20241126T222357Z
LAST-MODIFIED:20241126T222357Z
UID:15944-1742659200-1742662800@elks823.org
SUMMARY:New Member Orientation 4PM
DESCRIPTION:Orientation begins at 4 PM\, and Initiation will be at the following Lodge Meeting. Candidates should be there as close to 4 PM as possible. The bar/lounge doesn’t technically open until 4 PM so we will start shortly after. \nKaraoke starts at 6 PM
URL:https://elks823.org/event/new-member-orientation/2025-03-22/
CATEGORIES:Charity,Class,Community,Dance,Food,Games,Volunteer
ATTACH;FMTTYPE=image/png:https://elks823.org/wp-content/uploads/2024/02/new-member-orientation.png
END:VEVENT
BEGIN:VEVENT
DTSTART;TZID=America/Los_Angeles:20250322T180000
DTEND;TZID=America/Los_Angeles:20250322T210000
DTSTAMP:20260425T091838
CREATED:20240326T195812Z
LAST-MODIFIED:20240326T195812Z
UID:15951-1742666400-1742677200@elks823.org
SUMMARY:Karaoke 6PM
DESCRIPTION:Are you a singer?  Come on down\, we want to hear you sing!!\nNot a singer?  THAT’S OK!  Come on down and listen to our Elk Members\, friends\, and family sing. \nElk Cove Menu starts in the lounge at 5 PM.
URL:https://elks823.org/event/karaoke-6pm-2/2025-03-22/
CATEGORIES:Dance,Food,fundraiser,Karaoke,Music
ATTACH;FMTTYPE=image/png:https://elks823.org/wp-content/uploads/2024/03/karaoke.png
END:VEVENT
BEGIN:VEVENT
DTSTART;TZID=America/Los_Angeles:20250324T180000
DTEND;TZID=America/Los_Angeles:20250324T200000
DTSTAMP:20260425T091838
CREATED:20230227T212526Z
LAST-MODIFIED:20250304T222356Z
UID:15877-1742839200-1742846400@elks823.org
SUMMARY:CMB/Board Meeting 6PM
DESCRIPTION:CMB/Board meetings will be held on the 2nd and 4th Monday of each month. (Monday before Lodge Meetings) \nIn the Board Room. All members are welcome to attend.
URL:https://elks823.org/event/cmb-board-meeting-2023-08-28-2025-01-27/2025-03-24/
CATEGORIES:Board Meeting,Community
ATTACH;FMTTYPE=image/png:https://elks823.org/wp-content/uploads/2025/02/BOD_6PM.png
END:VEVENT
BEGIN:VEVENT
DTSTART;TZID=America/Los_Angeles:20250324T180000
DTEND;TZID=America/Los_Angeles:20250324T200000
DTSTAMP:20260425T091838
CREATED:20241121T235213Z
LAST-MODIFIED:20260331T200523Z
UID:16610-1742839200-1742846400@elks823.org
SUMMARY:CMB/Board Meeting 6PM
DESCRIPTION:CMB/Board meetings will be held on the 2nd and 4th Monday of each month. (Monday before Lodge Meetings) \nIn the Board Room. All members are welcome to attend.
URL:https://elks823.org/event/cmb-board-meeting-6pm-2025-03-10/2025-03-24/
CATEGORIES:Board Meeting,Community
ATTACH;FMTTYPE=image/png:https://elks823.org/wp-content/uploads/2024/11/BOD_Mtg_2025-1.png
END:VEVENT
BEGIN:VEVENT
DTSTART;TZID=America/Los_Angeles:20250325T190000
DTEND;TZID=America/Los_Angeles:20250325T210000
DTSTAMP:20260425T091838
CREATED:20220816T201709Z
LAST-MODIFIED:20250304T063053Z
UID:15879-1742929200-1742936400@elks823.org
SUMMARY:Lodge Meeting & Initiation 7PM
DESCRIPTION:Initiation this month will be done by the State Championship Ritual Team\, Kelso/Longview Lodge #1482. Please plan on attending and watch this group do what they do best! \nNew Members to be initiated\, please arrive no later than 6:45 PM. Or come early for Taco Tuesday starting at 5PM. Also a chance to hang out with fellow Elk Members and buy raffle tickets for Get Lucky & Jackpot!\nDress code: Business Casual\nMen – collared shirt or polo shirt\, slacks\nWomen – slacks\, skirt collared blouse\, or polo shirt. \nThe lounge opens at 4 PM\, closes during meetings\, then re-opens after the meeting until 9 PM. All members must attend meetings or leave the building. \nLodge Meeting will begin and end with Vancouver Elks #823 and Kelso/Longview #1482 will do Initiation.\nLounge opens at 4PMLodge Meeting begins at 7PM\nFood: Taco Tuesday! Come down for some tacos\, quesadillas\, taquitos\, chips\, and salsa.
URL:https://elks823.org/event/lodge-meeting-7pm-5-2024-04-23-2025-03-25/
CATEGORIES:Lodge meeting,Member Initiation
ATTACH;FMTTYPE=image/jpeg:https://elks823.org/wp-content/uploads/2022/12/newmemberinitiation.jpg
END:VEVENT
BEGIN:VEVENT
DTSTART;TZID=America/Los_Angeles:20250326T180000
DTEND;TZID=America/Los_Angeles:20250326T200000
DTSTAMP:20260425T091838
CREATED:20220221T185446Z
LAST-MODIFIED:20220221T185446Z
UID:15862-1743012000-1743019200@elks823.org
SUMMARY:Bar Card Bingo 6-8PM
DESCRIPTION:Bar Card Bingo every Wednesday. All are welcome! \nBar Bingo is played with playing cards. It is $1.00 for 3 cards. An app randomly picks cards\, if you “match”\, you flip over that card. When all three cards (in 1 row) are flipped\, you have a Bingo!\nLots of members are there to help you play! Come on down\, but be careful…..you might have too much fun! \nElk Cove Menu is also available in Lounge.
URL:https://elks823.org/event/bar-card-bingo-6-8pm/2025-03-26/
CATEGORIES:Community,Food,Games
ATTACH;FMTTYPE=image/jpeg:https://elks823.org/wp-content/uploads/2021/09/BarBingo.jpg
END:VEVENT
BEGIN:VEVENT
DTSTART;TZID=America/Los_Angeles:20250326T190000
DTEND;TZID=America/Los_Angeles:20250326T210000
DTSTAMP:20260425T091838
CREATED:20240720T145935Z
LAST-MODIFIED:20240720T145935Z
UID:15870-1743015600-1743022800@elks823.org
SUMMARY:Taska & the Party Band
DESCRIPTION:The dance is from 7 p.m. to 9 p.m. each Wednesday.\nEach band member has a passion for the art of music and has made this journey into a career. For this group\, they don’t just bring the music\, they bring the party! \nCome early to get a seat as early as 6 p.m. Snacks and water are available for purchase. \n*Cover is $6 for Elk members and $10 for the general public.
URL:https://elks823.org/event/taska-party-band/2025-03-26/
CATEGORIES:Community,Dance,Food,Music
ATTACH;FMTTYPE=image/png:https://elks823.org/wp-content/uploads/2024/07/Taska_Band.png
END:VEVENT
BEGIN:VEVENT
DTSTART;TZID=America/Los_Angeles:20250327T180000
DTEND;TZID=America/Los_Angeles:20250327T210000
DTSTAMP:20260425T091838
CREATED:20241002T212049Z
LAST-MODIFIED:20241002T212049Z
UID:15902-1743098400-1743109200@elks823.org
SUMMARY:BINGO 6:30PM
DESCRIPTION:REAL BINGO is now on Thursdays! NEW START TIME 6:30 PM\nPacket sales begin at 6 PM\, Game starts at 6:30 PM!\n\n\n\n*This weekly event is open to Elks members and their guests! The lounge opens at 4 PM\, Bingo starts at 6 PM.\n\nSpecial Blue Plate special meals are now on Thursdays. Check the Blast for what is available that week.
URL:https://elks823.org/event/bingo-630pm/2025-03-27/
CATEGORIES:Community,Food,Games
ATTACH;FMTTYPE=image/png:https://elks823.org/wp-content/uploads/2024/10/BingoNEW.png
END:VEVENT
END:VCALENDAR