BEGIN:VCALENDAR
VERSION:2.0
PRODID:-//Elks Lodge 823 - ECPv6.15.20//NONSGML v1.0//EN
CALSCALE:GREGORIAN
METHOD:PUBLISH
X-ORIGINAL-URL:https://elks823.org
X-WR-CALDESC:Events for Elks Lodge 823
REFRESH-INTERVAL;VALUE=DURATION:PT1H
X-Robots-Tag:noindex
X-PUBLISHED-TTL:PT1H
BEGIN:VTIMEZONE
TZID:America/Los_Angeles
BEGIN:DAYLIGHT
TZOFFSETFROM:-0800
TZOFFSETTO:-0700
TZNAME:PDT
DTSTART:20250309T100000
END:DAYLIGHT
BEGIN:STANDARD
TZOFFSETFROM:-0700
TZOFFSETTO:-0800
TZNAME:PST
DTSTART:20251102T090000
END:STANDARD
BEGIN:DAYLIGHT
TZOFFSETFROM:-0800
TZOFFSETTO:-0700
TZNAME:PDT
DTSTART:20260308T100000
END:DAYLIGHT
BEGIN:STANDARD
TZOFFSETFROM:-0700
TZOFFSETTO:-0800
TZNAME:PST
DTSTART:20261101T090000
END:STANDARD
BEGIN:DAYLIGHT
TZOFFSETFROM:-0800
TZOFFSETTO:-0700
TZNAME:PDT
DTSTART:20270314T100000
END:DAYLIGHT
BEGIN:STANDARD
TZOFFSETFROM:-0700
TZOFFSETTO:-0800
TZNAME:PST
DTSTART:20271107T090000
END:STANDARD
END:VTIMEZONE
BEGIN:VEVENT
DTSTART;TZID=America/Los_Angeles:20260425T100000
DTEND;TZID=America/Los_Angeles:20260425T233000
DTSTAMP:20260425T073236
CREATED:20240423T161008Z
LAST-MODIFIED:20240423T161008Z
UID:18430-1777111200-1777159800@elks823.org
SUMMARY:Private Event in Board/Dining/Lodge Rooms
DESCRIPTION:
URL:https://elks823.org/event/private-event-in-board-dining-lodge-rooms-10am-10pm/2026-04-25/
ATTACH;FMTTYPE=image/png:https://elks823.org/wp-content/uploads/2024/01/PrivateEvent.png
END:VEVENT
BEGIN:VEVENT
DTSTART;TZID=America/Los_Angeles:20260427T180000
DTEND;TZID=America/Los_Angeles:20260427T200000
DTSTAMP:20260425T073236
CREATED:20241121T235213Z
LAST-MODIFIED:20241121T235213Z
UID:18299-1777312800-1777320000@elks823.org
SUMMARY:CMB/Board Meeting 6PM
DESCRIPTION:CMB/Board meetings will be held on the 2nd and 4th Monday of each month. (Monday before Lodge Meetings) \nIn the Board Room. All members are welcome to attend.
URL:https://elks823.org/event/cmb-board-meeting-6pm-2025-03-10/2026-04-27/
CATEGORIES:Board Meeting,Community
ATTACH;FMTTYPE=image/png:https://elks823.org/wp-content/uploads/2024/11/BOD_Mtg_2025-1.png
END:VEVENT
BEGIN:VEVENT
DTSTART;TZID=America/Los_Angeles:20260428T170000
DTEND;TZID=America/Los_Angeles:20260428T190000
DTSTAMP:20260425T073236
CREATED:20250506T164103Z
LAST-MODIFIED:20250506T164103Z
UID:18315-1777395600-1777402800@elks823.org
SUMMARY:Taco Tuesday!
DESCRIPTION:Come to the Lodge for Taco Tuesday!\nFood:  tacos (hard and soft shell)\, quesadillas\, chips\, and taco salad.\nSalsa\, sour cream\, and guacamole sides.
URL:https://elks823.org/event/taco-tuesday-5/2026-04-28/
CATEGORIES:Community,Food,Volunteer
ATTACH;FMTTYPE=image/png:https://elks823.org/wp-content/uploads/2022/04/taco_tuesday.png
END:VEVENT
BEGIN:VEVENT
DTSTART;TZID=America/Los_Angeles:20260428T180000
DTEND;TZID=America/Los_Angeles:20260428T190000
DTSTAMP:20260425T073236
CREATED:20260421T190711Z
LAST-MODIFIED:20260421T193630Z
UID:18431-1777399200-1777402800@elks823.org
SUMMARY:PER Meeting 6PM
DESCRIPTION:Meet with your fellow PERs and talk about charities\, events coming up\, volunteering\, and all-around camaraderie.
URL:https://elks823.org/event/per-meeting-6pm-2/2026-04-28/
CATEGORIES:Community
ATTACH;FMTTYPE=image/jpeg:https://elks823.org/wp-content/uploads/2026/04/IMG_5925-1-scaled.jpeg
END:VEVENT
BEGIN:VEVENT
DTSTART;TZID=America/Los_Angeles:20260428T190000
DTEND;TZID=America/Los_Angeles:20260428T210000
DTSTAMP:20260425T073236
CREATED:20250304T222847Z
LAST-MODIFIED:20250304T222847Z
UID:18321-1777402800-1777410000@elks823.org
SUMMARY:Lodge Meeting 7PM
DESCRIPTION:The lounge opens at 4 PM\, closes during meetings\, then re-opens after the meeting until 10 PM. \nFood: Taco Tuesday! Come down for some tacos\, quesadillas\, taquitos\, chips\, and salsa.
URL:https://elks823.org/event/lodge-meeting-7pm-6/2026-04-28/
CATEGORIES:Charity,Community,fundraiser,Games,Lodge meeting,Volunteer
ATTACH;FMTTYPE=image/png:https://elks823.org/wp-content/uploads/2022/08/Lounge-Screens-april-may-12.png
END:VEVENT
BEGIN:VEVENT
DTSTART;TZID=America/Los_Angeles:20260429T180000
DTEND;TZID=America/Los_Angeles:20260429T210000
DTSTAMP:20260425T073236
CREATED:20250304T215218Z
LAST-MODIFIED:20250304T215218Z
UID:18255-1777485600-1777496400@elks823.org
SUMMARY:Bar Card Bingo 6PM
DESCRIPTION:Bar Card Bingo every Wednesday. All are welcome! \nBar Bingo is played with playing cards. It costs $1.00 for three cards. An app randomly picks cards; if you “match\,” you flip over that card. When all three cards (in one row) are flipped\, you have a Bingo!\nLots of members are there to help you play! Come on down\, but be careful…..you might have too much fun! \nSee Blast on Tuesdays or Facebook for food options.\nLounge opens at 4PM
URL:https://elks823.org/event/bar-card-bingo-6pm/2026-04-29/
CATEGORIES:Charity,Community,Games
ATTACH;FMTTYPE=image/jpeg:https://elks823.org/wp-content/uploads/2021/09/BarBingo.jpg
END:VEVENT
BEGIN:VEVENT
DTSTART;TZID=America/Los_Angeles:20260429T190000
DTEND;TZID=America/Los_Angeles:20260429T210000
DTSTAMP:20260425T073236
CREATED:20250304T215725Z
LAST-MODIFIED:20250304T215725Z
UID:18287-1777489200-1777496400@elks823.org
SUMMARY:Taska & the Party Band 7PM
DESCRIPTION:The dance is from 7 p.m. to 9 p.m. each Wednesday.\nEach band member has a passion for the art of music and has made this journey into a career. For this group\, they don’t just bring the music\, they bring the party! \nCome early to get a seat\, as early as 6 PM. The lounge offers Bar Bingo from 6-8PM. \n*Cover is $6 for Elk members and $10 for the general public. \nSee Blast on Tuesdays or Facebook for food options.\nLounge opens at 4 PM
URL:https://elks823.org/event/taska-the-party-band-7pm/2026-04-29/
CATEGORIES:Community,Dance,Food,Games,Music
ATTACH;FMTTYPE=image/png:https://elks823.org/wp-content/uploads/2025/02/wednesdays.png
END:VEVENT
END:VCALENDAR